Workbook

Sheet Tableau de bord
A1: Tableau de bord — Banque d’heures
A2: Suivi administratif des heures accumulées, reprises et ajustées
G3: Dernière mise à jour | H3: =TODAY()
A5: Employés actifs | C5: Heures accumulées approuvées | E5: Heures reprises approuvées | G5: Solde collectif
A6: =COUNTIF(Employés!$G$6:$G$101,"Actif") | C6: =SUMIFS('Banque d'heures'!$N$6:$N$500,'Banque d'heures'!$M$6:$M$500,"Approuvé") | E6: =SUMIFS('Banque d'heures'!$O$6:$O$500,'Banque d'heures'!$M$6:$M$500,"Approuvé") | G6: =SUM(Employés!$J$6:$J$101)
A7: Mouvements en attente | C7: Employés avec solde négatif | E7: Limites internes dépassées | G7: Heures à approuver
A8: =COUNTIF('Banque d'heures'!$M$6:$M$500,"En attente") | C8: =COUNTIF(Employés!$J$6:$J$101,"<0") | E8: =COUNTIF(Employés!$L$6:$L$101,"À vérifier") | G8: =SUMIFS('Banque d'heures'!$P$6:$P$500,'Banque d'heures'!$M$6:$M$500,"En attente")
A10: Sommaire par employé
A11: No d’employé | B11: Employé | C11: Statut | D11: Heures accumulées | E11: Heures reprises | F11: Solde actuel | G11: Contrôle
A12: =IF(Employés!A6="","",Employés!A6) | B12: =IF(Employés!A6="","",Employés!B6) | C12: =IF(Employés!A6="","",Employés!G6) | D12: =IF(Employés!A6="","",Employés!H6) | E12: =IF(Employés!A6="","",Employés!I6) | F12: =IF(Employés!A6="","",Employés!J6) | G12: =IF(Employés!A6="","",Employés!L6)
A13: =IF(Employés!A7="","",Employés!A7) | B13: =IF(Employés!A7="","",Employés!B7) | C13: =IF(Employés!A7="","",Employés!G7) | D13: =IF(Employés!A7="","",Employés!H7) | E13: =IF(Employés!A7="","",Employés!I7) | F13: =IF(Employés!A7="","",Employés!J7) | G13: =IF(Employés!A7="","",Employés!L7)
A14: =IF(Employés!A8="","",Employés!A8) | B14: =IF(Employés!A8="","",Employés!B8) | C14: =IF(Employés!A8="","",Employés!G8) | D14: =IF(Employés!A8="","",Employés!H8) | E14: =IF(Employés!A8="","",Employés!I8) | F14: =IF(Employés!A8="","",Employés!J8) | G14: =IF(Employés!A8="","",Employés!L8)
A15: =IF(Employés!A9="","",Employés!A9) | B15: =IF(Employés!A9="","",Employés!B9) | C15: =IF(Employés!A9="","",Employés!G9) | D15: =IF(Employés!A9="","",Employés!H9) | E15: =IF(Employés!A9="","",Employés!I9) | F15: =IF(Employés!A9="","",Employés!J9) | G15: =IF(Employés!A9="","",Employés!L9)
A16: =IF(Employés!A10="","",Employés!A10) | B16: =IF(Employés!A10="","",Employés!B10) | C16: =IF(Employés!A10="","",Employés!G10) | D16: =IF(Employés!A10="","",Employés!H10) | E16: =IF(Employés!A10="","",Employés!I10) | F16: =IF(Employés!A10="","",Employés!J10) | G16: =IF(Employés!A10="","",Employés!L10)
A17: =IF(Employés!A11="","",Employés!A11) | B17: =IF(Employés!A11="","",Employés!B11) | C17: =IF(Employés!A11="","",Employés!G11) | D17: =IF(Employés!A11="","",Employés!H11) | E17: =IF(Employés!A11="","",Employés!I11) | F17: =IF(Employés!A11="","",Employés!J11) | G17: =IF(Employés!A11="","",Employés!L11)
A18: =IF(Employés!A12="","",Employés!A12) | B18: =IF(Employés!A12="","",Employés!B12) | C18: =IF(Employés!A12="","",Employés!G12) | D18: =IF(Employés!A12="","",Employés!H12) | E18: =IF(Employés!A12="","",Employés!I12) | F18: =IF(Employés!A12="","",Employés!J12) | G18: =IF(Employés!A12="","",Employés!L12)
A19: =IF(Employés!A13="","",Employés!A13) | B19: =IF(Employés!A13="","",Employés!B13) | C19: =IF(Employés!A13="","",Employés!G13) | D19: =IF(Employés!A13="","",Employés!H13) | E19: =IF(Employés!A13="","",Employés!I13) | F19: =IF(Employés!A13="","",Employés!J13) | G19: =IF(Employés!A13="","",Employés!L13)
A20: =IF(Employés!A14="","",Employés!A14) | B20: =IF(Employés!A14="","",Employés!B14) | C20: =IF(Employés!A14="","",Employés!G14) | D20: =IF(Employés!A14="","",Employés!H14) | E20: =IF(Employés!A14="","",Employés!I14) | F20: =IF(Employés!A14="","",Employés!J14) | G20: =IF(Employés!A14="","",Employés!L14)
A21: =IF(Employés!A15="","",Employés!A15) | B21: =IF(Employés!A15="","",Employés!B15) | C21: =IF(Employés!A15="","",Employés!G15) | D21: =IF(Employés!A15="","",Employés!H15) | E21: =IF(Employés!A15="","",Employés!I15) | F21: =IF(Employés!A15="","",Employés!J15) | G21: =IF(Employés!A15="","",Employés!L15)
A22: =IF(Employés!A16="","",Employés!A16) | B22: =IF(Employés!A16="","",Employés!B16) | C22: =IF(Employés!A16="","",Employés!G16) | D22: =IF(Employés!A16="","",Employés!H16) | E22: =IF(Employés!A16="","",Employés!I16) | F22: =IF(Employés!A16="","",Employés!J16) | G22: =IF(Employés!A16="","",Employés!L16)
A23: =IF(Employés!A17="","",Employés!A17) | B23: =IF(Employés!A17="","",Employés!B17) | C23: =IF(Employés!A17="","",Employés!G17) | D23: =IF(Employés!A17="","",Employés!H17) | E23: =IF(Employés!A17="","",Employés!I17) | F23: =IF(Employés!A17="","",Employés!J17) | G23: =IF(Employés!A17="","",Employés!L17)
... A31: =IF(Employés!A25="","",Employés!A25) | B31: =IF(Employés!A25="","",Employés!B25) | C31: =IF(Employés!A25="","",Employés!G25) | D31: =IF(Employés!A25="","",Employés!H25) | E31: =IF(Employés!A25="","",Employés!I25) | F31: =IF(Employés!A25="","",Employés!J25) | G31: =IF(Employés!A25="","",Employés!L25)
A32: ="" | C32: ="" | D32: ="" | E32: ="" | F32: ="" | G32: =""
A33: ="" | C33: ="" | D33: ="" | E33: ="" | F33: ="" | G33: =""
A34: Contrôles administratifs | C34: ="" | D34: ="" | E34: ="" | F34: ="" | G34: =""
A35: Employés introuvables dans le registre | B35: =COUNTIF('Banque d'heures'!$D$6:$D$500,"Employé introuvable") | C35: ="" | D35: ="" | E35: ="" | F35: ="" | G35: =""
A36: Mouvements sans approbateur | B36: =COUNTIFS('Banque d'heures'!$A$6:$A$500,">0",'Banque d'heures'!$L$6:$L$500,"") | C36: ="" | D36: ="" | E36: ="" | F36: ="" | G36: =""
A37: Périodes invalides | B37: =SUMPRODUCT(--('Banque d'heures'!$G$6:$G$500<'Banque d'heures'!$F$6:$F$500)) | C37: ="" | D37: ="" | E37: ="" | F37: ="" | G37: =""
A38: ="" | B38: ="" | C38: ="" | D38: ="" | E38: ="" | F38: ="" | G38: =""
A39: ="" | B39: ="" | C39: ="" | D39: ="" | E39: ="" | F39: ="" | G39: =""
A40: ="" | B40: ="" | C40: ="" | D40: ="" | E40: ="" | F40: ="" | G40: =""
A41: ="" | B41: ="" | C41: ="" | D41: ="" | E41: ="" | F41: ="" | G41: =""
A42: ="" | B42: ="" | C42: ="" | D42: ="" | E42: ="" | F42: ="" | G42: =""
A43: ="" | B43: ="" | C43: ="" | D43: ="" | E43: ="" | F43: ="" | G43: =""
A44: ="" | B44: ="" | C44: ="" | D44: ="" | E44: ="" | F44: ="" | G44: =""
A45: ="" | B45: ="" | C45: ="" | D45: ="" | E45: ="" | F45: ="" | G45: =""
A46: ="" | B46: ="" | C46: ="" | D46: ="" | E46: ="" | F46: ="" | G46: =""
A47: ="" | B47: ="" | C47: ="" | D47: ="" | E47: ="" | F47: ="" | G47: =""
A48: ="" | B48: ="" | C48: ="" | D48: ="" | E48: ="" | F48: ="" | G48: =""
A49: ="" | B49: ="" | C49: ="" | D49: ="" | E49: ="" | F49: ="" | G49: =""
... A101: ="" | B101: ="" | C101: ="" | D101: ="" | E101: ="" | F101: ="" | G101: =""

Sheet Banque d'heures
A1: Registre des mouvements — Banque d’heures
A2: Saisir un mouvement par ligne. Les heures créditées et débitées sont calculées selon le type de mouvement et le statut d’approbation.
A3: Les règles internes, la limite de banque et les listes de validation se trouvent dans la feuille Paramètres. Les heures doivent être saisies en format décimal, par exemple 7,50.
A5: No mouvement | B5: Date mouvement | C5: No d’employé | D5: Employé | E5: Type de mouvement | F5: Début de période | G5: Fin de période | H5: Heures planifiées | I5: Heures travaillées | J5: Heures d’ajustement | K5: Motif / référence | L5: Approbateur | M5: Statut | N5: Heures créditées | O5: Heures débitées | P5: Mouvement net
A6: 1001 | B6: 46197 | C6: EMP-001 | D6: =IF(C6="","",IFERROR(VLOOKUP(C6,Employés!$A$6:$B$101,2,FALSE),"Employé introuvable")) | E6: Accumulation | F6: 46193 | G6: 46197 | H6: 37.5 | I6: 40 | J6: 0 | K6: Livraison urgente à un client | L6: Marie-Claude Gagnon | M6: Approuvé | N6: =IF(A6="","",IFERROR(IF(M6<>"Approuvé",0,IF(E6="Accumulation",MAX(I6-H6,0),IF(E6="Ajustement crédit",J6,0))),0)) | O6: =IF(A6="","",IFERROR(IF(M6<>"Approuvé",0,IF(OR(E6="Reprise",E6="Ajustement débit"),J6,0)),0)) | P6: =IF(A6="","",IFERROR(N6-O6,0))
A7: 1002 | B7: 46204 | C7: EMP-002 | D7: =IF(C7="","",IFERROR(VLOOKUP(C7,Employés!$A$6:$B$101,2,FALSE),"Employé introuvable")) | E7: Accumulation | F7: 46200 | G7: 46204 | H7: 40 | I7: 42.5 | J7: 0 | K7: Inventaire annuel | L7: Marie-Claude Gagnon | M7: Approuvé | N7: =IF(A7="","",IFERROR(IF(M7<>"Approuvé",0,IF(E7="Accumulation",MAX(I7-H7,0),IF(E7="Ajustement crédit",J7,0))),0)) | O7: =IF(A7="","",IFERROR(IF(M7<>"Approuvé",0,IF(OR(E7="Reprise",E7="Ajustement débit"),J7,0)),0)) | P7: =IF(A7="","",IFERROR(N7-O7,0))
A8: 1003 | B8: 46211 | C8: EMP-001 | D8: =IF(C8="","",IFERROR(VLOOKUP(C8,Employés!$A$6:$B$101,2,FALSE),"Employé introuvable")) | E8: Reprise | F8: 46207 | G8: 46211 | H8: 0 | I8: 0 | J8: 3 | K8: Rendez-vous personnel | L8: Marie-Claude Gagnon | M8: Approuvé | N8: =IF(A8="","",IFERROR(IF(M8<>"Approuvé",0,IF(E8="Accumulation",MAX(I8-H8,0),IF(E8="Ajustement crédit",J8,0))),0)) | O8: =IF(A8="","",IFERROR(IF(M8<>"Approuvé",0,IF(OR(E8="Reprise",E8="Ajustement débit"),J8,0)),0)) | P8: =IF(A8="","",IFERROR(N8-O8,0))
A9: 1004 | B9: 46218 | C9: EMP-003 | D9: =IF(C9="","",IFERROR(VLOOKUP(C9,Employés!$A$6:$B$101,2,FALSE),"Employé introuvable")) | E9: Accumulation | F9: 46214 | G9: 46218 | H9: 35 | I9: 36.5 | J9: 0 | K9: Soutien à la fermeture mensuelle | L9: Jean-François Roy | M9: Approuvé | N9: =IF(A9="","",IFERROR(IF(M9<>"Approuvé",0,IF(E9="Accumulation",MAX(I9-H9,0),IF(E9="Ajustement crédit",J9,0))),0)) | O9: =IF(A9="","",IFERROR(IF(M9<>"Approuvé",0,IF(OR(E9="Reprise",E9="Ajustement débit"),J9,0)),0)) | P9: =IF(A9="","",IFERROR(N9-O9,0))
A10: 1005 | B10: 46225 | C10: EMP-002 | D10: =IF(C10="","",IFERROR(VLOOKUP(C10,Employés!$A$6:$B$101,2,FALSE),"Employé introuvable")) | E10: Reprise | F10: 46221 | G10: 46225 | H10: 0 | I10: 0 | J10: 4 | K10: Congé planifié | L10: Marie-Claude Gagnon | M10: Approuvé | N10: =IF(A10="","",IFERROR(IF(M10<>"Approuvé",0,IF(E10="Accumulation",MAX(I10-H10,0),IF(E10="Ajustement crédit",J10,0))),0)) | O10: =IF(A10="","",IFERROR(IF(M10<>"Approuvé",0,IF(OR(E10="Reprise",E10="Ajustement débit"),J10,0)),0)) | P10: =IF(A10="","",IFERROR(N10-O10,0))
A11: 1006 | B11: 46232 | C11: EMP-004 | D11: =IF(C11="","",IFERROR(VLOOKUP(C11,Employés!$A$6:$B$101,2,FALSE),"Employé introuvable")) | E11: Accumulation | F11: 46228 | G11: 46232 | H11: 37.5 | I11: 39 | J11: 0 | K11: Préparation de soumissions | L11: Jean-François Roy | M11: En attente | N11: =IF(A11="","",IFERROR(IF(M11<>"Approuvé",0,IF(E11="Accumulation",MAX(I11-H11,0),IF(E11="Ajustement crédit",J11,0))),0)) | O11: =IF(A11="","",IFERROR(IF(M11<>"Approuvé",0,IF(OR(E11="Reprise",E11="Ajustement débit"),J11,0)),0)) | P11: =IF(A11="","",IFERROR(N11-O11,0))
A12: 1007 | B12: 46239 | C12: EMP-003 | D12: =IF(C12="","",IFERROR(VLOOKUP(C12,Employés!$A$6:$B$101,2,FALSE),"Employé introuvable")) | E12: Ajustement crédit | F12: 46235 | G12: 46239 | H12: 0 | I12: 0 | J12: 1.5 | K12: Correction autorisée du registre | L12: Jean-François Roy | M12: Approuvé | N12: =IF(A12="","",IFERROR(IF(M12<>"Approuvé",0,IF(E12="Accumulation",MAX(I12-H12,0),IF(E12="Ajustement crédit",J12,0))),0)) | O12: =IF(A12="","",IFERROR(IF(M12<>"Approuvé",0,IF(OR(E12="Reprise",E12="Ajustement débit"),J12,0)),0)) | P12: =IF(A12="","",IFERROR(N12-O12,0))
A13: 1008 | B13: 46246 | C13: EMP-001 | D13: =IF(C13="","",IFERROR(VLOOKUP(C13,Employés!$A$6:$B$101,2,FALSE),"Employé introuvable")) | E13: Accumulation | F13: 46242 | G13: 46246 | H13: 37.5 | I13: 38.75 | J13: 0 | K13: Rencontre client hors horaire | L13: Marie-Claude Gagnon | M13: Approuvé | N13: =IF(A13="","",IFERROR(IF(M13<>"Approuvé",0,IF(E13="Accumulation",MAX(I13-H13,0),IF(E13="Ajustement crédit",J13,0))),0)) | O13: =IF(A13="","",IFERROR(IF(M13<>"Approuvé",0,IF(OR(E13="Reprise",E13="Ajustement débit"),J13,0)),0)) | P13: =IF(A13="","",IFERROR(N13-O13,0))
A14: 1009 | B14: 46253 | C14: EMP-004 | D14: =IF(C14="","",IFERROR(VLOOKUP(C14,Employés!$A$6:$B$101,2,FALSE),"Employé introuvable")) | E14: Ajustement débit | F14: 46249 | G14: 46253 | H14: 0 | I14: 0 | J14: 2 | K14: Correction de banque d’heures | L14: Jean-François Roy | M14: Approuvé | N14: =IF(A14="","",IFERROR(IF(M14<>"Approuvé",0,IF(E14="Accumulation",MAX(I14-H14,0),IF(E14="Ajustement crédit",J14,0))),0)) | O14: =IF(A14="","",IFERROR(IF(M14<>"Approuvé",0,IF(OR(E14="Reprise",E14="Ajustement débit"),J14,0)),0)) | P14: =IF(A14="","",IFERROR(N14-O14,0))
A15: 1010 | B15: 46260 | C15: EMP-002 | D15: =IF(C15="","",IFERROR(VLOOKUP(C15,Employés!$A$6:$B$101,2,FALSE),"Employé introuvable")) | E15: Accumulation | F15: 46256 | G15: 46260 | H15: 40 | I15: 41 | J15: 0 | K15: Formation interne en soirée | L15: Marie-Claude Gagnon | M15: Refusé | N15: =IF(A15="","",IFERROR(IF(M15<>"Approuvé",0,IF(E15="Accumulation",MAX(I15-H15,0),IF(E15="Ajustement crédit",J15,0))),0)) | O15: =IF(A15="","",IFERROR(IF(M15<>"Approuvé",0,IF(OR(E15="Reprise",E15="Ajustement débit"),J15,0)),0)) | P15: =IF(A15="","",IFERROR(N15-O15,0))
D16: =IF(C16="","",IFERROR(VLOOKUP(C16,Employés!$A$6:$B$101,2,FALSE),"Employé introuvable")) | N16: =IF(A16="","",IFERROR(IF(M16<>"Approuvé",0,IF(E16="Accumulation",MAX(I16-H16,0),IF(E16="Ajustement crédit",J16,0))),0)) | O16: =IF(A16="","",IFERROR(IF(M16<>"Approuvé",0,IF(OR(E16="Reprise",E16="Ajustement débit"),J16,0)),0)) | P16: =IF(A16="","",IFERROR(N16-O16,0))
D17: =IF(C17="","",IFERROR(VLOOKUP(C17,Employés!$A$6:$B$101,2,FALSE),"Employé introuvable")) | N17: =IF(A17="","",IFERROR(IF(M17<>"Approuvé",0,IF(E17="Accumulation",MAX(I17-H17,0),IF(E17="Ajustement crédit",J17,0))),0)) | O17: =IF(A17="","",IFERROR(IF(M17<>"Approuvé",0,IF(OR(E17="Reprise",E17="Ajustement débit"),J17,0)),0)) | P17: =IF(A17="","",IFERROR(N17-O17,0))
A18: Contrôle des totaux | D18: =IF(C18="","",IFERROR(VLOOKUP(C18,Employés!$A$6:$B$101,2,FALSE),"Employé introuvable")) | N18: =IF(A18="","",IFERROR(IF(M18<>"Approuvé",0,IF(E18="Accumulation",MAX(I18-H18,0),IF(E18="Ajustement crédit",J18,0))),0)) | O18: =IF(A18="","",IFERROR(IF(M18<>"Approuvé",0,IF(OR(E18="Reprise",E18="Ajustement débit"),J18,0)),0)) | P18: =IF(A18="","",IFERROR(N18-O18,0))
A19: Total heures créditées approuvées | B19: =SUM(N6:N500) | D19: =IF(C19="","",IFERROR(VLOOKUP(C19,Employés!$A$6:$B$101,2,FALSE),"Employé introuvable")) | N19: =IF(A19="","",IFERROR(IF(M19<>"Approuvé",0,IF(E19="Accumulation",MAX(I19-H19,0),IF(E19="Ajustement crédit",J19,0))),0)) | O19: =IF(A19="","",IFERROR(IF(M19<>"Approuvé",0,IF(OR(E19="Reprise",E19="Ajustement débit"),J19,0)),0)) | P19: =IF(A19="","",IFERROR(N19-O19,0))
A20: Total heures débitées approuvées | B20: =SUM(O6:O500) | D20: =IF(C20="","",IFERROR(VLOOKUP(C20,Employés!$A$6:$B$101,2,FALSE),"Employé introuvable")) | N20: =IF(A20="","",IFERROR(IF(M20<>"Approuvé",0,IF(E20="Accumulation",MAX(I20-H20,0),IF(E20="Ajustement crédit",J20,0))),0)) | O20: =IF(A20="","",IFERROR(IF(M20<>"Approuvé",0,IF(OR(E20="Reprise",E20="Ajustement débit"),J20,0)),0)) | P20: =IF(A20="","",IFERROR(N20-O20,0))
A21: Total net du registre | B21: =IFERROR(B19-B20,0) | D21: =IF(C21="","",IFERROR(VLOOKUP(C21,Employés!$A$6:$B$101,2,FALSE),"Employé introuvable")) | N21: =IF(A21="","",IFERROR(IF(M21<>"Approuvé",0,IF(E21="Accumulation",MAX(I21-H21,0),IF(E21="Ajustement crédit",J21,0))),0)) | O21: =IF(A21="","",IFERROR(IF(M21<>"Approuvé",0,IF(OR(E21="Reprise",E21="Ajustement débit"),J21,0)),0)) | P21: =IF(A21="","",IFERROR(N21-O21,0))
A22: Total des soldes employés | B22: =SUM(Employés!J6:J101) | D22: =IF(C22="","",IFERROR(VLOOKUP(C22,Employés!$A$6:$B$101,2,FALSE),"Employé introuvable")) | N22: =IF(A22="","",IFERROR(IF(M22<>"Approuvé",0,IF(E22="Accumulation",MAX(I22-H22,0),IF(E22="Ajustement crédit",J22,0))),0)) | O22: =IF(A22="","",IFERROR(IF(M22<>"Approuvé",0,IF(OR(E22="Reprise",E22="Ajustement débit"),J22,0)),0)) | P22: =IF(A22="","",IFERROR(N22-O22,0))
A23: Écart de contrôle | B23: =IFERROR(B21-B22,0) | D23: =IF(C23="","",IFERROR(VLOOKUP(C23,Employés!$A$6:$B$101,2,FALSE),"Employé introuvable")) | N23: =IF(A23="","",IFERROR(IF(M23<>"Approuvé",0,IF(E23="Accumulation",MAX(I23-H23,0),IF(E23="Ajustement crédit",J23,0))),0)) | O23: =IF(A23="","",IFERROR(IF(M23<>"Approuvé",0,IF(OR(E23="Reprise",E23="Ajustement débit"),J23,0)),0)) | P23: =IF(A23="","",IFERROR(N23-O23,0))
A24: Statut du contrôle | B24: =IF(B23=0,"Conforme","À vérifier") | D24: =IF(C24="","",IFERROR(VLOOKUP(C24,Employés!$A$6:$B$101,2,FALSE),"Employé introuvable")) | N24: =IF(A24="","",IFERROR(IF(M24<>"Approuvé",0,IF(E24="Accumulation",MAX(I24-H24,0),IF(E24="Ajustement crédit",J24,0))),0)) | O24: =IF(A24="","",IFERROR(IF(M24<>"Approuvé",0,IF(OR(E24="Reprise",E24="Ajustement débit"),J24,0)),0)) | P24: =IF(A24="","",IFERROR(N24-O24,0))
D25: =IF(C25="","",IFERROR(VLOOKUP(C25,Employés!$A$6:$B$101,2,FALSE),"Employé introuvable")) | N25: =IF(A25="","",IFERROR(IF(M25<>"Approuvé",0,IF(E25="Accumulation",MAX(I25-H25,0),IF(E25="Ajustement crédit",J25,0))),0)) | O25: =IF(A25="","",IFERROR(IF(M25<>"Approuvé",0,IF(OR(E25="Reprise",E25="Ajustement débit"),J25,0)),0)) | P25: =IF(A25="","",IFERROR(N25-O25,0))
D26: =IF(C26="","",IFERROR(VLOOKUP(C26,Employés!$A$6:$B$101,2,FALSE),"Employé introuvable")) | N26: =IF(A26="","",IFERROR(IF(M26<>"Approuvé",0,IF(E26="Accumulation",MAX(I26-H26,0),IF(E26="Ajustement crédit",J26,0))),0)) | O26: =IF(A26="","",IFERROR(IF(M26<>"Approuvé",0,IF(OR(E26="Reprise",E26="Ajustement débit"),J26,0)),0)) | P26: =IF(A26="","",IFERROR(N26-O26,0))
D27: =IF(C27="","",IFERROR(VLOOKUP(C27,Employés!$A$6:$B$101,2,FALSE),"Employé introuvable")) | N27: =IF(A27="","",IFERROR(IF(M27<>"Approuvé",0,IF(E27="Accumulation",MAX(I27-H27,0),IF(E27="Ajustement crédit",J27,0))),0)) | O27: =IF(A27="","",IFERROR(IF(M27<>"Approuvé",0,IF(OR(E27="Reprise",E27="Ajustement débit"),J27,0)),0)) | P27: =IF(A27="","",IFERROR(N27-O27,0))
D28: =IF(C28="","",IFERROR(VLOOKUP(C28,Employés!$A$6:$B$101,2,FALSE),"Employé introuvable")) | N28: =IF(A28="","",IFERROR(IF(M28<>"Approuvé",0,IF(E28="Accumulation",MAX(I28-H28,0),IF(E28="Ajustement crédit",J28,0))),0)) | O28: =IF(A28="","",IFERROR(IF(M28<>"Approuvé",0,IF(OR(E28="Reprise",E28="Ajustement débit"),J28,0)),0)) | P28: =IF(A28="","",IFERROR(N28-O28,0))
D29: =IF(C29="","",IFERROR(VLOOKUP(C29,Employés!$A$6:$B$101,2,FALSE),"Employé introuvable")) | N29: =IF(A29="","",IFERROR(IF(M29<>"Approuvé",0,IF(E29="Accumulation",MAX(I29-H29,0),IF(E29="Ajustement crédit",J29,0))),0)) | O29: =IF(A29="","",IFERROR(IF(M29<>"Approuvé",0,IF(OR(E29="Reprise",E29="Ajustement débit"),J29,0)),0)) | P29: =IF(A29="","",IFERROR(N29-O29,0))
D30: =IF(C30="","",IFERROR(VLOOKUP(C30,Employés!$A$6:$B$101,2,FALSE),"Employé introuvable")) | N30: =IF(A30="","",IFERROR(IF(M30<>"Approuvé",0,IF(E30="Accumulation",MAX(I30-H30,0),IF(E30="Ajustement crédit",J30,0))),0)) | O30: =IF(A30="","",IFERROR(IF(M30<>"Approuvé",0,IF(OR(E30="Reprise",E30="Ajustement débit"),J30,0)),0)) | P30: =IF(A30="","",IFERROR(N30-O30,0))
D31: =IF(C31="","",IFERROR(VLOOKUP(C31,Employés!$A$6:$B$101,2,FALSE),"Employé introuvable")) | N31: =IF(A31="","",IFERROR(IF(M31<>"Approuvé",0,IF(E31="Accumulation",MAX(I31-H31,0),IF(E31="Ajustement crédit",J31,0))),0)) | O31: =IF(A31="","",IFERROR(IF(M31<>"Approuvé",0,IF(OR(E31="Reprise",E31="Ajustement débit"),J31,0)),0)) | P31: =IF(A31="","",IFERROR(N31-O31,0))
D32: =IF(C32="","",IFERROR(VLOOKUP(C32,Employés!$A$6:$B$101,2,FALSE),"Employé introuvable")) | N32: =IF(A32="","",IFERROR(IF(M32<>"Approuvé",0,IF(E32="Accumulation",MAX(I32-H32,0),IF(E32="Ajustement crédit",J32,0))),0)) | O32: =IF(A32="","",IFERROR(IF(M32<>"Approuvé",0,IF(OR(E32="Reprise",E32="Ajustement débit"),J32,0)),0)) | P32: =IF(A32="","",IFERROR(N32-O32,0))
D33: =IF(C33="","",IFERROR(VLOOKUP(C33,Employés!$A$6:$B$101,2,FALSE),"Employé introuvable")) | N33: =IF(A33="","",IFERROR(IF(M33<>"Approuvé",0,IF(E33="Accumulation",MAX(I33-H33,0),IF(E33="Ajustement crédit",J33,0))),0)) | O33: =IF(A33="","",IFERROR(IF(M33<>"Approuvé",0,IF(OR(E33="Reprise",E33="Ajustement débit"),J33,0)),0)) | P33: =IF(A33="","",IFERROR(N33-O33,0))
D34: =IF(C34="","",IFERROR(VLOOKUP(C34,Employés!$A$6:$B$101,2,FALSE),"Employé introuvable")) | N34: =IF(A34="","",IFERROR(IF(M34<>"Approuvé",0,IF(E34="Accumulation",MAX(I34-H34,0),IF(E34="Ajustement crédit",J34,0))),0)) | O34: =IF(A34="","",IFERROR(IF(M34<>"Approuvé",0,IF(OR(E34="Reprise",E34="Ajustement débit"),J34,0)),0)) | P34: =IF(A34="","",IFERROR(N34-O34,0))
D35: =IF(C35="","",IFERROR(VLOOKUP(C35,Employés!$A$6:$B$101,2,FALSE),"Employé introuvable")) | N35: =IF(A35="","",IFERROR(IF(M35<>"Approuvé",0,IF(E35="Accumulation",MAX(I35-H35,0),IF(E35="Ajustement crédit",J35,0))),0)) | O35: =IF(A35="","",IFERROR(IF(M35<>"Approuvé",0,IF(OR(E35="Reprise",E35="Ajustement débit"),J35,0)),0)) | P35: =IF(A35="","",IFERROR(N35-O35,0))
D36: =IF(C36="","",IFERROR(VLOOKUP(C36,Employés!$A$6:$B$101,2,FALSE),"Employé introuvable")) | N36: =IF(A36="","",IFERROR(IF(M36<>"Approuvé",0,IF(E36="Accumulation",MAX(I36-H36,0),IF(E36="Ajustement crédit",J36,0))),0)) | O36: =IF(A36="","",IFERROR(IF(M36<>"Approuvé",0,IF(OR(E36="Reprise",E36="Ajustement débit"),J36,0)),0)) | P36: =IF(A36="","",IFERROR(N36-O36,0))
... D500: =IF(C500="","",IFERROR(VLOOKUP(C500,Employés!$A$6:$B$101,2,FALSE),"Employé introuvable")) | N500: =IF(A500="","",IFERROR(IF(M500<>"Approuvé",0,IF(E500="Accumulation",MAX(I500-H500,0),IF(E500="Ajustement crédit",J500,0))),0)) | O500: =IF(A500="","",IFERROR(IF(M500<>"Approuvé",0,IF(OR(E500="Reprise",E500="Ajustement débit"),J500,0)),0)) | P500: =IF(A500="","",IFERROR(N500-O500,0))

Sheet Employés
A1: Répertoire des employés et soldes de banque d’heures
A2: Ajouter les nouveaux employés dans ce tableau avant de saisir leurs mouvements dans le registre.
A3: La limite interne est facultative. Une limite à 0,00 signifie qu’aucun contrôle de plafond n’est appliqué.
A5: No d’employé | B5: Nom de l’employé | C5: Poste | D5: Date d’embauche | E5: Heures hebdomadaires prévues | F5: Limite interne d’heures | G5: Statut | H5: Heures accumulées | I5: Heures reprises | J5: Solde actuel | K5: Dernier mouvement approuvé | L5: Contrôle du solde
A6: EMP-001 | B6: Amélie Tremblay | C6: Adjointe administrative | D6: 45317 | E6: 37.5 | F6: 40 | G6: Actif | H6: =IF(A6="","",IFERROR(SUMIFS('Banque d'heures'!$N$6:$N$500,'Banque d'heures'!$C$6:$C$500,A6,'Banque d'heures'!$M$6:$M$500,"Approuvé"),0)) | I6: =IF(A6="","",IFERROR(SUMIFS('Banque d'heures'!$O$6:$O$500,'Banque d'heures'!$C$6:$C$500,A6,'Banque d'heures'!$M$6:$M$500,"Approuvé"),0)) | J6: =IF(A6="","",IFERROR(H6-I6,0)) | K6: =IF(A6="","",IF(COUNTIFS('Banque d'heures'!$C$6:$C$500,A6,'Banque d'heures'!$M$6:$M$500,"Approuvé")=0,"",MAXIFS('Banque d'heures'!$B$6:$B$500,'Banque d'heures'!$C$6:$C$500,A6,'Banque d'heures'!$M$6:$M$500,"Approuvé"))) | L6: =IF(A6="","",IFERROR(IF(J6<0,"Solde négatif",IF(AND(F6>0,J6>F6),"À vérifier","Conforme")),"À vérifier"))
A7: EMP-002 | B7: Mathieu Bouchard | C7: Coordonnateur d’entrepôt | D7: 44967 | E7: 40 | F7: 40 | G7: Actif | H7: =IF(A7="","",IFERROR(SUMIFS('Banque d'heures'!$N$6:$N$500,'Banque d'heures'!$C$6:$C$500,A7,'Banque d'heures'!$M$6:$M$500,"Approuvé"),0)) | I7: =IF(A7="","",IFERROR(SUMIFS('Banque d'heures'!$O$6:$O$500,'Banque d'heures'!$C$6:$C$500,A7,'Banque d'heures'!$M$6:$M$500,"Approuvé"),0)) | J7: =IF(A7="","",IFERROR(H7-I7,0)) | K7: =IF(A7="","",IF(COUNTIFS('Banque d'heures'!$C$6:$C$500,A7,'Banque d'heures'!$M$6:$M$500,"Approuvé")=0,"",MAXIFS('Banque d'heures'!$B$6:$B$500,'Banque d'heures'!$C$6:$C$500,A7,'Banque d'heures'!$M$6:$M$500,"Approuvé"))) | L7: =IF(A7="","",IFERROR(IF(J7<0,"Solde négatif",IF(AND(F7>0,J7>F7),"À vérifier","Conforme")),"À vérifier"))
A8: EMP-003 | B8: Karine Gauthier | C8: Technicienne comptable | D8: 45527 | E8: 35 | F8: 35 | G8: Actif | H8: =IF(A8="","",IFERROR(SUMIFS('Banque d'heures'!$N$6:$N$500,'Banque d'heures'!$C$6:$C$500,A8,'Banque d'heures'!$M$6:$M$500,"Approuvé"),0)) | I8: =IF(A8="","",IFERROR(SUMIFS('Banque d'heures'!$O$6:$O$500,'Banque d'heures'!$C$6:$C$500,A8,'Banque d'heures'!$M$6:$M$500,"Approuvé"),0)) | J8: =IF(A8="","",IFERROR(H8-I8,0)) | K8: =IF(A8="","",IF(COUNTIFS('Banque d'heures'!$C$6:$C$500,A8,'Banque d'heures'!$M$6:$M$500,"Approuvé")=0,"",MAXIFS('Banque d'heures'!$B$6:$B$500,'Banque d'heures'!$C$6:$C$500,A8,'Banque d'heures'!$M$6:$M$500,"Approuvé"))) | L8: =IF(A8="","",IFERROR(IF(J8<0,"Solde négatif",IF(AND(F8>0,J8>F8),"À vérifier","Conforme")),"À vérifier"))
A9: EMP-004 | B9: Samuel Pelletier | C9: Représentant aux ventes | D9: 45757 | E9: 37.5 | F9: 30 | G9: Actif | H9: =IF(A9="","",IFERROR(SUMIFS('Banque d'heures'!$N$6:$N$500,'Banque d'heures'!$C$6:$C$500,A9,'Banque d'heures'!$M$6:$M$500,"Approuvé"),0)) | I9: =IF(A9="","",IFERROR(SUMIFS('Banque d'heures'!$O$6:$O$500,'Banque d'heures'!$C$6:$C$500,A9,'Banque d'heures'!$M$6:$M$500,"Approuvé"),0)) | J9: =IF(A9="","",IFERROR(H9-I9,0)) | K9: =IF(A9="","",IF(COUNTIFS('Banque d'heures'!$C$6:$C$500,A9,'Banque d'heures'!$M$6:$M$500,"Approuvé")=0,"",MAXIFS('Banque d'heures'!$B$6:$B$500,'Banque d'heures'!$C$6:$C$500,A9,'Banque d'heures'!$M$6:$M$500,"Approuvé"))) | L9: =IF(A9="","",IFERROR(IF(J9<0,"Solde négatif",IF(AND(F9>0,J9>F9),"À vérifier","Conforme")),"À vérifier"))
H10: =IF(A10="","",IFERROR(SUMIFS('Banque d'heures'!$N$6:$N$500,'Banque d'heures'!$C$6:$C$500,A10,'Banque d'heures'!$M$6:$M$500,"Approuvé"),0)) | I10: =IF(A10="","",IFERROR(SUMIFS('Banque d'heures'!$O$6:$O$500,'Banque d'heures'!$C$6:$C$500,A10,'Banque d'heures'!$M$6:$M$500,"Approuvé"),0)) | J10: =IF(A10="","",IFERROR(H10-I10,0)) | K10: =IF(A10="","",IF(COUNTIFS('Banque d'heures'!$C$6:$C$500,A10,'Banque d'heures'!$M$6:$M$500,"Approuvé")=0,"",MAXIFS('Banque d'heures'!$B$6:$B$500,'Banque d'heures'!$C$6:$C$500,A10,'Banque d'heures'!$M$6:$M$500,"Approuvé"))) | L10: =IF(A10="","",IFERROR(IF(J10<0,"Solde négatif",IF(AND(F10>0,J10>F10),"À vérifier","Conforme")),"À vérifier"))
H11: =IF(A11="","",IFERROR(SUMIFS('Banque d'heures'!$N$6:$N$500,'Banque d'heures'!$C$6:$C$500,A11,'Banque d'heures'!$M$6:$M$500,"Approuvé"),0)) | I11: =IF(A11="","",IFERROR(SUMIFS('Banque d'heures'!$O$6:$O$500,'Banque d'heures'!$C$6:$C$500,A11,'Banque d'heures'!$M$6:$M$500,"Approuvé"),0)) | J11: =IF(A11="","",IFERROR(H11-I11,0)) | K11: =IF(A11="","",IF(COUNTIFS('Banque d'heures'!$C$6:$C$500,A11,'Banque d'heures'!$M$6:$M$500,"Approuvé")=0,"",MAXIFS('Banque d'heures'!$B$6:$B$500,'Banque d'heures'!$C$6:$C$500,A11,'Banque d'heures'!$M$6:$M$500,"Approuvé"))) | L11: =IF(A11="","",IFERROR(IF(J11<0,"Solde négatif",IF(AND(F11>0,J11>F11),"À vérifier","Conforme")),"À vérifier"))
H12: =IF(A12="","",IFERROR(SUMIFS('Banque d'heures'!$N$6:$N$500,'Banque d'heures'!$C$6:$C$500,A12,'Banque d'heures'!$M$6:$M$500,"Approuvé"),0)) | I12: =IF(A12="","",IFERROR(SUMIFS('Banque d'heures'!$O$6:$O$500,'Banque d'heures'!$C$6:$C$500,A12,'Banque d'heures'!$M$6:$M$500,"Approuvé"),0)) | J12: =IF(A12="","",IFERROR(H12-I12,0)) | K12: =IF(A12="","",IF(COUNTIFS('Banque d'heures'!$C$6:$C$500,A12,'Banque d'heures'!$M$6:$M$500,"Approuvé")=0,"",MAXIFS('Banque d'heures'!$B$6:$B$500,'Banque d'heures'!$C$6:$C$500,A12,'Banque d'heures'!$M$6:$M$500,"Approuvé"))) | L12: =IF(A12="","",IFERROR(IF(J12<0,"Solde négatif",IF(AND(F12>0,J12>F12),"À vérifier","Conforme")),"À vérifier"))
H13: =IF(A13="","",IFERROR(SUMIFS('Banque d'heures'!$N$6:$N$500,'Banque d'heures'!$C$6:$C$500,A13,'Banque d'heures'!$M$6:$M$500,"Approuvé"),0)) | I13: =IF(A13="","",IFERROR(SUMIFS('Banque d'heures'!$O$6:$O$500,'Banque d'heures'!$C$6:$C$500,A13,'Banque d'heures'!$M$6:$M$500,"Approuvé"),0)) | J13: =IF(A13="","",IFERROR(H13-I13,0)) | K13: =IF(A13="","",IF(COUNTIFS('Banque d'heures'!$C$6:$C$500,A13,'Banque d'heures'!$M$6:$M$500,"Approuvé")=0,"",MAXIFS('Banque d'heures'!$B$6:$B$500,'Banque d'heures'!$C$6:$C$500,A13,'Banque d'heures'!$M$6:$M$500,"Approuvé"))) | L13: =IF(A13="","",IFERROR(IF(J13<0,"Solde négatif",IF(AND(F13>0,J13>F13),"À vérifier","Conforme")),"À vérifier"))
H14: =IF(A14="","",IFERROR(SUMIFS('Banque d'heures'!$N$6:$N$500,'Banque d'heures'!$C$6:$C$500,A14,'Banque d'heures'!$M$6:$M$500,"Approuvé"),0)) | I14: =IF(A14="","",IFERROR(SUMIFS('Banque d'heures'!$O$6:$O$500,'Banque d'heures'!$C$6:$C$500,A14,'Banque d'heures'!$M$6:$M$500,"Approuvé"),0)) | J14: =IF(A14="","",IFERROR(H14-I14,0)) | K14: =IF(A14="","",IF(COUNTIFS('Banque d'heures'!$C$6:$C$500,A14,'Banque d'heures'!$M$6:$M$500,"Approuvé")=0,"",MAXIFS('Banque d'heures'!$B$6:$B$500,'Banque d'heures'!$C$6:$C$500,A14,'Banque d'heures'!$M$6:$M$500,"Approuvé"))) | L14: =IF(A14="","",IFERROR(IF(J14<0,"Solde négatif",IF(AND(F14>0,J14>F14),"À vérifier","Conforme")),"À vérifier"))
H15: =IF(A15="","",IFERROR(SUMIFS('Banque d'heures'!$N$6:$N$500,'Banque d'heures'!$C$6:$C$500,A15,'Banque d'heures'!$M$6:$M$500,"Approuvé"),0)) | I15: =IF(A15="","",IFERROR(SUMIFS('Banque d'heures'!$O$6:$O$500,'Banque d'heures'!$C$6:$C$500,A15,'Banque d'heures'!$M$6:$M$500,"Approuvé"),0)) | J15: =IF(A15="","",IFERROR(H15-I15,0)) | K15: =IF(A15="","",IF(COUNTIFS('Banque d'heures'!$C$6:$C$500,A15,'Banque d'heures'!$M$6:$M$500,"Approuvé")=0,"",MAXIFS('Banque d'heures'!$B$6:$B$500,'Banque d'heures'!$C$6:$C$500,A15,'Banque d'heures'!$M$6:$M$500,"Approuvé"))) | L15: =IF(A15="","",IFERROR(IF(J15<0,"Solde négatif",IF(AND(F15>0,J15>F15),"À vérifier","Conforme")),"À vérifier"))
H16: =IF(A16="","",IFERROR(SUMIFS('Banque d'heures'!$N$6:$N$500,'Banque d'heures'!$C$6:$C$500,A16,'Banque d'heures'!$M$6:$M$500,"Approuvé"),0)) | I16: =IF(A16="","",IFERROR(SUMIFS('Banque d'heures'!$O$6:$O$500,'Banque d'heures'!$C$6:$C$500,A16,'Banque d'heures'!$M$6:$M$500,"Approuvé"),0)) | J16: =IF(A16="","",IFERROR(H16-I16,0)) | K16: =IF(A16="","",IF(COUNTIFS('Banque d'heures'!$C$6:$C$500,A16,'Banque d'heures'!$M$6:$M$500,"Approuvé")=0,"",MAXIFS('Banque d'heures'!$B$6:$B$500,'Banque d'heures'!$C$6:$C$500,A16,'Banque d'heures'!$M$6:$M$500,"Approuvé"))) | L16: =IF(A16="","",IFERROR(IF(J16<0,"Solde négatif",IF(AND(F16>0,J16>F16),"À vérifier","Conforme")),"À vérifier"))
H17: =IF(A17="","",IFERROR(SUMIFS('Banque d'heures'!$N$6:$N$500,'Banque d'heures'!$C$6:$C$500,A17,'Banque d'heures'!$M$6:$M$500,"Approuvé"),0)) | I17: =IF(A17="","",IFERROR(SUMIFS('Banque d'heures'!$O$6:$O$500,'Banque d'heures'!$C$6:$C$500,A17,'Banque d'heures'!$M$6:$M$500,"Approuvé"),0)) | J17: =IF(A17="","",IFERROR(H17-I17,0)) | K17: =IF(A17="","",IF(COUNTIFS('Banque d'heures'!$C$6:$C$500,A17,'Banque d'heures'!$M$6:$M$500,"Approuvé")=0,"",MAXIFS('Banque d'heures'!$B$6:$B$500,'Banque d'heures'!$C$6:$C$500,A17,'Banque d'heures'!$M$6:$M$500,"Approuvé"))) | L17: =IF(A17="","",IFERROR(IF(J17<0,"Solde négatif",IF(AND(F17>0,J17>F17),"À vérifier","Conforme")),"À vérifier"))
H18: =IF(A18="","",IFERROR(SUMIFS('Banque d'heures'!$N$6:$N$500,'Banque d'heures'!$C$6:$C$500,A18,'Banque d'heures'!$M$6:$M$500,"Approuvé"),0)) | I18: =IF(A18="","",IFERROR(SUMIFS('Banque d'heures'!$O$6:$O$500,'Banque d'heures'!$C$6:$C$500,A18,'Banque d'heures'!$M$6:$M$500,"Approuvé"),0)) | J18: =IF(A18="","",IFERROR(H18-I18,0)) | K18: =IF(A18="","",IF(COUNTIFS('Banque d'heures'!$C$6:$C$500,A18,'Banque d'heures'!$M$6:$M$500,"Approuvé")=0,"",MAXIFS('Banque d'heures'!$B$6:$B$500,'Banque d'heures'!$C$6:$C$500,A18,'Banque d'heures'!$M$6:$M$500,"Approuvé"))) | L18: =IF(A18="","",IFERROR(IF(J18<0,"Solde négatif",IF(AND(F18>0,J18>F18),"À vérifier","Conforme")),"À vérifier"))
H19: =IF(A19="","",IFERROR(SUMIFS('Banque d'heures'!$N$6:$N$500,'Banque d'heures'!$C$6:$C$500,A19,'Banque d'heures'!$M$6:$M$500,"Approuvé"),0)) | I19: =IF(A19="","",IFERROR(SUMIFS('Banque d'heures'!$O$6:$O$500,'Banque d'heures'!$C$6:$C$500,A19,'Banque d'heures'!$M$6:$M$500,"Approuvé"),0)) | J19: =IF(A19="","",IFERROR(H19-I19,0)) | K19: =IF(A19="","",IF(COUNTIFS('Banque d'heures'!$C$6:$C$500,A19,'Banque d'heures'!$M$6:$M$500,"Approuvé")=0,"",MAXIFS('Banque d'heures'!$B$6:$B$500,'Banque d'heures'!$C$6:$C$500,A19,'Banque d'heures'!$M$6:$M$500,"Approuvé"))) | L19: =IF(A19="","",IFERROR(IF(J19<0,"Solde négatif",IF(AND(F19>0,J19>F19),"À vérifier","Conforme")),"À vérifier"))
H20: =IF(A20="","",IFERROR(SUMIFS('Banque d'heures'!$N$6:$N$500,'Banque d'heures'!$C$6:$C$500,A20,'Banque d'heures'!$M$6:$M$500,"Approuvé"),0)) | I20: =IF(A20="","",IFERROR(SUMIFS('Banque d'heures'!$O$6:$O$500,'Banque d'heures'!$C$6:$C$500,A20,'Banque d'heures'!$M$6:$M$500,"Approuvé"),0)) | J20: =IF(A20="","",IFERROR(H20-I20,0)) | K20: =IF(A20="","",IF(COUNTIFS('Banque d'heures'!$C$6:$C$500,A20,'Banque d'heures'!$M$6:$M$500,"Approuvé")=0,"",MAXIFS('Banque d'heures'!$B$6:$B$500,'Banque d'heures'!$C$6:$C$500,A20,'Banque d'heures'!$M$6:$M$500,"Approuvé"))) | L20: =IF(A20="","",IFERROR(IF(J20<0,"Solde négatif",IF(AND(F20>0,J20>F20),"À vérifier","Conforme")),"À vérifier"))
H21: =IF(A21="","",IFERROR(SUMIFS('Banque d'heures'!$N$6:$N$500,'Banque d'heures'!$C$6:$C$500,A21,'Banque d'heures'!$M$6:$M$500,"Approuvé"),0)) | I21: =IF(A21="","",IFERROR(SUMIFS('Banque d'heures'!$O$6:$O$500,'Banque d'heures'!$C$6:$C$500,A21,'Banque d'heures'!$M$6:$M$500,"Approuvé"),0)) | J21: =IF(A21="","",IFERROR(H21-I21,0)) | K21: =IF(A21="","",IF(COUNTIFS('Banque d'heures'!$C$6:$C$500,A21,'Banque d'heures'!$M$6:$M$500,"Approuvé")=0,"",MAXIFS('Banque d'heures'!$B$6:$B$500,'Banque d'heures'!$C$6:$C$500,A21,'Banque d'heures'!$M$6:$M$500,"Approuvé"))) | L21: =IF(A21="","",IFERROR(IF(J21<0,"Solde négatif",IF(AND(F21>0,J21>F21),"À vérifier","Conforme")),"À vérifier"))
H22: =IF(A22="","",IFERROR(SUMIFS('Banque d'heures'!$N$6:$N$500,'Banque d'heures'!$C$6:$C$500,A22,'Banque d'heures'!$M$6:$M$500,"Approuvé"),0)) | I22: =IF(A22="","",IFERROR(SUMIFS('Banque d'heures'!$O$6:$O$500,'Banque d'heures'!$C$6:$C$500,A22,'Banque d'heures'!$M$6:$M$500,"Approuvé"),0)) | J22: =IF(A22="","",IFERROR(H22-I22,0)) | K22: =IF(A22="","",IF(COUNTIFS('Banque d'heures'!$C$6:$C$500,A22,'Banque d'heures'!$M$6:$M$500,"Approuvé")=0,"",MAXIFS('Banque d'heures'!$B$6:$B$500,'Banque d'heures'!$C$6:$C$500,A22,'Banque d'heures'!$M$6:$M$500,"Approuvé"))) | L22: =IF(A22="","",IFERROR(IF(J22<0,"Solde négatif",IF(AND(F22>0,J22>F22),"À vérifier","Conforme")),"À vérifier"))
H23: =IF(A23="","",IFERROR(SUMIFS('Banque d'heures'!$N$6:$N$500,'Banque d'heures'!$C$6:$C$500,A23,'Banque d'heures'!$M$6:$M$500,"Approuvé"),0)) | I23: =IF(A23="","",IFERROR(SUMIFS('Banque d'heures'!$O$6:$O$500,'Banque d'heures'!$C$6:$C$500,A23,'Banque d'heures'!$M$6:$M$500,"Approuvé"),0)) | J23: =IF(A23="","",IFERROR(H23-I23,0)) | K23: =IF(A23="","",IF(COUNTIFS('Banque d'heures'!$C$6:$C$500,A23,'Banque d'heures'!$M$6:$M$500,"Approuvé")=0,"",MAXIFS('Banque d'heures'!$B$6:$B$500,'Banque d'heures'!$C$6:$C$500,A23,'Banque d'heures'!$M$6:$M$500,"Approuvé"))) | L23: =IF(A23="","",IFERROR(IF(J23<0,"Solde négatif",IF(AND(F23>0,J23>F23),"À vérifier","Conforme")),"À vérifier"))
H24: =IF(A24="","",IFERROR(SUMIFS('Banque d'heures'!$N$6:$N$500,'Banque d'heures'!$C$6:$C$500,A24,'Banque d'heures'!$M$6:$M$500,"Approuvé"),0)) | I24: =IF(A24="","",IFERROR(SUMIFS('Banque d'heures'!$O$6:$O$500,'Banque d'heures'!$C$6:$C$500,A24,'Banque d'heures'!$M$6:$M$500,"Approuvé"),0)) | J24: =IF(A24="","",IFERROR(H24-I24,0)) | K24: =IF(A24="","",IF(COUNTIFS('Banque d'heures'!$C$6:$C$500,A24,'Banque d'heures'!$M$6:$M$500,"Approuvé")=0,"",MAXIFS('Banque d'heures'!$B$6:$B$500,'Banque d'heures'!$C$6:$C$500,A24,'Banque d'heures'!$M$6:$M$500,"Approuvé"))) | L24: =IF(A24="","",IFERROR(IF(J24<0,"Solde négatif",IF(AND(F24>0,J24>F24),"À vérifier","Conforme")),"À vérifier"))
H25: =IF(A25="","",IFERROR(SUMIFS('Banque d'heures'!$N$6:$N$500,'Banque d'heures'!$C$6:$C$500,A25,'Banque d'heures'!$M$6:$M$500,"Approuvé"),0)) | I25: =IF(A25="","",IFERROR(SUMIFS('Banque d'heures'!$O$6:$O$500,'Banque d'heures'!$C$6:$C$500,A25,'Banque d'heures'!$M$6:$M$500,"Approuvé"),0)) | J25: =IF(A25="","",IFERROR(H25-I25,0)) | K25: =IF(A25="","",IF(COUNTIFS('Banque d'heures'!$C$6:$C$500,A25,'Banque d'heures'!$M$6:$M$500,"Approuvé")=0,"",MAXIFS('Banque d'heures'!$B$6:$B$500,'Banque d'heures'!$C$6:$C$500,A25,'Banque d'heures'!$M$6:$M$500,"Approuvé"))) | L25: =IF(A25="","",IFERROR(IF(J25<0,"Solde négatif",IF(AND(F25>0,J25>F25),"À vérifier","Conforme")),"À vérifier"))
H26: =IF(A26="","",IFERROR(SUMIFS('Banque d'heures'!$N$6:$N$500,'Banque d'heures'!$C$6:$C$500,A26,'Banque d'heures'!$M$6:$M$500,"Approuvé"),0)) | I26: =IF(A26="","",IFERROR(SUMIFS('Banque d'heures'!$O$6:$O$500,'Banque d'heures'!$C$6:$C$500,A26,'Banque d'heures'!$M$6:$M$500,"Approuvé"),0)) | J26: =IF(A26="","",IFERROR(H26-I26,0)) | K26: =IF(A26="","",IF(COUNTIFS('Banque d'heures'!$C$6:$C$500,A26,'Banque d'heures'!$M$6:$M$500,"Approuvé")=0,"",MAXIFS('Banque d'heures'!$B$6:$B$500,'Banque d'heures'!$C$6:$C$500,A26,'Banque d'heures'!$M$6:$M$500,"Approuvé"))) | L26: =IF(A26="","",IFERROR(IF(J26<0,"Solde négatif",IF(AND(F26>0,J26>F26),"À vérifier","Conforme")),"À vérifier"))
H27: =IF(A27="","",IFERROR(SUMIFS('Banque d'heures'!$N$6:$N$500,'Banque d'heures'!$C$6:$C$500,A27,'Banque d'heures'!$M$6:$M$500,"Approuvé"),0)) | I27: =IF(A27="","",IFERROR(SUMIFS('Banque d'heures'!$O$6:$O$500,'Banque d'heures'!$C$6:$C$500,A27,'Banque d'heures'!$M$6:$M$500,"Approuvé"),0)) | J27: =IF(A27="","",IFERROR(H27-I27,0)) | K27: =IF(A27="","",IF(COUNTIFS('Banque d'heures'!$C$6:$C$500,A27,'Banque d'heures'!$M$6:$M$500,"Approuvé")=0,"",MAXIFS('Banque d'heures'!$B$6:$B$500,'Banque d'heures'!$C$6:$C$500,A27,'Banque d'heures'!$M$6:$M$500,"Approuvé"))) | L27: =IF(A27="","",IFERROR(IF(J27<0,"Solde négatif",IF(AND(F27>0,J27>F27),"À vérifier","Conforme")),"À vérifier"))
H28: =IF(A28="","",IFERROR(SUMIFS('Banque d'heures'!$N$6:$N$500,'Banque d'heures'!$C$6:$C$500,A28,'Banque d'heures'!$M$6:$M$500,"Approuvé"),0)) | I28: =IF(A28="","",IFERROR(SUMIFS('Banque d'heures'!$O$6:$O$500,'Banque d'heures'!$C$6:$C$500,A28,'Banque d'heures'!$M$6:$M$500,"Approuvé"),0)) | J28: =IF(A28="","",IFERROR(H28-I28,0)) | K28: =IF(A28="","",IF(COUNTIFS('Banque d'heures'!$C$6:$C$500,A28,'Banque d'heures'!$M$6:$M$500,"Approuvé")=0,"",MAXIFS('Banque d'heures'!$B$6:$B$500,'Banque d'heures'!$C$6:$C$500,A28,'Banque d'heures'!$M$6:$M$500,"Approuvé"))) | L28: =IF(A28="","",IFERROR(IF(J28<0,"Solde négatif",IF(AND(F28>0,J28>F28),"À vérifier","Conforme")),"À vérifier"))
H29: =IF(A29="","",IFERROR(SUMIFS('Banque d'heures'!$N$6:$N$500,'Banque d'heures'!$C$6:$C$500,A29,'Banque d'heures'!$M$6:$M$500,"Approuvé"),0)) | I29: =IF(A29="","",IFERROR(SUMIFS('Banque d'heures'!$O$6:$O$500,'Banque d'heures'!$C$6:$C$500,A29,'Banque d'heures'!$M$6:$M$500,"Approuvé"),0)) | J29: =IF(A29="","",IFERROR(H29-I29,0)) | K29: =IF(A29="","",IF(COUNTIFS('Banque d'heures'!$C$6:$C$500,A29,'Banque d'heures'!$M$6:$M$500,"Approuvé")=0,"",MAXIFS('Banque d'heures'!$B$6:$B$500,'Banque d'heures'!$C$6:$C$500,A29,'Banque d'heures'!$M$6:$M$500,"Approuvé"))) | L29: =IF(A29="","",IFERROR(IF(J29<0,"Solde négatif",IF(AND(F29>0,J29>F29),"À vérifier","Conforme")),"À vérifier"))
H30: =IF(A30="","",IFERROR(SUMIFS('Banque d'heures'!$N$6:$N$500,'Banque d'heures'!$C$6:$C$500,A30,'Banque d'heures'!$M$6:$M$500,"Approuvé"),0)) | I30: =IF(A30="","",IFERROR(SUMIFS('Banque d'heures'!$O$6:$O$500,'Banque d'heures'!$C$6:$C$500,A30,'Banque d'heures'!$M$6:$M$500,"Approuvé"),0)) | J30: =IF(A30="","",IFERROR(H30-I30,0)) | K30: =IF(A30="","",IF(COUNTIFS('Banque d'heures'!$C$6:$C$500,A30,'Banque d'heures'!$M$6:$M$500,"Approuvé")=0,"",MAXIFS('Banque d'heures'!$B$6:$B$500,'Banque d'heures'!$C$6:$C$500,A30,'Banque d'heures'!$M$6:$M$500,"Approuvé"))) | L30: =IF(A30="","",IFERROR(IF(J30<0,"Solde négatif",IF(AND(F30>0,J30>F30),"À vérifier","Conforme")),"À vérifier"))
H31: =IF(A31="","",IFERROR(SUMIFS('Banque d'heures'!$N$6:$N$500,'Banque d'heures'!$C$6:$C$500,A31,'Banque d'heures'!$M$6:$M$500,"Approuvé"),0)) | I31: =IF(A31="","",IFERROR(SUMIFS('Banque d'heures'!$O$6:$O$500,'Banque d'heures'!$C$6:$C$500,A31,'Banque d'heures'!$M$6:$M$500,"Approuvé"),0)) | J31: =IF(A31="","",IFERROR(H31-I31,0)) | K31: =IF(A31="","",IF(COUNTIFS('Banque d'heures'!$C$6:$C$500,A31,'Banque d'heures'!$M$6:$M$500,"Approuvé")=0,"",MAXIFS('Banque d'heures'!$B$6:$B$500,'Banque d'heures'!$C$6:$C$500,A31,'Banque d'heures'!$M$6:$M$500,"Approuvé"))) | L31: =IF(A31="","",IFERROR(IF(J31<0,"Solde négatif",IF(AND(F31>0,J31>F31),"À vérifier","Conforme")),"À vérifier"))
H32: =IF(A32="","",IFERROR(SUMIFS('Banque d'heures'!$N$6:$N$500,'Banque d'heures'!$C$6:$C$500,A32,'Banque d'heures'!$M$6:$M$500,"Approuvé"),0)) | I32: =IF(A32="","",IFERROR(SUMIFS('Banque d'heures'!$O$6:$O$500,'Banque d'heures'!$C$6:$C$500,A32,'Banque d'heures'!$M$6:$M$500,"Approuvé"),0)) | J32: =IF(A32="","",IFERROR(H32-I32,0)) | K32: =IF(A32="","",IF(COUNTIFS('Banque d'heures'!$C$6:$C$500,A32,'Banque d'heures'!$M$6:$M$500,"Approuvé")=0,"",MAXIFS('Banque d'heures'!$B$6:$B$500,'Banque d'heures'!$C$6:$C$500,A32,'Banque d'heures'!$M$6:$M$500,"Approuvé"))) | L32: =IF(A32="","",IFERROR(IF(J32<0,"Solde négatif",IF(AND(F32>0,J32>F32),"À vérifier","Conforme")),"À vérifier"))
H33: =IF(A33="","",IFERROR(SUMIFS('Banque d'heures'!$N$6:$N$500,'Banque d'heures'!$C$6:$C$500,A33,'Banque d'heures'!$M$6:$M$500,"Approuvé"),0)) | I33: =IF(A33="","",IFERROR(SUMIFS('Banque d'heures'!$O$6:$O$500,'Banque d'heures'!$C$6:$C$500,A33,'Banque d'heures'!$M$6:$M$500,"Approuvé"),0)) | J33: =IF(A33="","",IFERROR(H33-I33,0)) | K33: =IF(A33="","",IF(COUNTIFS('Banque d'heures'!$C$6:$C$500,A33,'Banque d'heures'!$M$6:$M$500,"Approuvé")=0,"",MAXIFS('Banque d'heures'!$B$6:$B$500,'Banque d'heures'!$C$6:$C$500,A33,'Banque d'heures'!$M$6:$M$500,"Approuvé"))) | L33: =IF(A33="","",IFERROR(IF(J33<0,"Solde négatif",IF(AND(F33>0,J33>F33),"À vérifier","Conforme")),"À vérifier"))
H34: =IF(A34="","",IFERROR(SUMIFS('Banque d'heures'!$N$6:$N$500,'Banque d'heures'!$C$6:$C$500,A34,'Banque d'heures'!$M$6:$M$500,"Approuvé"),0)) | I34: =IF(A34="","",IFERROR(SUMIFS('Banque d'heures'!$O$6:$O$500,'Banque d'heures'!$C$6:$C$500,A34,'Banque d'heures'!$M$6:$M$500,"Approuvé"),0)) | J34: =IF(A34="","",IFERROR(H34-I34,0)) | K34: =IF(A34="","",IF(COUNTIFS('Banque d'heures'!$C$6:$C$500,A34,'Banque d'heures'!$M$6:$M$500,"Approuvé")=0,"",MAXIFS('Banque d'heures'!$B$6:$B$500,'Banque d'heures'!$C$6:$C$500,A34,'Banque d'heures'!$M$6:$M$500,"Approuvé"))) | L34: =IF(A34="","",IFERROR(IF(J34<0,"Solde négatif",IF(AND(F34>0,J34>F34),"À vérifier","Conforme")),"À vérifier"))
H35: =IF(A35="","",IFERROR(SUMIFS('Banque d'heures'!$N$6:$N$500,'Banque d'heures'!$C$6:$C$500,A35,'Banque d'heures'!$M$6:$M$500,"Approuvé"),0)) | I35: =IF(A35="","",IFERROR(SUMIFS('Banque d'heures'!$O$6:$O$500,'Banque d'heures'!$C$6:$C$500,A35,'Banque d'heures'!$M$6:$M$500,"Approuvé"),0)) | J35: =IF(A35="","",IFERROR(H35-I35,0)) | K35: =IF(A35="","",IF(COUNTIFS('Banque d'heures'!$C$6:$C$500,A35,'Banque d'heures'!$M$6:$M$500,"Approuvé")=0,"",MAXIFS('Banque d'heures'!$B$6:$B$500,'Banque d'heures'!$C$6:$C$500,A35,'Banque d'heures'!$M$6:$M$500,"Approuvé"))) | L35: =IF(A35="","",IFERROR(IF(J35<0,"Solde négatif",IF(AND(F35>0,J35>F35),"À vérifier","Conforme")),"À vérifier"))
H36: =IF(A36="","",IFERROR(SUMIFS('Banque d'heures'!$N$6:$N$500,'Banque d'heures'!$C$6:$C$500,A36,'Banque d'heures'!$M$6:$M$500,"Approuvé"),0)) | I36: =IF(A36="","",IFERROR(SUMIFS('Banque d'heures'!$O$6:$O$500,'Banque d'heures'!$C$6:$C$500,A36,'Banque d'heures'!$M$6:$M$500,"Approuvé"),0)) | J36: =IF(A36="","",IFERROR(H36-I36,0)) | K36: =IF(A36="","",IF(COUNTIFS('Banque d'heures'!$C$6:$C$500,A36,'Banque d'heures'!$M$6:$M$500,"Approuvé")=0,"",MAXIFS('Banque d'heures'!$B$6:$B$500,'Banque d'heures'!$C$6:$C$500,A36,'Banque d'heures'!$M$6:$M$500,"Approuvé"))) | L36: =IF(A36="","",IFERROR(IF(J36<0,"Solde négatif",IF(AND(F36>0,J36>F36),"À vérifier","Conforme")),"À vérifier"))
H37: =IF(A37="","",IFERROR(SUMIFS('Banque d'heures'!$N$6:$N$500,'Banque d'heures'!$C$6:$C$500,A37,'Banque d'heures'!$M$6:$M$500,"Approuvé"),0)) | I37: =IF(A37="","",IFERROR(SUMIFS('Banque d'heures'!$O$6:$O$500,'Banque d'heures'!$C$6:$C$500,A37,'Banque d'heures'!$M$6:$M$500,"Approuvé"),0)) | J37: =IF(A37="","",IFERROR(H37-I37,0)) | K37: =IF(A37="","",IF(COUNTIFS('Banque d'heures'!$C$6:$C$500,A37,'Banque d'heures'!$M$6:$M$500,"Approuvé")=0,"",MAXIFS('Banque d'heures'!$B$6:$B$500,'Banque d'heures'!$C$6:$C$500,A37,'Banque d'heures'!$M$6:$M$500,"Approuvé"))) | L37: =IF(A37="","",IFERROR(IF(J37<0,"Solde négatif",IF(AND(F37>0,J37>F37),"À vérifier","Conforme")),"À vérifier"))
H38: =IF(A38="","",IFERROR(SUMIFS('Banque d'heures'!$N$6:$N$500,'Banque d'heures'!$C$6:$C$500,A38,'Banque d'heures'!$M$6:$M$500,"Approuvé"),0)) | I38: =IF(A38="","",IFERROR(SUMIFS('Banque d'heures'!$O$6:$O$500,'Banque d'heures'!$C$6:$C$500,A38,'Banque d'heures'!$M$6:$M$500,"Approuvé"),0)) | J38: =IF(A38="","",IFERROR(H38-I38,0)) | K38: =IF(A38="","",IF(COUNTIFS('Banque d'heures'!$C$6:$C$500,A38,'Banque d'heures'!$M$6:$M$500,"Approuvé")=0,"",MAXIFS('Banque d'heures'!$B$6:$B$500,'Banque d'heures'!$C$6:$C$500,A38,'Banque d'heures'!$M$6:$M$500,"Approuvé"))) | L38: =IF(A38="","",IFERROR(IF(J38<0,"Solde négatif",IF(AND(F38>0,J38>F38),"À vérifier","Conforme")),"À vérifier"))
H39: =IF(A39="","",IFERROR(SUMIFS('Banque d'heures'!$N$6:$N$500,'Banque d'heures'!$C$6:$C$500,A39,'Banque d'heures'!$M$6:$M$500,"Approuvé"),0)) | I39: =IF(A39="","",IFERROR(SUMIFS('Banque d'heures'!$O$6:$O$500,'Banque d'heures'!$C$6:$C$500,A39,'Banque d'heures'!$M$6:$M$500,"Approuvé"),0)) | J39: =IF(A39="","",IFERROR(H39-I39,0)) | K39: =IF(A39="","",IF(COUNTIFS('Banque d'heures'!$C$6:$C$500,A39,'Banque d'heures'!$M$6:$M$500,"Approuvé")=0,"",MAXIFS('Banque d'heures'!$B$6:$B$500,'Banque d'heures'!$C$6:$C$500,A39,'Banque d'heures'!$M$6:$M$500,"Approuvé"))) | L39: =IF(A39="","",IFERROR(IF(J39<0,"Solde négatif",IF(AND(F39>0,J39>F39),"À vérifier","Conforme")),"À vérifier"))
H40: =IF(A40="","",IFERROR(SUMIFS('Banque d'heures'!$N$6:$N$500,'Banque d'heures'!$C$6:$C$500,A40,'Banque d'heures'!$M$6:$M$500,"Approuvé"),0)) | I40: =IF(A40="","",IFERROR(SUMIFS('Banque d'heures'!$O$6:$O$500,'Banque d'heures'!$C$6:$C$500,A40,'Banque d'heures'!$M$6:$M$500,"Approuvé"),0)) | J40: =IF(A40="","",IFERROR(H40-I40,0)) | K40: =IF(A40="","",IF(COUNTIFS('Banque d'heures'!$C$6:$C$500,A40,'Banque d'heures'!$M$6:$M$500,"Approuvé")=0,"",MAXIFS('Banque d'heures'!$B$6:$B$500,'Banque d'heures'!$C$6:$C$500,A40,'Banque d'heures'!$M$6:$M$500,"Approuvé"))) | L40: =IF(A40="","",IFERROR(IF(J40<0,"Solde négatif",IF(AND(F40>0,J40>F40),"À vérifier","Conforme")),"À vérifier"))
H41: =IF(A41="","",IFERROR(SUMIFS('Banque d'heures'!$N$6:$N$500,'Banque d'heures'!$C$6:$C$500,A41,'Banque d'heures'!$M$6:$M$500,"Approuvé"),0)) | I41: =IF(A41="","",IFERROR(SUMIFS('Banque d'heures'!$O$6:$O$500,'Banque d'heures'!$C$6:$C$500,A41,'Banque d'heures'!$M$6:$M$500,"Approuvé"),0)) | J41: =IF(A41="","",IFERROR(H41-I41,0)) | K41: =IF(A41="","",IF(COUNTIFS('Banque d'heures'!$C$6:$C$500,A41,'Banque d'heures'!$M$6:$M$500,"Approuvé")=0,"",MAXIFS('Banque d'heures'!$B$6:$B$500,'Banque d'heures'!$C$6:$C$500,A41,'Banque d'heures'!$M$6:$M$500,"Approuvé"))) | L41: =IF(A41="","",IFERROR(IF(J41<0,"Solde négatif",IF(AND(F41>0,J41>F41),"À vérifier","Conforme")),"À vérifier"))
H42: =IF(A42="","",IFERROR(SUMIFS('Banque d'heures'!$N$6:$N$500,'Banque d'heures'!$C$6:$C$500,A42,'Banque d'heures'!$M$6:$M$500,"Approuvé"),0)) | I42: =IF(A42="","",IFERROR(SUMIFS('Banque d'heures'!$O$6:$O$500,'Banque d'heures'!$C$6:$C$500,A42,'Banque d'heures'!$M$6:$M$500,"Approuvé"),0)) | J42: =IF(A42="","",IFERROR(H42-I42,0)) | K42: =IF(A42="","",IF(COUNTIFS('Banque d'heures'!$C$6:$C$500,A42,'Banque d'heures'!$M$6:$M$500,"Approuvé")=0,"",MAXIFS('Banque d'heures'!$B$6:$B$500,'Banque d'heures'!$C$6:$C$500,A42,'Banque d'heures'!$M$6:$M$500,"Approuvé"))) | L42: =IF(A42="","",IFERROR(IF(J42<0,"Solde négatif",IF(AND(F42>0,J42>F42),"À vérifier","Conforme")),"À vérifier"))
H43: =IF(A43="","",IFERROR(SUMIFS('Banque d'heures'!$N$6:$N$500,'Banque d'heures'!$C$6:$C$500,A43,'Banque d'heures'!$M$6:$M$500,"Approuvé"),0)) | I43: =IF(A43="","",IFERROR(SUMIFS('Banque d'heures'!$O$6:$O$500,'Banque d'heures'!$C$6:$C$500,A43,'Banque d'heures'!$M$6:$M$500,"Approuvé"),0)) | J43: =IF(A43="","",IFERROR(H43-I43,0)) | K43: =IF(A43="","",IF(COUNTIFS('Banque d'heures'!$C$6:$C$500,A43,'Banque d'heures'!$M$6:$M$500,"Approuvé")=0,"",MAXIFS('Banque d'heures'!$B$6:$B$500,'Banque d'heures'!$C$6:$C$500,A43,'Banque d'heures'!$M$6:$M$500,"Approuvé"))) | L43: =IF(A43="","",IFERROR(IF(J43<0,"Solde négatif",IF(AND(F43>0,J43>F43),"À vérifier","Conforme")),"À vérifier"))
H44: =IF(A44="","",IFERROR(SUMIFS('Banque d'heures'!$N$6:$N$500,'Banque d'heures'!$C$6:$C$500,A44,'Banque d'heures'!$M$6:$M$500,"Approuvé"),0)) | I44: =IF(A44="","",IFERROR(SUMIFS('Banque d'heures'!$O$6:$O$500,'Banque d'heures'!$C$6:$C$500,A44,'Banque d'heures'!$M$6:$M$500,"Approuvé"),0)) | J44: =IF(A44="","",IFERROR(H44-I44,0)) | K44: =IF(A44="","",IF(COUNTIFS('Banque d'heures'!$C$6:$C$500,A44,'Banque d'heures'!$M$6:$M$500,"Approuvé")=0,"",MAXIFS('Banque d'heures'!$B$6:$B$500,'Banque d'heures'!$C$6:$C$500,A44,'Banque d'heures'!$M$6:$M$500,"Approuvé"))) | L44: =IF(A44="","",IFERROR(IF(J44<0,"Solde négatif",IF(AND(F44>0,J44>F44),"À vérifier","Conforme")),"À vérifier"))
H45: =IF(A45="","",IFERROR(SUMIFS('Banque d'heures'!$N$6:$N$500,'Banque d'heures'!$C$6:$C$500,A45,'Banque d'heures'!$M$6:$M$500,"Approuvé"),0)) | I45: =IF(A45="","",IFERROR(SUMIFS('Banque d'heures'!$O$6:$O$500,'Banque d'heures'!$C$6:$C$500,A45,'Banque d'heures'!$M$6:$M$500,"Approuvé"),0)) | J45: =IF(A45="","",IFERROR(H45-I45,0)) | K45: =IF(A45="","",IF(COUNTIFS('Banque d'heures'!$C$6:$C$500,A45,'Banque d'heures'!$M$6:$M$500,"Approuvé")=0,"",MAXIFS('Banque d'heures'!$B$6:$B$500,'Banque d'heures'!$C$6:$C$500,A45,'Banque d'heures'!$M$6:$M$500,"Approuvé"))) | L45: =IF(A45="","",IFERROR(IF(J45<0,"Solde négatif",IF(AND(F45>0,J45>F45),"À vérifier","Conforme")),"À vérifier"))
H46: =IF(A46="","",IFERROR(SUMIFS('Banque d'heures'!$N$6:$N$500,'Banque d'heures'!$C$6:$C$500,A46,'Banque d'heures'!$M$6:$M$500,"Approuvé"),0)) | I46: =IF(A46="","",IFERROR(SUMIFS('Banque d'heures'!$O$6:$O$500,'Banque d'heures'!$C$6:$C$500,A46,'Banque d'heures'!$M$6:$M$500,"Approuvé"),0)) | J46: =IF(A46="","",IFERROR(H46-I46,0)) | K46: =IF(A46="","",IF(COUNTIFS('Banque d'heures'!$C$6:$C$500,A46,'Banque d'heures'!$M$6:$M$500,"Approuvé")=0,"",MAXIFS('Banque d'heures'!$B$6:$B$500,'Banque d'heures'!$C$6:$C$500,A46,'Banque d'heures'!$M$6:$M$500,"Approuvé"))) | L46: =IF(A46="","",IFERROR(IF(J46<0,"Solde négatif",IF(AND(F46>0,J46>F46),"À vérifier","Conforme")),"À vérifier"))
H47: =IF(A47="","",IFERROR(SUMIFS('Banque d'heures'!$N$6:$N$500,'Banque d'heures'!$C$6:$C$500,A47,'Banque d'heures'!$M$6:$M$500,"Approuvé"),0)) | I47: =IF(A47="","",IFERROR(SUMIFS('Banque d'heures'!$O$6:$O$500,'Banque d'heures'!$C$6:$C$500,A47,'Banque d'heures'!$M$6:$M$500,"Approuvé"),0)) | J47: =IF(A47="","",IFERROR(H47-I47,0)) | K47: =IF(A47="","",IF(COUNTIFS('Banque d'heures'!$C$6:$C$500,A47,'Banque d'heures'!$M$6:$M$500,"Approuvé")=0,"",MAXIFS('Banque d'heures'!$B$6:$B$500,'Banque d'heures'!$C$6:$C$500,A47,'Banque d'heures'!$M$6:$M$500,"Approuvé"))) | L47: =IF(A47="","",IFERROR(IF(J47<0,"Solde négatif",IF(AND(F47>0,J47>F47),"À vérifier","Conforme")),"À vérifier"))
H48: =IF(A48="","",IFERROR(SUMIFS('Banque d'heures'!$N$6:$N$500,'Banque d'heures'!$C$6:$C$500,A48,'Banque d'heures'!$M$6:$M$500,"Approuvé"),0)) | I48: =IF(A48="","",IFERROR(SUMIFS('Banque d'heures'!$O$6:$O$500,'Banque d'heures'!$C$6:$C$500,A48,'Banque d'heures'!$M$6:$M$500,"Approuvé"),0)) | J48: =IF(A48="","",IFERROR(H48-I48,0)) | K48: =IF(A48="","",IF(COUNTIFS('Banque d'heures'!$C$6:$C$500,A48,'Banque d'heures'!$M$6:$M$500,"Approuvé")=0,"",MAXIFS('Banque d'heures'!$B$6:$B$500,'Banque d'heures'!$C$6:$C$500,A48,'Banque d'heures'!$M$6:$M$500,"Approuvé"))) | L48: =IF(A48="","",IFERROR(IF(J48<0,"Solde négatif",IF(AND(F48>0,J48>F48),"À vérifier","Conforme")),"À vérifier"))
H49: =IF(A49="","",IFERROR(SUMIFS('Banque d'heures'!$N$6:$N$500,'Banque d'heures'!$C$6:$C$500,A49,'Banque d'heures'!$M$6:$M$500,"Approuvé"),0)) | I49: =IF(A49="","",IFERROR(SUMIFS('Banque d'heures'!$O$6:$O$500,'Banque d'heures'!$C$6:$C$500,A49,'Banque d'heures'!$M$6:$M$500,"Approuvé"),0)) | J49: =IF(A49="","",IFERROR(H49-I49,0)) | K49: =IF(A49="","",IF(COUNTIFS('Banque d'heures'!$C$6:$C$500,A49,'Banque d'heures'!$M$6:$M$500,"Approuvé")=0,"",MAXIFS('Banque d'heures'!$B$6:$B$500,'Banque d'heures'!$C$6:$C$500,A49,'Banque d'heures'!$M$6:$M$500,"Approuvé"))) | L49: =IF(A49="","",IFERROR(IF(J49<0,"Solde négatif",IF(AND(F49>0,J49>F49),"À vérifier","Conforme")),"À vérifier"))
H50: =IF(A50="","",IFERROR(SUMIFS('Banque d'heures'!$N$6:$N$500,'Banque d'heures'!$C$6:$C$500,A50,'Banque d'heures'!$M$6:$M$500,"Approuvé"),0)) | I50: =IF(A50="","",IFERROR(SUMIFS('Banque d'heures'!$O$6:$O$500,'Banque d'heures'!$C$6:$C$500,A50,'Banque d'heures'!$M$6:$M$500,"Approuvé"),0)) | J50: =IF(A50="","",IFERROR(H50-I50,0)) | K50: =IF(A50="","",IF(COUNTIFS('Banque d'heures'!$C$6:$C$500,A50,'Banque d'heures'!$M$6:$M$500,"Approuvé")=0,"",MAXIFS('Banque d'heures'!$B$6:$B$500,'Banque d'heures'!$C$6:$C$500,A50,'Banque d'heures'!$M$6:$M$500,"Approuvé"))) | L50: =IF(A50="","",IFERROR(IF(J50<0,"Solde négatif",IF(AND(F50>0,J50>F50),"À vérifier","Conforme")),"À vérifier"))
H51: =IF(A51="","",IFERROR(SUMIFS('Banque d'heures'!$N$6:$N$500,'Banque d'heures'!$C$6:$C$500,A51,'Banque d'heures'!$M$6:$M$500,"Approuvé"),0)) | I51: =IF(A51="","",IFERROR(SUMIFS('Banque d'heures'!$O$6:$O$500,'Banque d'heures'!$C$6:$C$500,A51,'Banque d'heures'!$M$6:$M$500,"Approuvé"),0)) | J51: =IF(A51="","",IFERROR(H51-I51,0)) | K51: =IF(A51="","",IF(COUNTIFS('Banque d'heures'!$C$6:$C$500,A51,'Banque d'heures'!$M$6:$M$500,"Approuvé")=0,"",MAXIFS('Banque d'heures'!$B$6:$B$500,'Banque d'heures'!$C$6:$C$500,A51,'Banque d'heures'!$M$6:$M$500,"Approuvé"))) | L51: =IF(A51="","",IFERROR(IF(J51<0,"Solde négatif",IF(AND(F51>0,J51>F51),"À vérifier","Conforme")),"À vérifier"))
H52: =IF(A52="","",IFERROR(SUMIFS('Banque d'heures'!$N$6:$N$500,'Banque d'heures'!$C$6:$C$500,A52,'Banque d'heures'!$M$6:$M$500,"Approuvé"),0)) | I52: =IF(A52="","",IFERROR(SUMIFS('Banque d'heures'!$O$6:$O$500,'Banque d'heures'!$C$6:$C$500,A52,'Banque d'heures'!$M$6:$M$500,"Approuvé"),0)) | J52: =IF(A52="","",IFERROR(H52-I52,0)) | K52: =IF(A52="","",IF(COUNTIFS('Banque d'heures'!$C$6:$C$500,A52,'Banque d'heures'!$M$6:$M$500,"Approuvé")=0,"",MAXIFS('Banque d'heures'!$B$6:$B$500,'Banque d'heures'!$C$6:$C$500,A52,'Banque d'heures'!$M$6:$M$500,"Approuvé"))) | L52: =IF(A52="","",IFERROR(IF(J52<0,"Solde négatif",IF(AND(F52>0,J52>F52),"À vérifier","Conforme")),"À vérifier"))
H53: =IF(A53="","",IFERROR(SUMIFS('Banque d'heures'!$N$6:$N$500,'Banque d'heures'!$C$6:$C$500,A53,'Banque d'heures'!$M$6:$M$500,"Approuvé"),0)) | I53: =IF(A53="","",IFERROR(SUMIFS('Banque d'heures'!$O$6:$O$500,'Banque d'heures'!$C$6:$C$500,A53,'Banque d'heures'!$M$6:$M$500,"Approuvé"),0)) | J53: =IF(A53="","",IFERROR(H53-I53,0)) | K53: =IF(A53="","",IF(COUNTIFS('Banque d'heures'!$C$6:$C$500,A53,'Banque d'heures'!$M$6:$M$500,"Approuvé")=0,"",MAXIFS('Banque d'heures'!$B$6:$B$500,'Banque d'heures'!$C$6:$C$500,A53,'Banque d'heures'!$M$6:$M$500,"Approuvé"))) | L53: =IF(A53="","",IFERROR(IF(J53<0,"Solde négatif",IF(AND(F53>0,J53>F53),"À vérifier","Conforme")),"À vérifier"))
H54: =IF(A54="","",IFERROR(SUMIFS('Banque d'heures'!$N$6:$N$500,'Banque d'heures'!$C$6:$C$500,A54,'Banque d'heures'!$M$6:$M$500,"Approuvé"),0)) | I54: =IF(A54="","",IFERROR(SUMIFS('Banque d'heures'!$O$6:$O$500,'Banque d'heures'!$C$6:$C$500,A54,'Banque d'heures'!$M$6:$M$500,"Approuvé"),0)) | J54: =IF(A54="","",IFERROR(H54-I54,0)) | K54: =IF(A54="","",IF(COUNTIFS('Banque d'heures'!$C$6:$C$500,A54,'Banque d'heures'!$M$6:$M$500,"Approuvé")=0,"",MAXIFS('Banque d'heures'!$B$6:$B$500,'Banque d'heures'!$C$6:$C$500,A54,'Banque d'heures'!$M$6:$M$500,"Approuvé"))) | L54: =IF(A54="","",IFERROR(IF(J54<0,"Solde négatif",IF(AND(F54>0,J54>F54),"À vérifier","Conforme")),"À vérifier"))
H55: =IF(A55="","",IFERROR(SUMIFS('Banque d'heures'!$N$6:$N$500,'Banque d'heures'!$C$6:$C$500,A55,'Banque d'heures'!$M$6:$M$500,"Approuvé"),0)) | I55: =IF(A55="","",IFERROR(SUMIFS('Banque d'heures'!$O$6:$O$500,'Banque d'heures'!$C$6:$C$500,A55,'Banque d'heures'!$M$6:$M$500,"Approuvé"),0)) | J55: =IF(A55="","",IFERROR(H55-I55,0)) | K55: =IF(A55="","",IF(COUNTIFS('Banque d'heures'!$C$6:$C$500,A55,'Banque d'heures'!$M$6:$M$500,"Approuvé")=0,"",MAXIFS('Banque d'heures'!$B$6:$B$500,'Banque d'heures'!$C$6:$C$500,A55,'Banque d'heures'!$M$6:$M$500,"Approuvé"))) | L55: =IF(A55="","",IFERROR(IF(J55<0,"Solde négatif",IF(AND(F55>0,J55>F55),"À vérifier","Conforme")),"À vérifier"))
H56: =IF(A56="","",IFERROR(SUMIFS('Banque d'heures'!$N$6:$N$500,'Banque d'heures'!$C$6:$C$500,A56,'Banque d'heures'!$M$6:$M$500,"Approuvé"),0)) | I56: =IF(A56="","",IFERROR(SUMIFS('Banque d'heures'!$O$6:$O$500,'Banque d'heures'!$C$6:$C$500,A56,'Banque d'heures'!$M$6:$M$500,"Approuvé"),0)) | J56: =IF(A56="","",IFERROR(H56-I56,0)) | K56: =IF(A56="","",IF(COUNTIFS('Banque d'heures'!$C$6:$C$500,A56,'Banque d'heures'!$M$6:$M$500,"Approuvé")=0,"",MAXIFS('Banque d'heures'!$B$6:$B$500,'Banque d'heures'!$C$6:$C$500,A56,'Banque d'heures'!$M$6:$M$500,"Approuvé"))) | L56: =IF(A56="","",IFERROR(IF(J56<0,"Solde négatif",IF(AND(F56>0,J56>F56),"À vérifier","Conforme")),"À vérifier"))
H57: =IF(A57="","",IFERROR(SUMIFS('Banque d'heures'!$N$6:$N$500,'Banque d'heures'!$C$6:$C$500,A57,'Banque d'heures'!$M$6:$M$500,"Approuvé"),0)) | I57: =IF(A57="","",IFERROR(SUMIFS('Banque d'heures'!$O$6:$O$500,'Banque d'heures'!$C$6:$C$500,A57,'Banque d'heures'!$M$6:$M$500,"Approuvé"),0)) | J57: =IF(A57="","",IFERROR(H57-I57,0)) | K57: =IF(A57="","",IF(COUNTIFS('Banque d'heures'!$C$6:$C$500,A57,'Banque d'heures'!$M$6:$M$500,"Approuvé")=0,"",MAXIFS('Banque d'heures'!$B$6:$B$500,'Banque d'heures'!$C$6:$C$500,A57,'Banque d'heures'!$M$6:$M$500,"Approuvé"))) | L57: =IF(A57="","",IFERROR(IF(J57<0,"Solde négatif",IF(AND(F57>0,J57>F57),"À vérifier","Conforme")),"À vérifier"))
H58: =IF(A58="","",IFERROR(SUMIFS('Banque d'heures'!$N$6:$N$500,'Banque d'heures'!$C$6:$C$500,A58,'Banque d'heures'!$M$6:$M$500,"Approuvé"),0)) | I58: =IF(A58="","",IFERROR(SUMIFS('Banque d'heures'!$O$6:$O$500,'Banque d'heures'!$C$6:$C$500,A58,'Banque d'heures'!$M$6:$M$500,"Approuvé"),0)) | J58: =IF(A58="","",IFERROR(H58-I58,0)) | K58: =IF(A58="","",IF(COUNTIFS('Banque d'heures'!$C$6:$C$500,A58,'Banque d'heures'!$M$6:$M$500,"Approuvé")=0,"",MAXIFS('Banque d'heures'!$B$6:$B$500,'Banque d'heures'!$C$6:$C$500,A58,'Banque d'heures'!$M$6:$M$500,"Approuvé"))) | L58: =IF(A58="","",IFERROR(IF(J58<0,"Solde négatif",IF(AND(F58>0,J58>F58),"À vérifier","Conforme")),"À vérifier"))
H59: =IF(A59="","",IFERROR(SUMIFS('Banque d'heures'!$N$6:$N$500,'Banque d'heures'!$C$6:$C$500,A59,'Banque d'heures'!$M$6:$M$500,"Approuvé"),0)) | I59: =IF(A59="","",IFERROR(SUMIFS('Banque d'heures'!$O$6:$O$500,'Banque d'heures'!$C$6:$C$500,A59,'Banque d'heures'!$M$6:$M$500,"Approuvé"),0)) | J59: =IF(A59="","",IFERROR(H59-I59,0)) | K59: =IF(A59="","",IF(COUNTIFS('Banque d'heures'!$C$6:$C$500,A59,'Banque d'heures'!$M$6:$M$500,"Approuvé")=0,"",MAXIFS('Banque d'heures'!$B$6:$B$500,'Banque d'heures'!$C$6:$C$500,A59,'Banque d'heures'!$M$6:$M$500,"Approuvé"))) | L59: =IF(A59="","",IFERROR(IF(J59<0,"Solde négatif",IF(AND(F59>0,J59>F59),"À vérifier","Conforme")),"À vérifier"))
H60: =IF(A60="","",IFERROR(SUMIFS('Banque d'heures'!$N$6:$N$500,'Banque d'heures'!$C$6:$C$500,A60,'Banque d'heures'!$M$6:$M$500,"Approuvé"),0)) | I60: =IF(A60="","",IFERROR(SUMIFS('Banque d'heures'!$O$6:$O$500,'Banque d'heures'!$C$6:$C$500,A60,'Banque d'heures'!$M$6:$M$500,"Approuvé"),0)) | J60: =IF(A60="","",IFERROR(H60-I60,0)) | K60: =IF(A60="","",IF(COUNTIFS('Banque d'heures'!$C$6:$C$500,A60,'Banque d'heures'!$M$6:$M$500,"Approuvé")=0,"",MAXIFS('Banque d'heures'!$B$6:$B$500,'Banque d'heures'!$C$6:$C$500,A60,'Banque d'heures'!$M$6:$M$500,"Approuvé"))) | L60: =IF(A60="","",IFERROR(IF(J60<0,"Solde négatif",IF(AND(F60>0,J60>F60),"À vérifier","Conforme")),"À vérifier"))
H61: =IF(A61="","",IFERROR(SUMIFS('Banque d'heures'!$N$6:$N$500,'Banque d'heures'!$C$6:$C$500,A61,'Banque d'heures'!$M$6:$M$500,"Approuvé"),0)) | I61: =IF(A61="","",IFERROR(SUMIFS('Banque d'heures'!$O$6:$O$500,'Banque d'heures'!$C$6:$C$500,A61,'Banque d'heures'!$M$6:$M$500,"Approuvé"),0)) | J61: =IF(A61="","",IFERROR(H61-I61,0)) | K61: =IF(A61="","",IF(COUNTIFS('Banque d'heures'!$C$6:$C$500,A61,'Banque d'heures'!$M$6:$M$500,"Approuvé")=0,"",MAXIFS('Banque d'heures'!$B$6:$B$500,'Banque d'heures'!$C$6:$C$500,A61,'Banque d'heures'!$M$6:$M$500,"Approuvé"))) | L61: =IF(A61="","",IFERROR(IF(J61<0,"Solde négatif",IF(AND(F61>0,J61>F61),"À vérifier","Conforme")),"À vérifier"))
H62: =IF(A62="","",IFERROR(SUMIFS('Banque d'heures'!$N$6:$N$500,'Banque d'heures'!$C$6:$C$500,A62,'Banque d'heures'!$M$6:$M$500,"Approuvé"),0)) | I62: =IF(A62="","",IFERROR(SUMIFS('Banque d'heures'!$O$6:$O$500,'Banque d'heures'!$C$6:$C$500,A62,'Banque d'heures'!$M$6:$M$500,"Approuvé"),0)) | J62: =IF(A62="","",IFERROR(H62-I62,0)) | K62: =IF(A62="","",IF(COUNTIFS('Banque d'heures'!$C$6:$C$500,A62,'Banque d'heures'!$M$6:$M$500,"Approuvé")=0,"",MAXIFS('Banque d'heures'!$B$6:$B$500,'Banque d'heures'!$C$6:$C$500,A62,'Banque d'heures'!$M$6:$M$500,"Approuvé"))) | L62: =IF(A62="","",IFERROR(IF(J62<0,"Solde négatif",IF(AND(F62>0,J62>F62),"À vérifier","Conforme")),"À vérifier"))
H63: =IF(A63="","",IFERROR(SUMIFS('Banque d'heures'!$N$6:$N$500,'Banque d'heures'!$C$6:$C$500,A63,'Banque d'heures'!$M$6:$M$500,"Approuvé"),0)) | I63: =IF(A63="","",IFERROR(SUMIFS('Banque d'heures'!$O$6:$O$500,'Banque d'heures'!$C$6:$C$500,A63,'Banque d'heures'!$M$6:$M$500,"Approuvé"),0)) | J63: =IF(A63="","",IFERROR(H63-I63,0)) | K63: =IF(A63="","",IF(COUNTIFS('Banque d'heures'!$C$6:$C$500,A63,'Banque d'heures'!$M$6:$M$500,"Approuvé")=0,"",MAXIFS('Banque d'heures'!$B$6:$B$500,'Banque d'heures'!$C$6:$C$500,A63,'Banque d'heures'!$M$6:$M$500,"Approuvé"))) | L63: =IF(A63="","",IFERROR(IF(J63<0,"Solde négatif",IF(AND(F63>0,J63>F63),"À vérifier","Conforme")),"À vérifier"))
H64: =IF(A64="","",IFERROR(SUMIFS('Banque d'heures'!$N$6:$N$500,'Banque d'heures'!$C$6:$C$500,A64,'Banque d'heures'!$M$6:$M$500,"Approuvé"),0)) | I64: =IF(A64="","",IFERROR(SUMIFS('Banque d'heures'!$O$6:$O$500,'Banque d'heures'!$C$6:$C$500,A64,'Banque d'heures'!$M$6:$M$500,"Approuvé"),0)) | J64: =IF(A64="","",IFERROR(H64-I64,0)) | K64: =IF(A64="","",IF(COUNTIFS('Banque d'heures'!$C$6:$C$500,A64,'Banque d'heures'!$M$6:$M$500,"Approuvé")=0,"",MAXIFS('Banque d'heures'!$B$6:$B$500,'Banque d'heures'!$C$6:$C$500,A64,'Banque d'heures'!$M$6:$M$500,"Approuvé"))) | L64: =IF(A64="","",IFERROR(IF(J64<0,"Solde négatif",IF(AND(F64>0,J64>F64),"À vérifier","Conforme")),"À vérifier"))
H65: =IF(A65="","",IFERROR(SUMIFS('Banque d'heures'!$N$6:$N$500,'Banque d'heures'!$C$6:$C$500,A65,'Banque d'heures'!$M$6:$M$500,"Approuvé"),0)) | I65: =IF(A65="","",IFERROR(SUMIFS('Banque d'heures'!$O$6:$O$500,'Banque d'heures'!$C$6:$C$500,A65,'Banque d'heures'!$M$6:$M$500,"Approuvé"),0)) | J65: =IF(A65="","",IFERROR(H65-I65,0)) | K65: =IF(A65="","",IF(COUNTIFS('Banque d'heures'!$C$6:$C$500,A65,'Banque d'heures'!$M$6:$M$500,"Approuvé")=0,"",MAXIFS('Banque d'heures'!$B$6:$B$500,'Banque d'heures'!$C$6:$C$500,A65,'Banque d'heures'!$M$6:$M$500,"Approuvé"))) | L65: =IF(A65="","",IFERROR(IF(J65<0,"Solde négatif",IF(AND(F65>0,J65>F65),"À vérifier","Conforme")),"À vérifier"))
H66: =IF(A66="","",IFERROR(SUMIFS('Banque d'heures'!$N$6:$N$500,'Banque d'heures'!$C$6:$C$500,A66,'Banque d'heures'!$M$6:$M$500,"Approuvé"),0)) | I66: =IF(A66="","",IFERROR(SUMIFS('Banque d'heures'!$O$6:$O$500,'Banque d'heures'!$C$6:$C$500,A66,'Banque d'heures'!$M$6:$M$500,"Approuvé"),0)) | J66: =IF(A66="","",IFERROR(H66-I66,0)) | K66: =IF(A66="","",IF(COUNTIFS('Banque d'heures'!$C$6:$C$500,A66,'Banque d'heures'!$M$6:$M$500,"Approuvé")=0,"",MAXIFS('Banque d'heures'!$B$6:$B$500,'Banque d'heures'!$C$6:$C$500,A66,'Banque d'heures'!$M$6:$M$500,"Approuvé"))) | L66: =IF(A66="","",IFERROR(IF(J66<0,"Solde négatif",IF(AND(F66>0,J66>F66),"À vérifier","Conforme")),"À vérifier"))
H67: =IF(A67="","",IFERROR(SUMIFS('Banque d'heures'!$N$6:$N$500,'Banque d'heures'!$C$6:$C$500,A67,'Banque d'heures'!$M$6:$M$500,"Approuvé"),0)) | I67: =IF(A67="","",IFERROR(SUMIFS('Banque d'heures'!$O$6:$O$500,'Banque d'heures'!$C$6:$C$500,A67,'Banque d'heures'!$M$6:$M$500,"Approuvé"),0)) | J67: =IF(A67="","",IFERROR(H67-I67,0)) | K67: =IF(A67="","",IF(COUNTIFS('Banque d'heures'!$C$6:$C$500,A67,'Banque d'heures'!$M$6:$M$500,"Approuvé")=0,"",MAXIFS('Banque d'heures'!$B$6:$B$500,'Banque d'heures'!$C$6:$C$500,A67,'Banque d'heures'!$M$6:$M$500,"Approuvé"))) | L67: =IF(A67="","",IFERROR(IF(J67<0,"Solde négatif",IF(AND(F67>0,J67>F67),"À vérifier","Conforme")),"À vérifier"))
H68: =IF(A68="","",IFERROR(SUMIFS('Banque d'heures'!$N$6:$N$500,'Banque d'heures'!$C$6:$C$500,A68,'Banque d'heures'!$M$6:$M$500,"Approuvé"),0)) | I68: =IF(A68="","",IFERROR(SUMIFS('Banque d'heures'!$O$6:$O$500,'Banque d'heures'!$C$6:$C$500,A68,'Banque d'heures'!$M$6:$M$500,"Approuvé"),0)) | J68: =IF(A68="","",IFERROR(H68-I68,0)) | K68: =IF(A68="","",IF(COUNTIFS('Banque d'heures'!$C$6:$C$500,A68,'Banque d'heures'!$M$6:$M$500,"Approuvé")=0,"",MAXIFS('Banque d'heures'!$B$6:$B$500,'Banque d'heures'!$C$6:$C$500,A68,'Banque d'heures'!$M$6:$M$500,"Approuvé"))) | L68: =IF(A68="","",IFERROR(IF(J68<0,"Solde négatif",IF(AND(F68>0,J68>F68),"À vérifier","Conforme")),"À vérifier"))
H69: =IF(A69="","",IFERROR(SUMIFS('Banque d'heures'!$N$6:$N$500,'Banque d'heures'!$C$6:$C$500,A69,'Banque d'heures'!$M$6:$M$500,"Approuvé"),0)) | I69: =IF(A69="","",IFERROR(SUMIFS('Banque d'heures'!$O$6:$O$500,'Banque d'heures'!$C$6:$C$500,A69,'Banque d'heures'!$M$6:$M$500,"Approuvé"),0)) | J69: =IF(A69="","",IFERROR(H69-I69,0)) | K69: =IF(A69="","",IF(COUNTIFS('Banque d'heures'!$C$6:$C$500,A69,'Banque d'heures'!$M$6:$M$500,"Approuvé")=0,"",MAXIFS('Banque d'heures'!$B$6:$B$500,'Banque d'heures'!$C$6:$C$500,A69,'Banque d'heures'!$M$6:$M$500,"Approuvé"))) | L69: =IF(A69="","",IFERROR(IF(J69<0,"Solde négatif",IF(AND(F69>0,J69>F69),"À vérifier","Conforme")),"À vérifier"))
H70: =IF(A70="","",IFERROR(SUMIFS('Banque d'heures'!$N$6:$N$500,'Banque d'heures'!$C$6:$C$500,A70,'Banque d'heures'!$M$6:$M$500,"Approuvé"),0)) | I70: =IF(A70="","",IFERROR(SUMIFS('Banque d'heures'!$O$6:$O$500,'Banque d'heures'!$C$6:$C$500,A70,'Banque d'heures'!$M$6:$M$500,"Approuvé"),0)) | J70: =IF(A70="","",IFERROR(H70-I70,0)) | K70: =IF(A70="","",IF(COUNTIFS('Banque d'heures'!$C$6:$C$500,A70,'Banque d'heures'!$M$6:$M$500,"Approuvé")=0,"",MAXIFS('Banque d'heures'!$B$6:$B$500,'Banque d'heures'!$C$6:$C$500,A70,'Banque d'heures'!$M$6:$M$500,"Approuvé"))) | L70: =IF(A70="","",IFERROR(IF(J70<0,"Solde négatif",IF(AND(F70>0,J70>F70),"À vérifier","Conforme")),"À vérifier"))
H71: =IF(A71="","",IFERROR(SUMIFS('Banque d'heures'!$N$6:$N$500,'Banque d'heures'!$C$6:$C$500,A71,'Banque d'heures'!$M$6:$M$500,"Approuvé"),0)) | I71: =IF(A71="","",IFERROR(SUMIFS('Banque d'heures'!$O$6:$O$500,'Banque d'heures'!$C$6:$C$500,A71,'Banque d'heures'!$M$6:$M$500,"Approuvé"),0)) | J71: =IF(A71="","",IFERROR(H71-I71,0)) | K71: =IF(A71="","",IF(COUNTIFS('Banque d'heures'!$C$6:$C$500,A71,'Banque d'heures'!$M$6:$M$500,"Approuvé")=0,"",MAXIFS('Banque d'heures'!$B$6:$B$500,'Banque d'heures'!$C$6:$C$500,A71,'Banque d'heures'!$M$6:$M$500,"Approuvé"))) | L71: =IF(A71="","",IFERROR(IF(J71<0,"Solde négatif",IF(AND(F71>0,J71>F71),"À vérifier","Conforme")),"À vérifier"))
H72: =IF(A72="","",IFERROR(SUMIFS('Banque d'heures'!$N$6:$N$500,'Banque d'heures'!$C$6:$C$500,A72,'Banque d'heures'!$M$6:$M$500,"Approuvé"),0)) | I72: =IF(A72="","",IFERROR(SUMIFS('Banque d'heures'!$O$6:$O$500,'Banque d'heures'!$C$6:$C$500,A72,'Banque d'heures'!$M$6:$M$500,"Approuvé"),0)) | J72: =IF(A72="","",IFERROR(H72-I72,0)) | K72: =IF(A72="","",IF(COUNTIFS('Banque d'heures'!$C$6:$C$500,A72,'Banque d'heures'!$M$6:$M$500,"Approuvé")=0,"",MAXIFS('Banque d'heures'!$B$6:$B$500,'Banque d'heures'!$C$6:$C$500,A72,'Banque d'heures'!$M$6:$M$500,"Approuvé"))) | L72: =IF(A72="","",IFERROR(IF(J72<0,"Solde négatif",IF(AND(F72>0,J72>F72),"À vérifier","Conforme")),"À vérifier"))
H73: =IF(A73="","",IFERROR(SUMIFS('Banque d'heures'!$N$6:$N$500,'Banque d'heures'!$C$6:$C$500,A73,'Banque d'heures'!$M$6:$M$500,"Approuvé"),0)) | I73: =IF(A73="","",IFERROR(SUMIFS('Banque d'heures'!$O$6:$O$500,'Banque d'heures'!$C$6:$C$500,A73,'Banque d'heures'!$M$6:$M$500,"Approuvé"),0)) | J73: =IF(A73="","",IFERROR(H73-I73,0)) | K73: =IF(A73="","",IF(COUNTIFS('Banque d'heures'!$C$6:$C$500,A73,'Banque d'heures'!$M$6:$M$500,"Approuvé")=0,"",MAXIFS('Banque d'heures'!$B$6:$B$500,'Banque d'heures'!$C$6:$C$500,A73,'Banque d'heures'!$M$6:$M$500,"Approuvé"))) | L73: =IF(A73="","",IFERROR(IF(J73<0,"Solde négatif",IF(AND(F73>0,J73>F73),"À vérifier","Conforme")),"À vérifier"))
H74: =IF(A74="","",IFERROR(SUMIFS('Banque d'heures'!$N$6:$N$500,'Banque d'heures'!$C$6:$C$500,A74,'Banque d'heures'!$M$6:$M$500,"Approuvé"),0)) | I74: =IF(A74="","",IFERROR(SUMIFS('Banque d'heures'!$O$6:$O$500,'Banque d'heures'!$C$6:$C$500,A74,'Banque d'heures'!$M$6:$M$500,"Approuvé"),0)) | J74: =IF(A74="","",IFERROR(H74-I74,0)) | K74: =IF(A74="","",IF(COUNTIFS('Banque d'heures'!$C$6:$C$500,A74,'Banque d'heures'!$M$6:$M$500,"Approuvé")=0,"",MAXIFS('Banque d'heures'!$B$6:$B$500,'Banque d'heures'!$C$6:$C$500,A74,'Banque d'heures'!$M$6:$M$500,"Approuvé"))) | L74: =IF(A74="","",IFERROR(IF(J74<0,"Solde négatif",IF(AND(F74>0,J74>F74),"À vérifier","Conforme")),"À vérifier"))
H75: =IF(A75="","",IFERROR(SUMIFS('Banque d'heures'!$N$6:$N$500,'Banque d'heures'!$C$6:$C$500,A75,'Banque d'heures'!$M$6:$M$500,"Approuvé"),0)) | I75: =IF(A75="","",IFERROR(SUMIFS('Banque d'heures'!$O$6:$O$500,'Banque d'heures'!$C$6:$C$500,A75,'Banque d'heures'!$M$6:$M$500,"Approuvé"),0)) | J75: =IF(A75="","",IFERROR(H75-I75,0)) | K75: =IF(A75="","",IF(COUNTIFS('Banque d'heures'!$C$6:$C$500,A75,'Banque d'heures'!$M$6:$M$500,"Approuvé")=0,"",MAXIFS('Banque d'heures'!$B$6:$B$500,'Banque d'heures'!$C$6:$C$500,A75,'Banque d'heures'!$M$6:$M$500,"Approuvé"))) | L75: =IF(A75="","",IFERROR(IF(J75<0,"Solde négatif",IF(AND(F75>0,J75>F75),"À vérifier","Conforme")),"À vérifier"))
H76: =IF(A76="","",IFERROR(SUMIFS('Banque d'heures'!$N$6:$N$500,'Banque d'heures'!$C$6:$C$500,A76,'Banque d'heures'!$M$6:$M$500,"Approuvé"),0)) | I76: =IF(A76="","",IFERROR(SUMIFS('Banque d'heures'!$O$6:$O$500,'Banque d'heures'!$C$6:$C$500,A76,'Banque d'heures'!$M$6:$M$500,"Approuvé"),0)) | J76: =IF(A76="","",IFERROR(H76-I76,0)) | K76: =IF(A76="","",IF(COUNTIFS('Banque d'heures'!$C$6:$C$500,A76,'Banque d'heures'!$M$6:$M$500,"Approuvé")=0,"",MAXIFS('Banque d'heures'!$B$6:$B$500,'Banque d'heures'!$C$6:$C$500,A76,'Banque d'heures'!$M$6:$M$500,"Approuvé"))) | L76: =IF(A76="","",IFERROR(IF(J76<0,"Solde négatif",IF(AND(F76>0,J76>F76),"À vérifier","Conforme")),"À vérifier"))
H77: =IF(A77="","",IFERROR(SUMIFS('Banque d'heures'!$N$6:$N$500,'Banque d'heures'!$C$6:$C$500,A77,'Banque d'heures'!$M$6:$M$500,"Approuvé"),0)) | I77: =IF(A77="","",IFERROR(SUMIFS('Banque d'heures'!$O$6:$O$500,'Banque d'heures'!$C$6:$C$500,A77,'Banque d'heures'!$M$6:$M$500,"Approuvé"),0)) | J77: =IF(A77="","",IFERROR(H77-I77,0)) | K77: =IF(A77="","",IF(COUNTIFS('Banque d'heures'!$C$6:$C$500,A77,'Banque d'heures'!$M$6:$M$500,"Approuvé")=0,"",MAXIFS('Banque d'heures'!$B$6:$B$500,'Banque d'heures'!$C$6:$C$500,A77,'Banque d'heures'!$M$6:$M$500,"Approuvé"))) | L77: =IF(A77="","",IFERROR(IF(J77<0,"Solde négatif",IF(AND(F77>0,J77>F77),"À vérifier","Conforme")),"À vérifier"))
H78: =IF(A78="","",IFERROR(SUMIFS('Banque d'heures'!$N$6:$N$500,'Banque d'heures'!$C$6:$C$500,A78,'Banque d'heures'!$M$6:$M$500,"Approuvé"),0)) | I78: =IF(A78="","",IFERROR(SUMIFS('Banque d'heures'!$O$6:$O$500,'Banque d'heures'!$C$6:$C$500,A78,'Banque d'heures'!$M$6:$M$500,"Approuvé"),0)) | J78: =IF(A78="","",IFERROR(H78-I78,0)) | K78: =IF(A78="","",IF(COUNTIFS('Banque d'heures'!$C$6:$C$500,A78,'Banque d'heures'!$M$6:$M$500,"Approuvé")=0,"",MAXIFS('Banque d'heures'!$B$6:$B$500,'Banque d'heures'!$C$6:$C$500,A78,'Banque d'heures'!$M$6:$M$500,"Approuvé"))) | L78: =IF(A78="","",IFERROR(IF(J78<0,"Solde négatif",IF(AND(F78>0,J78>F78),"À vérifier","Conforme")),"À vérifier"))
H79: =IF(A79="","",IFERROR(SUMIFS('Banque d'heures'!$N$6:$N$500,'Banque d'heures'!$C$6:$C$500,A79,'Banque d'heures'!$M$6:$M$500,"Approuvé"),0)) | I79: =IF(A79="","",IFERROR(SUMIFS('Banque d'heures'!$O$6:$O$500,'Banque d'heures'!$C$6:$C$500,A79,'Banque d'heures'!$M$6:$M$500,"Approuvé"),0)) | J79: =IF(A79="","",IFERROR(H79-I79,0)) | K79: =IF(A79="","",IF(COUNTIFS('Banque d'heures'!$C$6:$C$500,A79,'Banque d'heures'!$M$6:$M$500,"Approuvé")=0,"",MAXIFS('Banque d'heures'!$B$6:$B$500,'Banque d'heures'!$C$6:$C$500,A79,'Banque d'heures'!$M$6:$M$500,"Approuvé"))) | L79: =IF(A79="","",IFERROR(IF(J79<0,"Solde négatif",IF(AND(F79>0,J79>F79),"À vérifier","Conforme")),"À vérifier"))
H80: =IF(A80="","",IFERROR(SUMIFS('Banque d'heures'!$N$6:$N$500,'Banque d'heures'!$C$6:$C$500,A80,'Banque d'heures'!$M$6:$M$500,"Approuvé"),0)) | I80: =IF(A80="","",IFERROR(SUMIFS('Banque d'heures'!$O$6:$O$500,'Banque d'heures'!$C$6:$C$500,A80,'Banque d'heures'!$M$6:$M$500,"Approuvé"),0)) | J80: =IF(A80="","",IFERROR(H80-I80,0)) | K80: =IF(A80="","",IF(COUNTIFS('Banque d'heures'!$C$6:$C$500,A80,'Banque d'heures'!$M$6:$M$500,"Approuvé")=0,"",MAXIFS('Banque d'heures'!$B$6:$B$500,'Banque d'heures'!$C$6:$C$500,A80,'Banque d'heures'!$M$6:$M$500,"Approuvé"))) | L80: =IF(A80="","",IFERROR(IF(J80<0,"Solde négatif",IF(AND(F80>0,J80>F80),"À vérifier","Conforme")),"À vérifier"))
H81: =IF(A81="","",IFERROR(SUMIFS('Banque d'heures'!$N$6:$N$500,'Banque d'heures'!$C$6:$C$500,A81,'Banque d'heures'!$M$6:$M$500,"Approuvé"),0)) | I81: =IF(A81="","",IFERROR(SUMIFS('Banque d'heures'!$O$6:$O$500,'Banque d'heures'!$C$6:$C$500,A81,'Banque d'heures'!$M$6:$M$500,"Approuvé"),0)) | J81: =IF(A81="","",IFERROR(H81-I81,0)) | K81: =IF(A81="","",IF(COUNTIFS('Banque d'heures'!$C$6:$C$500,A81,'Banque d'heures'!$M$6:$M$500,"Approuvé")=0,"",MAXIFS('Banque d'heures'!$B$6:$B$500,'Banque d'heures'!$C$6:$C$500,A81,'Banque d'heures'!$M$6:$M$500,"Approuvé"))) | L81: =IF(A81="","",IFERROR(IF(J81<0,"Solde négatif",IF(AND(F81>0,J81>F81),"À vérifier","Conforme")),"À vérifier"))
H82: =IF(A82="","",IFERROR(SUMIFS('Banque d'heures'!$N$6:$N$500,'Banque d'heures'!$C$6:$C$500,A82,'Banque d'heures'!$M$6:$M$500,"Approuvé"),0)) | I82: =IF(A82="","",IFERROR(SUMIFS('Banque d'heures'!$O$6:$O$500,'Banque d'heures'!$C$6:$C$500,A82,'Banque d'heures'!$M$6:$M$500,"Approuvé"),0)) | J82: =IF(A82="","",IFERROR(H82-I82,0)) | K82: =IF(A82="","",IF(COUNTIFS('Banque d'heures'!$C$6:$C$500,A82,'Banque d'heures'!$M$6:$M$500,"Approuvé")=0,"",MAXIFS('Banque d'heures'!$B$6:$B$500,'Banque d'heures'!$C$6:$C$500,A82,'Banque d'heures'!$M$6:$M$500,"Approuvé"))) | L82: =IF(A82="","",IFERROR(IF(J82<0,"Solde négatif",IF(AND(F82>0,J82>F82),"À vérifier","Conforme")),"À vérifier"))
H83: =IF(A83="","",IFERROR(SUMIFS('Banque d'heures'!$N$6:$N$500,'Banque d'heures'!$C$6:$C$500,A83,'Banque d'heures'!$M$6:$M$500,"Approuvé"),0)) | I83: =IF(A83="","",IFERROR(SUMIFS('Banque d'heures'!$O$6:$O$500,'Banque d'heures'!$C$6:$C$500,A83,'Banque d'heures'!$M$6:$M$500,"Approuvé"),0)) | J83: =IF(A83="","",IFERROR(H83-I83,0)) | K83: =IF(A83="","",IF(COUNTIFS('Banque d'heures'!$C$6:$C$500,A83,'Banque d'heures'!$M$6:$M$500,"Approuvé")=0,"",MAXIFS('Banque d'heures'!$B$6:$B$500,'Banque d'heures'!$C$6:$C$500,A83,'Banque d'heures'!$M$6:$M$500,"Approuvé"))) | L83: =IF(A83="","",IFERROR(IF(J83<0,"Solde négatif",IF(AND(F83>0,J83>F83),"À vérifier","Conforme")),"À vérifier"))
H84: =IF(A84="","",IFERROR(SUMIFS('Banque d'heures'!$N$6:$N$500,'Banque d'heures'!$C$6:$C$500,A84,'Banque d'heures'!$M$6:$M$500,"Approuvé"),0)) | I84: =IF(A84="","",IFERROR(SUMIFS('Banque d'heures'!$O$6:$O$500,'Banque d'heures'!$C$6:$C$500,A84,'Banque d'heures'!$M$6:$M$500,"Approuvé"),0)) | J84: =IF(A84="","",IFERROR(H84-I84,0)) | K84: =IF(A84="","",IF(COUNTIFS('Banque d'heures'!$C$6:$C$500,A84,'Banque d'heures'!$M$6:$M$500,"Approuvé")=0,"",MAXIFS('Banque d'heures'!$B$6:$B$500,'Banque d'heures'!$C$6:$C$500,A84,'Banque d'heures'!$M$6:$M$500,"Approuvé"))) | L84: =IF(A84="","",IFERROR(IF(J84<0,"Solde négatif",IF(AND(F84>0,J84>F84),"À vérifier","Conforme")),"À vérifier"))
H85: =IF(A85="","",IFERROR(SUMIFS('Banque d'heures'!$N$6:$N$500,'Banque d'heures'!$C$6:$C$500,A85,'Banque d'heures'!$M$6:$M$500,"Approuvé"),0)) | I85: =IF(A85="","",IFERROR(SUMIFS('Banque d'heures'!$O$6:$O$500,'Banque d'heures'!$C$6:$C$500,A85,'Banque d'heures'!$M$6:$M$500,"Approuvé"),0)) | J85: =IF(A85="","",IFERROR(H85-I85,0)) | K85: =IF(A85="","",IF(COUNTIFS('Banque d'heures'!$C$6:$C$500,A85,'Banque d'heures'!$M$6:$M$500,"Approuvé")=0,"",MAXIFS('Banque d'heures'!$B$6:$B$500,'Banque d'heures'!$C$6:$C$500,A85,'Banque d'heures'!$M$6:$M$500,"Approuvé"))) | L85: =IF(A85="","",IFERROR(IF(J85<0,"Solde négatif",IF(AND(F85>0,J85>F85),"À vérifier","Conforme")),"À vérifier"))
H86: =IF(A86="","",IFERROR(SUMIFS('Banque d'heures'!$N$6:$N$500,'Banque d'heures'!$C$6:$C$500,A86,'Banque d'heures'!$M$6:$M$500,"Approuvé"),0)) | I86: =IF(A86="","",IFERROR(SUMIFS('Banque d'heures'!$O$6:$O$500,'Banque d'heures'!$C$6:$C$500,A86,'Banque d'heures'!$M$6:$M$500,"Approuvé"),0)) | J86: =IF(A86="","",IFERROR(H86-I86,0)) | K86: =IF(A86="","",IF(COUNTIFS('Banque d'heures'!$C$6:$C$500,A86,'Banque d'heures'!$M$6:$M$500,"Approuvé")=0,"",MAXIFS('Banque d'heures'!$B$6:$B$500,'Banque d'heures'!$C$6:$C$500,A86,'Banque d'heures'!$M$6:$M$500,"Approuvé"))) | L86: =IF(A86="","",IFERROR(IF(J86<0,"Solde négatif",IF(AND(F86>0,J86>F86),"À vérifier","Conforme")),"À vérifier"))
H87: =IF(A87="","",IFERROR(SUMIFS('Banque d'heures'!$N$6:$N$500,'Banque d'heures'!$C$6:$C$500,A87,'Banque d'heures'!$M$6:$M$500,"Approuvé"),0)) | I87: =IF(A87="","",IFERROR(SUMIFS('Banque d'heures'!$O$6:$O$500,'Banque d'heures'!$C$6:$C$500,A87,'Banque d'heures'!$M$6:$M$500,"Approuvé"),0)) | J87: =IF(A87="","",IFERROR(H87-I87,0)) | K87: =IF(A87="","",IF(COUNTIFS('Banque d'heures'!$C$6:$C$500,A87,'Banque d'heures'!$M$6:$M$500,"Approuvé")=0,"",MAXIFS('Banque d'heures'!$B$6:$B$500,'Banque d'heures'!$C$6:$C$500,A87,'Banque d'heures'!$M$6:$M$500,"Approuvé"))) | L87: =IF(A87="","",IFERROR(IF(J87<0,"Solde négatif",IF(AND(F87>0,J87>F87),"À vérifier","Conforme")),"À vérifier"))
H88: =IF(A88="","",IFERROR(SUMIFS('Banque d'heures'!$N$6:$N$500,'Banque d'heures'!$C$6:$C$500,A88,'Banque d'heures'!$M$6:$M$500,"Approuvé"),0)) | I88: =IF(A88="","",IFERROR(SUMIFS('Banque d'heures'!$O$6:$O$500,'Banque d'heures'!$C$6:$C$500,A88,'Banque d'heures'!$M$6:$M$500,"Approuvé"),0)) | J88: =IF(A88="","",IFERROR(H88-I88,0)) | K88: =IF(A88="","",IF(COUNTIFS('Banque d'heures'!$C$6:$C$500,A88,'Banque d'heures'!$M$6:$M$500,"Approuvé")=0,"",MAXIFS('Banque d'heures'!$B$6:$B$500,'Banque d'heures'!$C$6:$C$500,A88,'Banque d'heures'!$M$6:$M$500,"Approuvé"))) | L88: =IF(A88="","",IFERROR(IF(J88<0,"Solde négatif",IF(AND(F88>0,J88>F88),"À vérifier","Conforme")),"À vérifier"))
H89: =IF(A89="","",IFERROR(SUMIFS('Banque d'heures'!$N$6:$N$500,'Banque d'heures'!$C$6:$C$500,A89,'Banque d'heures'!$M$6:$M$500,"Approuvé"),0)) | I89: =IF(A89="","",IFERROR(SUMIFS('Banque d'heures'!$O$6:$O$500,'Banque d'heures'!$C$6:$C$500,A89,'Banque d'heures'!$M$6:$M$500,"Approuvé"),0)) | J89: =IF(A89="","",IFERROR(H89-I89,0)) | K89: =IF(A89="","",IF(COUNTIFS('Banque d'heures'!$C$6:$C$500,A89,'Banque d'heures'!$M$6:$M$500,"Approuvé")=0,"",MAXIFS('Banque d'heures'!$B$6:$B$500,'Banque d'heures'!$C$6:$C$500,A89,'Banque d'heures'!$M$6:$M$500,"Approuvé"))) | L89: =IF(A89="","",IFERROR(IF(J89<0,"Solde négatif",IF(AND(F89>0,J89>F89),"À vérifier","Conforme")),"À vérifier"))
H90: =IF(A90="","",IFERROR(SUMIFS('Banque d'heures'!$N$6:$N$500,'Banque d'heures'!$C$6:$C$500,A90,'Banque d'heures'!$M$6:$M$500,"Approuvé"),0)) | I90: =IF(A90="","",IFERROR(SUMIFS('Banque d'heures'!$O$6:$O$500,'Banque d'heures'!$C$6:$C$500,A90,'Banque d'heures'!$M$6:$M$500,"Approuvé"),0)) | J90: =IF(A90="","",IFERROR(H90-I90,0)) | K90: =IF(A90="","",IF(COUNTIFS('Banque d'heures'!$C$6:$C$500,A90,'Banque d'heures'!$M$6:$M$500,"Approuvé")=0,"",MAXIFS('Banque d'heures'!$B$6:$B$500,'Banque d'heures'!$C$6:$C$500,A90,'Banque d'heures'!$M$6:$M$500,"Approuvé"))) | L90: =IF(A90="","",IFERROR(IF(J90<0,"Solde négatif",IF(AND(F90>0,J90>F90),"À vérifier","Conforme")),"À vérifier"))
H91: =IF(A91="","",IFERROR(SUMIFS('Banque d'heures'!$N$6:$N$500,'Banque d'heures'!$C$6:$C$500,A91,'Banque d'heures'!$M$6:$M$500,"Approuvé"),0)) | I91: =IF(A91="","",IFERROR(SUMIFS('Banque d'heures'!$O$6:$O$500,'Banque d'heures'!$C$6:$C$500,A91,'Banque d'heures'!$M$6:$M$500,"Approuvé"),0)) | J91: =IF(A91="","",IFERROR(H91-I91,0)) | K91: =IF(A91="","",IF(COUNTIFS('Banque d'heures'!$C$6:$C$500,A91,'Banque d'heures'!$M$6:$M$500,"Approuvé")=0,"",MAXIFS('Banque d'heures'!$B$6:$B$500,'Banque d'heures'!$C$6:$C$500,A91,'Banque d'heures'!$M$6:$M$500,"Approuvé"))) | L91: =IF(A91="","",IFERROR(IF(J91<0,"Solde négatif",IF(AND(F91>0,J91>F91),"À vérifier","Conforme")),"À vérifier"))
H92: =IF(A92="","",IFERROR(SUMIFS('Banque d'heures'!$N$6:$N$500,'Banque d'heures'!$C$6:$C$500,A92,'Banque d'heures'!$M$6:$M$500,"Approuvé"),0)) | I92: =IF(A92="","",IFERROR(SUMIFS('Banque d'heures'!$O$6:$O$500,'Banque d'heures'!$C$6:$C$500,A92,'Banque d'heures'!$M$6:$M$500,"Approuvé"),0)) | J92: =IF(A92="","",IFERROR(H92-I92,0)) | K92: =IF(A92="","",IF(COUNTIFS('Banque d'heures'!$C$6:$C$500,A92,'Banque d'heures'!$M$6:$M$500,"Approuvé")=0,"",MAXIFS('Banque d'heures'!$B$6:$B$500,'Banque d'heures'!$C$6:$C$500,A92,'Banque d'heures'!$M$6:$M$500,"Approuvé"))) | L92: =IF(A92="","",IFERROR(IF(J92<0,"Solde négatif",IF(AND(F92>0,J92>F92),"À vérifier","Conforme")),"À vérifier"))
H93: =IF(A93="","",IFERROR(SUMIFS('Banque d'heures'!$N$6:$N$500,'Banque d'heures'!$C$6:$C$500,A93,'Banque d'heures'!$M$6:$M$500,"Approuvé"),0)) | I93: =IF(A93="","",IFERROR(SUMIFS('Banque d'heures'!$O$6:$O$500,'Banque d'heures'!$C$6:$C$500,A93,'Banque d'heures'!$M$6:$M$500,"Approuvé"),0)) | J93: =IF(A93="","",IFERROR(H93-I93,0)) | K93: =IF(A93="","",IF(COUNTIFS('Banque d'heures'!$C$6:$C$500,A93,'Banque d'heures'!$M$6:$M$500,"Approuvé")=0,"",MAXIFS('Banque d'heures'!$B$6:$B$500,'Banque d'heures'!$C$6:$C$500,A93,'Banque d'heures'!$M$6:$M$500,"Approuvé"))) | L93: =IF(A93="","",IFERROR(IF(J93<0,"Solde négatif",IF(AND(F93>0,J93>F93),"À vérifier","Conforme")),"À vérifier"))
H94: =IF(A94="","",IFERROR(SUMIFS('Banque d'heures'!$N$6:$N$500,'Banque d'heures'!$C$6:$C$500,A94,'Banque d'heures'!$M$6:$M$500,"Approuvé"),0)) | I94: =IF(A94="","",IFERROR(SUMIFS('Banque d'heures'!$O$6:$O$500,'Banque d'heures'!$C$6:$C$500,A94,'Banque d'heures'!$M$6:$M$500,"Approuvé"),0)) | J94: =IF(A94="","",IFERROR(H94-I94,0)) | K94: =IF(A94="","",IF(COUNTIFS('Banque d'heures'!$C$6:$C$500,A94,'Banque d'heures'!$M$6:$M$500,"Approuvé")=0,"",MAXIFS('Banque d'heures'!$B$6:$B$500,'Banque d'heures'!$C$6:$C$500,A94,'Banque d'heures'!$M$6:$M$500,"Approuvé"))) | L94: =IF(A94="","",IFERROR(IF(J94<0,"Solde négatif",IF(AND(F94>0,J94>F94),"À vérifier","Conforme")),"À vérifier"))
H95: =IF(A95="","",IFERROR(SUMIFS('Banque d'heures'!$N$6:$N$500,'Banque d'heures'!$C$6:$C$500,A95,'Banque d'heures'!$M$6:$M$500,"Approuvé"),0)) | I95: =IF(A95="","",IFERROR(SUMIFS('Banque d'heures'!$O$6:$O$500,'Banque d'heures'!$C$6:$C$500,A95,'Banque d'heures'!$M$6:$M$500,"Approuvé"),0)) | J95: =IF(A95="","",IFERROR(H95-I95,0)) | K95: =IF(A95="","",IF(COUNTIFS('Banque d'heures'!$C$6:$C$500,A95,'Banque d'heures'!$M$6:$M$500,"Approuvé")=0,"",MAXIFS('Banque d'heures'!$B$6:$B$500,'Banque d'heures'!$C$6:$C$500,A95,'Banque d'heures'!$M$6:$M$500,"Approuvé"))) | L95: =IF(A95="","",IFERROR(IF(J95<0,"Solde négatif",IF(AND(F95>0,J95>F95),"À vérifier","Conforme")),"À vérifier"))
H96: =IF(A96="","",IFERROR(SUMIFS('Banque d'heures'!$N$6:$N$500,'Banque d'heures'!$C$6:$C$500,A96,'Banque d'heures'!$M$6:$M$500,"Approuvé"),0)) | I96: =IF(A96="","",IFERROR(SUMIFS('Banque d'heures'!$O$6:$O$500,'Banque d'heures'!$C$6:$C$500,A96,'Banque d'heures'!$M$6:$M$500,"Approuvé"),0)) | J96: =IF(A96="","",IFERROR(H96-I96,0)) | K96: =IF(A96="","",IF(COUNTIFS('Banque d'heures'!$C$6:$C$500,A96,'Banque d'heures'!$M$6:$M$500,"Approuvé")=0,"",MAXIFS('Banque d'heures'!$B$6:$B$500,'Banque d'heures'!$C$6:$C$500,A96,'Banque d'heures'!$M$6:$M$500,"Approuvé"))) | L96: =IF(A96="","",IFERROR(IF(J96<0,"Solde négatif",IF(AND(F96>0,J96>F96),"À vérifier","Conforme")),"À vérifier"))
H97: =IF(A97="","",IFERROR(SUMIFS('Banque d'heures'!$N$6:$N$500,'Banque d'heures'!$C$6:$C$500,A97,'Banque d'heures'!$M$6:$M$500,"Approuvé"),0)) | I97: =IF(A97="","",IFERROR(SUMIFS('Banque d'heures'!$O$6:$O$500,'Banque d'heures'!$C$6:$C$500,A97,'Banque d'heures'!$M$6:$M$500,"Approuvé"),0)) | J97: =IF(A97="","",IFERROR(H97-I97,0)) | K97: =IF(A97="","",IF(COUNTIFS('Banque d'heures'!$C$6:$C$500,A97,'Banque d'heures'!$M$6:$M$500,"Approuvé")=0,"",MAXIFS('Banque d'heures'!$B$6:$B$500,'Banque d'heures'!$C$6:$C$500,A97,'Banque d'heures'!$M$6:$M$500,"Approuvé"))) | L97: =IF(A97="","",IFERROR(IF(J97<0,"Solde négatif",IF(AND(F97>0,J97>F97),"À vérifier","Conforme")),"À vérifier"))
H98: =IF(A98="","",IFERROR(SUMIFS('Banque d'heures'!$N$6:$N$500,'Banque d'heures'!$C$6:$C$500,A98,'Banque d'heures'!$M$6:$M$500,"Approuvé"),0)) | I98: =IF(A98="","",IFERROR(SUMIFS('Banque d'heures'!$O$6:$O$500,'Banque d'heures'!$C$6:$C$500,A98,'Banque d'heures'!$M$6:$M$500,"Approuvé"),0)) | J98: =IF(A98="","",IFERROR(H98-I98,0)) | K98: =IF(A98="","",IF(COUNTIFS('Banque d'heures'!$C$6:$C$500,A98,'Banque d'heures'!$M$6:$M$500,"Approuvé")=0,"",MAXIFS('Banque d'heures'!$B$6:$B$500,'Banque d'heures'!$C$6:$C$500,A98,'Banque d'heures'!$M$6:$M$500,"Approuvé"))) | L98: =IF(A98="","",IFERROR(IF(J98<0,"Solde négatif",IF(AND(F98>0,J98>F98),"À vérifier","Conforme")),"À vérifier"))
H99: =IF(A99="","",IFERROR(SUMIFS('Banque d'heures'!$N$6:$N$500,'Banque d'heures'!$C$6:$C$500,A99,'Banque d'heures'!$M$6:$M$500,"Approuvé"),0)) | I99: =IF(A99="","",IFERROR(SUMIFS('Banque d'heures'!$O$6:$O$500,'Banque d'heures'!$C$6:$C$500,A99,'Banque d'heures'!$M$6:$M$500,"Approuvé"),0)) | J99: =IF(A99="","",IFERROR(H99-I99,0)) | K99: =IF(A99="","",IF(COUNTIFS('Banque d'heures'!$C$6:$C$500,A99,'Banque d'heures'!$M$6:$M$500,"Approuvé")=0,"",MAXIFS('Banque d'heures'!$B$6:$B$500,'Banque d'heures'!$C$6:$C$500,A99,'Banque d'heures'!$M$6:$M$500,"Approuvé"))) | L99: =IF(A99="","",IFERROR(IF(J99<0,"Solde négatif",IF(AND(F99>0,J99>F99),"À vérifier","Conforme")),"À vérifier"))
H100: =IF(A100="","",IFERROR(SUMIFS('Banque d'heures'!$N$6:$N$500,'Banque d'heures'!$C$6:$C$500,A100,'Banque d'heures'!$M$6:$M$500,"Approuvé"),0)) | I100: =IF(A100="","",IFERROR(SUMIFS('Banque d'heures'!$O$6:$O$500,'Banque d'heures'!$C$6:$C$500,A100,'Banque d'heures'!$M$6:$M$500,"Approuvé"),0)) | J100: =IF(A100="","",IFERROR(H100-I100,0)) | K100: =IF(A100="","",IF(COUNTIFS('Banque d'heures'!$C$6:$C$500,A100,'Banque d'heures'!$M$6:$M$500,"Approuvé")=0,"",MAXIFS('Banque d'heures'!$B$6:$B$500,'Banque d'heures'!$C$6:$C$500,A100,'Banque d'heures'!$M$6:$M$500,"Approuvé"))) | L100: =IF(A100="","",IFERROR(IF(J100<0,"Solde négatif",IF(AND(F100>0,J100>F100),"À vérifier","Conforme")),"À vérifier"))
H101: =IF(A101="","",IFERROR(SUMIFS('Banque d'heures'!$N$6:$N$500,'Banque d'heures'!$C$6:$C$500,A101,'Banque d'heures'!$M$6:$M$500,"Approuvé"),0)) | I101: =IF(A101="","",IFERROR(SUMIFS('Banque d'heures'!$O$6:$O$500,'Banque d'heures'!$C$6:$C$500,A101,'Banque d'heures'!$M$6:$M$500,"Approuvé"),0)) | J101: =IF(A101="","",IFERROR(H101-I101,0)) | K101: =IF(A101="","",IF(COUNTIFS('Banque d'heures'!$C$6:$C$500,A101,'Banque d'heures'!$M$6:$M$500,"Approuvé")=0,"",MAXIFS('Banque d'heures'!$B$6:$B$500,'Banque d'heures'!$C$6:$C$500,A101,'Banque d'heures'!$M$6:$M$500,"Approuvé"))) | L101: =IF(A101="","",IFERROR(IF(J101<0,"Solde négatif",IF(AND(F101>0,J101>F101),"À vérifier","Conforme")),"À vérifier"))

Sheet Paramètres
A1: Paramètres administratifs — Banque d’heures
A2: Modifier uniquement les cellules jaunes selon les politiques internes de l’entreprise.
A3: Ce modèle est un outil de suivi administratif. Valider les règles applicables auprès de la personne responsable de la paie, des normes du travail ou d’un conseiller professionnel lorsque requis.
A5: Paramètre | B5: Valeur | C5: Description
A6: Limite interne par défaut d’heures | B6: 40 | C6: Valeur de référence administrative. Les limites individuelles de la feuille Employés ont priorité lorsqu’elles sont saisies.
A7: Heures hebdomadaires de référence | B7: 37.5 | C7: Valeur de référence pour la planification interne seulement.
A8: Devise de référence | B8: CAD | C8: Dollars canadiens. Aucune conversion de devise n’est effectuée dans ce modèle.
A9: Format de date recommandé | B9: AAAA-MM-JJ | C9: Format ISO recommandé au Québec.
A10: Responsable du modèle | B10: Administration | C10: Personne ou équipe responsable de l’entretien du classeur.
A14: Types de mouvement | B14: Statuts | C14: Statuts d’employé | D14: Approbateurs
A15: Accumulation | B15: En attente | C15: Actif | D15: Marie-Claude Gagnon
A16: Reprise | B16: Approuvé | C16: Inactif | D16: Jean-François Roy
A17: Ajustement crédit | B17: Refusé | D17: Administration
A18: Ajustement débit | D18: À confirmer
