Workbook

Sheet Tableau de bord
A1: Tableau de bord — Banque d’heures
A2: Suivi administratif des heures accumulées, reprises et ajustées
G3: Dernière mise à jour | H3: =TODAY()
A5: Employés actifs | C5: Heures accumulées approuvées | E5: Heures reprises approuvées | G5: Solde collectif
A6: =COUNTIF(Employés!$G$6:$G$101,"Actif") | C6: =SUMIFS('Banque d'heures'!$N$6:$N$500,'Banque d'heures'!$M$6:$M$500,"Approuvé") | E6: =SUMIFS('Banque d'heures'!$O$6:$O$500,'Banque d'heures'!$M$6:$M$500,"Approuvé") | G6: =SUM(Employés!$J$6:$J$101)
A7: Mouvements en attente | C7: Employés avec solde négatif | E7: Limites internes dépassées | G7: Heures à approuver
A8: =COUNTIF('Banque d'heures'!$M$6:$M$500,"En attente") | C8: =COUNTIF(Employés!$J$6:$J$101,"<0") | E8: =COUNTIF(Employés!$L$6:$L$101,"À vérifier") | G8: =SUMIFS('Banque d'heures'!$P$6:$P$500,'Banque d'heures'!$M$6:$M$500,"En attente")
A10: Sommaire par employé
A11: No d’employé | B11: Employé | C11: Statut | D11: Heures accumulées | E11: Heures reprises | F11: Solde actuel | G11: Contrôle
A12: =IF(Employés!A6="","",Employés!A6) | B12: =IF(Employés!A6="","",Employés!B6) | C12: =IF(Employés!A6="","",Employés!G6) | D12: =IF(Employés!A6="","",Employés!H6) | E12: =IF(Employés!A6="","",Employés!I6) | F12: =IF(Employés!A6="","",Employés!J6) | G12: =IF(Employés!A6="","",Employés!L6)
A13: =IF(Employés!A7="","",Employés!A7) | B13: =IF(Employés!A7="","",Employés!B7) | C13: =IF(Employés!A7="","",Employés!G7) | D13: =IF(Employés!A7="","",Employés!H7) | E13: =IF(Employés!A7="","",Employés!I7) | F13: =IF(Employés!A7="","",Employés!J7) | G13: =IF(Employés!A7="","",Employés!L7)
A14: =IF(Employés!A8="","",Employés!A8) | B14: =IF(Employés!A8="","",Employés!B8) | C14: =IF(Employés!A8="","",Employés!G8) | D14: =IF(Employés!A8="","",Employés!H8) | E14: =IF(Employés!A8="","",Employés!I8) | F14: =IF(Employés!A8="","",Employés!J8) | G14: =IF(Employés!A8="","",Employés!L8)
A15: =IF(Employés!A9="","",Employés!A9) | B15: =IF(Employés!A9="","",Employés!B9) | C15: =IF(Employés!A9="","",Employés!G9) | D15: =IF(Employés!A9="","",Employés!H9) | E15: =IF(Employés!A9="","",Employés!I9) | F15: =IF(Employés!A9="","",Employés!J9) | G15: =IF(Employés!A9="","",Employés!L9)
A16: =IF(Employés!A10="","",Employés!A10) | B16: =IF(Employés!A10="","",Employés!B10) | C16: =IF(Employés!A10="","",Employés!G10) | D16: =IF(Employés!A10="","",Employés!H10) | E16: =IF(Employés!A10="","",Employés!I10) | F16: =IF(Employés!A10="","",Employés!J10) | G16: =IF(Employés!A10="","",Employés!L10)
A17: =IF(Employés!A11="","",Employés!A11) | B17: =IF(Employés!A11="","",Employés!B11) | C17: =IF(Employés!A11="","",Employés!G11) | D17: =IF(Employés!A11="","",Employés!H11) | E17: =IF(Employés!A11="","",Employés!I11) | F17: =IF(Employés!A11="","",Employés!J11) | G17: =IF(Employés!A11="","",Employés!L11)
A18: =IF(Employés!A12="","",Employés!A12) | B18: =IF(Employés!A12="","",Employés!B12) | C18: =IF(Employés!A12="","",Employés!G12) | D18: =IF(Employés!A12="","",Employés!H12) | E18: =IF(Employés!A12="","",Employés!I12) | F18: =IF(Employés!A12="","",Employés!J12) | G18: =IF(Employés!A12="","",Employés!L12)
A19: =IF(Employés!A13="","",Employés!A13) | B19: =IF(Employés!A13="","",Employés!B13) | C19: =IF(Employés!A13="","",Employés!G13) | D19: =IF(Employés!A13="","",Employés!H13) | E19: =IF(Employés!A13="","",Employés!I13) | F19: =IF(Employés!A13="","",Employés!J13) | G19: =IF(Employés!A13="","",Employés!L13)
A20: =IF(Employés!A14="","",Employés!A14) | B20: =IF(Employés!A14="","",Employés!B14) | C20: =IF(Employés!A14="","",Employés!G14) | D20: =IF(Employés!A14="","",Employés!H14) | E20: =IF(Employés!A14="","",Employés!I14) | F20: =IF(Employés!A14="","",Employés!J14) | G20: =IF(Employés!A14="","",Employés!L14)
A21: =IF(Employés!A15="","",Employés!A15) | B21: =IF(Employés!A15="","",Employés!B15) | C21: =IF(Employés!A15="","",Employés!G15) | D21: =IF(Employés!A15="","",Employés!H15) | E21: =IF(Employés!A15="","",Employés!I15) | F21: =IF(Employés!A15="","",Employés!J15) | G21: =IF(Employés!A15="","",Employés!L15)
A22: =IF(Employés!A16="","",Employés!A16) | B22: =IF(Employés!A16="","",Employés!B16) | C22: =IF(Employés!A16="","",Employés!G16) | D22: =IF(Employés!A16="","",Employés!H16) | E22: =IF(Employés!A16="","",Employés!I16) | F22: =IF(Employés!A16="","",Employés!J16) | G22: =IF(Employés!A16="","",Employés!L16)
A23: =IF(Employés!A17="","",Employés!A17) | B23: =IF(Employés!A17="","",Employés!B17) | C23: =IF(Employés!A17="","",Employés!G17) | D23: =IF(Employés!A17="","",Employés!H17) | E23: =IF(Employés!A17="","",Employés!I17) | F23: =IF(Employés!A17="","",Employés!J17) | G23: =IF(Employés!A17="","",Employés!L17)
... A31: =IF(Employés!A25="","",Employés!A25) | B31: =IF(Employés!A25="","",Employés!B25) | C31: =IF(Employés!A25="","",Employés!G25) | D31: =IF(Employés!A25="","",Employés!H25) | E31: =IF(Employés!A25="","",Employés!I25) | F31: =IF(Employés!A25="","",Employés!J25) | G31: =IF(Employés!A25="","",Employés!L25)
A32: ="" | C32: ="" | D32: ="" | E32: ="" | F32: ="" | G32: =""
A33: ="" | C33: ="" | D33: ="" | E33: ="" | F33: ="" | G33: =""
A34: Contrôles administratifs | C34: ="" | D34: ="" | E34: ="" | F34: ="" | G34: =""
A35: Employés introuvables dans le registre | B35: =COUNTIF('Banque d'heures'!$D$6:$D$500,"Employé introuvable") | C35: ="" | D35: ="" | E35: ="" | F35: ="" | G35: =""
A36: Mouvements sans approbateur | B36: =COUNTIFS('Banque d'heures'!$A$6:$A$500,">0",'Banque d'heures'!$L$6:$L$500,"") | C36: ="" | D36: ="" | E36: ="" | F36: ="" | G36: =""
A37: Périodes invalides | B37: =SUMPRODUCT(--('Banque d'heures'!$G$6:$G$500<'Banque d'heures'!$F$6:$F$500)) | C37: ="" | D37: ="" | E37: ="" | F37: ="" | G37: =""
A38: ="" | B38: ="" | C38: ="" | D38: ="" | E38: ="" | F38: ="" | G38: =""
A39: ="" | B39: ="" | C39: ="" | D39: ="" | E39: ="" | F39: ="" | G39: =""
A40: ="" | B40: ="" | C40: ="" | D40: ="" | E40: ="" | F40: ="" | G40: =""
A41: ="" | B41: ="" | C41: ="" | D41: ="" | E41: ="" | F41: ="" | G41: =""
A42: ="" | B42: ="" | C42: ="" | D42: ="" | E42: ="" | F42: ="" | G42: =""
A43: ="" | B43: ="" | C43: ="" | D43: ="" | E43: ="" | F43: ="" | G43: =""
A44: ="" | B44: ="" | C44: ="" | D44: ="" | E44: ="" | F44: ="" | G44: =""
A45: ="" | B45: ="" | C45: ="" | D45: ="" | E45: ="" | F45: ="" | G45: =""
A46: ="" | B46: ="" | C46: ="" | D46: ="" | E46: ="" | F46: ="" | G46: =""
A47: ="" | B47: ="" | C47: ="" | D47: ="" | E47: ="" | F47: ="" | G47: =""
A48: ="" | B48: ="" | C48: ="" | D48: ="" | E48: ="" | F48: ="" | G48: =""
A49: ="" | B49: ="" | C49: ="" | D49: ="" | E49: ="" | F49: ="" | G49: =""
...

Sheet Banque d'heures
A1: Registre des mouvements — Banque d’heures
A2: Saisir un mouvement par ligne. Les heures créditées et débitées sont calculées selon le type de mouvement et le statut d’approbation.
A3: Les règles internes, la limite de banque et les listes de validation se trouvent dans la feuille Paramètres. Les heures doivent être saisies en format décimal, par exemple 7,50.
A5: No mouvement | B5: Date mouvement | C5: No d’employé | D5: Employé | E5: Type de mouvement | F5: Début de période | G5: Fin de période | H5: Heures planifiées | I5: Heures travaillées | J5: Heures d’ajustement | K5: Motif / référence | L5: Approbateur | M5: Statut | N5: Heures créditées | O5: Heures débitées | P5: Mouvement net
A6: 1001 | B6: 46197 | C6: EMP-001 | D6: =IF(C6="","",IFERROR(VLOOKUP(C6,Employés!$A$6:$B$101,2,FALSE),"Employé introuvable")) | E6: Accumulation | F6: 46193 | G6: 46197 | H6: 37.5 | I6: 40 | J6: 0 | K6: Livraison urgente à un client | L6: Marie-Claude Gagnon | M6: Approuvé | N6: =IF(A6="","",IFERROR(IF(M6<>"Approuvé",0,IF(E6="Accumulation",MAX(I6-H6,0),IF(E6="Ajustement crédit",J6,0))),0)) | O6: =IF(A6="","",IFERROR(IF(M6<>"Approuvé",0,IF(OR(E6="Reprise",E6="Ajustement débit"),J6,0)),0)) | P6: =IF(A6="","",IFERROR(N6-O6,0))
A7: 1002 | B7: 46204 | C7: EMP-002 | D7: =IF(C7="","",IFERROR(VLOOKUP(C7,Employés!$A$6:$B$101,2,FALSE),"Employé introuvable")) | E7: Accumulation | F7: 46200 | G7: 46204 | H7: 40 | I7: 42.5 | J7: 0 | K7: Inventaire annuel | L7: Marie-Claude Gagnon | M7: Approuvé | N7: =IF(A7="","",IFERROR(IF(M7<>"Approuvé",0,IF(E7="Accumulation",MAX(I7-H7,0),IF(E7="Ajustement crédit",J7,0))),0)) | O7: =IF(A7="","",IFERROR(IF(M7<>"Approuvé",0,IF(OR(E7="Reprise",E7="Ajustement débit"),J7,0)),0)) | P7: =IF(A7="","",IFERROR(N7-O7,0))
A8: 1003 | B8: 46211 | C8: EMP-001 | D8: =IF(C8="","",IFERROR(VLOOKUP(C8,Employés!$A$6:$B$101,2,FALSE),"Employé introuvable")) | E8: Reprise | F8: 46207 | G8: 46211 | H8: 0 | I8: 0 | J8: 3 | K8: Rendez-vous personnel | L8: Marie-Claude Gagnon | M8: Approuvé | N8: =IF(A8="","",IFERROR(IF(M8<>"Approuvé",0,IF(E8="Accumulation",MAX(I8-H8,0),IF(E8="Ajustement crédit",J8,0))),0)) | O8: =IF(A8="","",IFERROR(IF(M8<>"Approuvé",0,IF(OR(E8="Reprise",E8="Ajustement débit"),J8,0)),0)) | P8: =IF(A8="","",IFERROR(N8-O8,0))
A9: 1004 | B9: 46218 | C9: EMP-003 | D9: =IF(C9="","",IFERROR(VLOOKUP(C9,Employés!$A$6:$B$101,2,FALSE),"Employé introuvable")) | E9: Accumulation | F9: 46214 | G9: 46218 | H9: 35 | I9: 36.5 | J9: 0 | K9: Soutien à la fermeture mensuelle | L9: Jean-François Roy | M9: Approuvé | N9: =IF(A9="","",IFERROR(IF(M9<>"Approuvé",0,IF(E9="Accumulation",MAX(I9-H9,0),IF(E9="Ajustement crédit",J9,0))),0)) | O9: =IF(A9="","",IFERROR(IF(M9<>"Approuvé",0,IF(OR(E9="Reprise",E9="Ajustement débit"),J9,0)),0)) | P9: =IF(A9="","",IFERROR(N9-O9,0))
A10: 1005 | B10: 46225 | C10: EMP-002 | D10: =IF(C10="","",IFERROR(VLOOKUP(C10,Employés!$A$6:$B$101,2,FALSE),"Employé introuvable")) | E10: Reprise | F10: 46221 | G10: 46225 | H10: 0 | I10: 0 | J10: 4 | K10: Congé planifié | L10: Marie-Claude Gagnon | M10: Approuvé | N10: =IF(A10="","",IFERROR(IF(M10<>"Approuvé",0,IF(E10="Accumulation",MAX(I10-H10,0),IF(E10="Ajustement crédit",J10,0))),0)) | O10: =IF(A10="","",IFERROR(IF(M10<>"Approuvé",0,IF(OR(E10="Reprise",E10="Ajustement débit"),J10,0)),0)) | P10: =IF(A10="","",IFERROR(N10-O10,0))
A11: 1006 | B11: 46232 | C11: EMP-004 | D11: =IF(C11="","",IFERROR(VLOOKUP(C11,Employés!$A$6:$B$101,2,FALSE),"Employé introuvable")) | E11: Accumulation | F11: 46228 | G11: 46232 | H11: 37.5 | I11: 39 | J11: 0 | K11: Préparation de soumissions | L11: Jean-François Roy | M11: En attente | N11: =IF(A11="","",IFERROR(IF(M11<>"Approuvé",0,IF(E11="Accumulation",MAX(I11-H11,0),IF(E11="Ajustement crédit",J11,0))),0)) | O11: =IF(A11="","",IFERROR(IF(M11<>"Approuvé",0,IF(OR(E11="Reprise",E11="Ajustement débit"),J11,0)),0)) | P11: =IF(A11="","",IFERROR(N11-O11,0))
A12: 1007 | B12: 46239 | C12: EMP-003 | D12: =IF(C12="","",IFERROR(VLOOKUP(C12,Employés!$A$6:$B$101,2,FALSE),"Employé introuvable")) | E12: Ajustement crédit | F12: 46235 | G12: 46239 | H12: 0 | I12: 0 | J12: 1.5 | K12: Correction autorisée du registre | L12: Jean-François Roy | M12: Approuvé | N12: =IF(A12="","",IFERROR(IF(M12<>"Approuvé",0,IF(E12="Accumulation",MAX(I12-H12,0),IF(E12="Ajustement crédit",J12,0))),0)) | O12: =IF(A12="","",IFERROR(IF(M12<>"Approuvé",0,IF(OR(E12="Reprise",E12="Ajustement débit"),J12,0)),0)) | P12: =IF(A12="","",IFERROR(N12-O12,0))
A13: 1008 | B13: 46246 | C13: EMP-001 | D13: =IF(C13="","",IFERROR(VLOOKUP(C13,Employés!$A$6:$B$101,2,FALSE),"Employé introuvable")) | E13: Accumulation | F13: 46242 | G13: 46246 | H13: 37.5 | I13: 38.75 | J13: 0 | K13: Rencontre client hors horaire | L13: Marie-Claude Gagnon | M13: Approuvé | N13: =IF(A13="","",IFERROR(IF(M13<>"Approuvé",0,IF(E13="Accumulation",MAX(I13-H13,0),IF(E13="Ajustement crédit",J13,0))),0)) | O13: =IF(A13="","",IFERROR(IF(M13<>"Approuvé",0,IF(OR(E13="Reprise",E13="Ajustement débit"),J13,0)),0)) | P13: =IF(A13="","",IFERROR(N13-O13,0))
A14: 1009 | B14: 46253 | C14: EMP-004 | D14: =IF(C14="","",IFERROR(VLOOKUP(C14,Employés!$A$6:$B$101,2,FALSE),"Employé introuvable")) | E14: Ajustement débit | F14: 46249 | G14: 46253 | H14: 0 | I14: 0 | J14: 2 | K14: Correction de banque d’heures | L14: Jean-François Roy | M14: Approuvé | N14: =IF(A14="","",IFERROR(IF(M14<>"Approuvé",0,IF(E14="Accumulation",MAX(I14-H14,0),IF(E14="Ajustement crédit",J14,0))),0)) | O14: =IF(A14="","",IFERROR(IF(M14<>"Approuvé",0,IF(OR(E14="Reprise",E14="Ajustement débit"),J14,0)),0)) | P14: =IF(A14="","",IFERROR(N14-O14,0))
A15: 1010 | B15: 46260 | C15: EMP-002 | D15: =IF(C15="","",IFERROR(VLOOKUP(C15,Employés!$A$6:$B$101,2,FALSE),"Employé introuvable")) | E15: Accumulation | F15: 46256 | G15: 46260 | H15: 40 | I15: 41 | J15: 0 | K15: Formation interne en soirée | L15: Marie-Claude Gagnon | M15: Refusé | N15: =IF(A15="","",IFERROR(IF(M15<>"Approuvé",0,IF(E15="Accumulation",MAX(I15-H15,0),IF(E15="Ajustement crédit",J15,0))),0)) | O15: =IF(A15="","",IFERROR(IF(M15<>"Approuvé",0,IF(OR(E15="Reprise",E15="Ajustement débit"),J15,0)),0)) | P15: =IF(A15="","",IFERROR(N15-O15,0))
D16: =IF(C16="","",IFERROR(VLOOKUP(C16,Employés!$A$6:$B$101,2,FALSE),"Employé introuvable")) | N16: =IF(A16="","",IFERROR(IF(M16<>"Approuvé",0,IF(E16="Accumulation",MAX(I16-H16,0),IF(E16="Ajustement crédit",J16,0))),0)) | O16: =IF(A16="","",IFERROR(IF(M16<>"Approuvé",0,IF(OR(E16="Reprise",E16="Ajustement débit"),J16,0)),0)) | P16: =IF(A16="","",IFERROR(N16-O16,0))
D17: =IF(C17="","",IFERROR(VLOOKUP(C17,Employés!$A$6:$B$101,2,FALSE),"Employé introuvable")) | N17: =IF(A17="","",IFERROR(IF(M17<>"Approuvé",0,IF(E17="Accumulation",MAX(I17-H17,0),IF(E17="Ajustement crédit",J17,0))),0)) | O17: =IF(A17="","",IFERROR(IF(M17<>"Approuvé",0,IF(OR(E17="Reprise",E17="Ajustement débit"),J17,0)),0)) | P17: =IF(A17="","",IFERROR(N17-O17,0))
A18: Contrôle des totaux | D18: =IF(C18="","",IFERROR(VLOOKUP(C18,Employés!$A$6:$B$101,2,FALSE),"Employé introuvable")) | N18: =IF(A18="","",IFERROR(IF(M18<>"Approuvé",0,IF(E18="Accumulation",MAX(I18-H18,0),IF(E18="Ajustement crédit",J18,0))),0)) | O18: =IF(A18="","",IFERROR(IF(M18<>"Approuvé",0,IF(OR(E18="Reprise",E18="Ajustement débit"),J18,0)),0)) | P18: =IF(A18="","",IFERROR(N18-O18,0))
A19: Total heures créditées approuvées | B19: =SUM(N6:N500) | D19: =IF(C19="","",IFERROR(VLOOKUP(C19,Employés!$A$6:$B$101,2,FALSE),"Employé introuvable")) | N19: =IF(A19="","",IFERROR(IF(M19<>"Approuvé",0,IF(E19="Accumulation",MAX(I19-H19,0),IF(E19="Ajustement crédit",J19,0))),0)) | O19: =IF(A19="","",IFERROR(IF(M19<>"Approuvé",0,IF(OR(E19="Reprise",E19="Ajustement débit"),J19,0)),0)) | P19: =IF(A19="","",IFERROR(N19-O19,0))
A20: Total heures débitées approuvées | B20: =SUM(O6:O500) | D20: =IF(C20="","",IFERROR(VLOOKUP(C20,Employés!$A$6:$B$101,2,FALSE),"Employé introuvable")) | N20: =IF(A20="","",IFERROR(IF(M20<>"Approuvé",0,IF(E20="Accumulation",MAX(I20-H20,0),IF(E20="Ajustement crédit",J20,0))),0)) | O20: =IF(A20="","",IFERROR(IF(M20<>"Approuvé",0,IF(OR(E20="Reprise",E20="Ajustement débit"),J20,0)),0)) | P20: =IF(A20="","",IFERROR(N20-O20,0))
A21: Total net du registre | B21: =IFERROR(B19-B20,0) | D21: =IF(C21="","",IFERROR(VLOOKUP(C21,Employés!$A$6:$B$101,2,FALSE),"Employé introuvable")) | N21: =IF(A21="","",IFERROR(IF(M21<>"Approuvé",0,IF(E21="Accumulation",MAX(I21-H21,0),IF(E21="Ajustement crédit",J21,0))),0)) | O21: =IF(A21="","",IFERROR(IF(M21<>"Approuvé",0,IF(OR(E21="Reprise",E21="Ajustement débit"),J21,0)),0)) | P21: =IF(A21="","",IFERROR(N21-O21,0))
A22: Total des soldes employés | B22: =SUM(Employés!J6:J101) | D22: =IF(C22="","",IFERROR(VLOOKUP(C22,Employés!$A$6:$B$101,2,FALSE),"Employé introuvable")) | N22: =IF(A22="","",IFERROR(IF(M22<>"Approuvé",0,IF(E22="Accumulation",MAX(I22-H22,0),IF(E22="Ajustement crédit",J22,0))),0)) | O22: =IF(A22="","",IFERROR(IF(M22<>"Approuvé",0,IF(OR(E22="Reprise",E22="Ajustement débit"),J22,0)),0)) | P22: =IF(A22="","",IFERROR(N22-O22,0))
A23: Écart de contrôle | B23: =IFERROR(B21-B22,0) | D23: =IF(C23="","",IFERROR(VLOOKUP(C23,Employés!$A$6:$B$101,2,FALSE),"Employé introuvable")) | N23: =IF(A23="","",IFERROR(IF(M23<>"Approuvé",0,IF(E23="Accumulation",MAX(I23-H23,0),IF(E23="Ajustement crédit",J23,0))),0)) | O23: =IF(A23="","",IFERROR(IF(M23<>"Approuvé",0,IF(OR(E23="Reprise",E23="Ajustement débit"),J23,0)),0)) | P23: =IF(A23="","",IFERROR(N23-O23,0))
A24: Statut du contrôle | B24: =IF(B23=0,"Conforme","À vérifier") | D24: =IF(C24="","",IFERROR(VLOOKUP(C24,Employés!$A$6:$B$101,2,FALSE),"Employé introuvable")) | N24: =IF(A24="","",IFERROR(IF(M24<>"Approuvé",0,IF(E24="Accumulation",MAX(I24-H24,0),IF(E24="Ajustement crédit",J24,0))),0)) | O24: =IF(A24="","",IFERROR(IF(M24<>"Approuvé",0,IF(OR(E24="Reprise",E24="Ajustement débit"),J24,0)),0)) | P24: =IF(A24="","",IFERROR(N24-O24,0))
D25: =IF(C25="","",IFERROR(VLOOKUP(C25,Employés!$A$6:$B$101,2,FALSE),"Employé introuvable")) | N25: =IF(A25="","",IFERROR(IF(M25<>"Approuvé",0,IF(E25="Accumulation",MAX(I25-H25,0),IF(E25="Ajustement crédit",J25,0))),0)) | O25: =IF(A25="","",IFERROR(IF(M25<>"Approuvé",0,IF(OR(E25="Reprise",E25="Ajustement débit"),J25,0)),0)) | P25: =IF(A25="","",IFERROR(N25-O25,0))
D26: =IF(C26="","",IFERROR(VLOOKUP(C26,Employés!$A$6:$B$101,2,FALSE),"Employé introuvable")) | N26: =IF(A26="","",IFERROR(IF(M26<>"Approuvé",0,IF(E26="Accumulation",MAX(I26-H26,0),IF(E26="Ajustement crédit",J26,0))),0)) | O26: =IF(A26="","",IFERROR(IF(M26<>"Approuvé",0,IF(OR(E26="Reprise",E26="Ajustement débit"),J26,0)),0)) | P26: =IF(A26="","",IFERROR(N26-O26,0))
D27: =IF(C27="","",IFERROR(VLOOKUP(C27,Employés!$A$6:$B$101,2,FALSE),"Employé introuvable")) | N27: =IF(A27="","",IFERROR(IF(M27<>"Approuvé",0,IF(E27="Accumulation",MAX(I27-H27,0),IF(E27="Ajustement crédit",J27,0))),0)) | O27: =IF(A27="","",IFERROR(IF(M27<>"Approuvé",0,IF(OR(E27="Reprise",E27="Ajustement débit"),J27,0)),0)) | P27: =IF(A27="","",IFERROR(N27-O27,0))
D28: =IF(C28="","",IFERROR(VLOOKUP(C28,Employés!$A$6:$B$101,2,FALSE),"Employé introuvable")) | N28: =IF(A28="","",IFERROR(IF(M28<>"Approuvé",0,IF(E28="Accumulation",MAX(I28-H28,0),IF(E28="Ajustement crédit",J28,0))),0)) | O28: =IF(A28="","",IFERROR(IF(M28<>"Approuvé",0,IF(OR(E28="Reprise",E28="Ajustement débit"),J28,0)),0)) | P28: =IF(A28="","",IFERROR(N28-O28,0))
D29: =IF(C29="","",IFERROR(VLOOKUP(C29,Employés!$A$6:$B$101,2,FALSE),"Employé introuvable")) | N29: =IF(A29="","",IFERROR(IF(M29<>"Approuvé",0,IF(E29="Accumulation",MAX(I29-H29,0),IF(E29="Ajustement crédit",J29,0))),0)) | O29: =IF(A29="","",IFERROR(IF(M29<>"Approuvé",0,IF(OR(E29="Reprise",E29="Ajustement débit"),J29,0)),0)) | P29: =IF(A29="","",IFERROR(N29-O29,0))
D30: =IF(C30="","",IFERROR(VLOOKUP(C30,Employés!$A$6:$B$101,2,FALSE),"Employé introuvable")) | N30: =IF(A30="","",IFERROR(IF(M30<>"Approuvé",0,IF(E30="Accumulation",MAX(I30-H30,0),IF(E30="Ajustement crédit",J30,0))),0)) | O30: =IF(A30="","",IFERROR(IF(M30<>"Approuvé",0,IF(OR(E30="Reprise",E30="Ajustement débit"),J30,0)),0)) | P30: =IF(A30="","",IFERROR(N30-O30,0))
D31: =IF(C31="","",IFERROR(VLOOKUP(C31,Employés!$A$6:$B$101,2,FALSE),"Employé introuvable")) | N31: =IF(A31="","",IFERROR(IF(M31<>"Approuvé",0,IF(E31="Accumulation",MAX(I31-H31,0),IF(E31="Ajustement crédit",J31,0))),0)) | O31: =IF(A31="","",IFERROR(IF(M31<>"Approuvé",0,IF(OR(E31="Reprise",E31="Ajustement débit"),J31,0)),0)) | P31: =IF(A31="","",IFERROR(N31-O31,0))
D32: =IF(C32="","",IFERROR(VLOOKUP(C32,Employés!$A$6:$B$101,2,FALSE),"Employé introuvable")) | N32: =IF(A32="","",IFERROR(IF(M32<>"Approuvé",0,IF(E32="Accumulation",MAX(I32-H32,0),IF(E32="Ajustement crédit",J32,0))),0)) | O32: =IF(A32="","",IFERROR(IF(M32<>"Approuvé",0,IF(OR(E32="Reprise",E32="Ajustement débit"),J32,0)),0)) | P32: =IF(A32="","",IFERROR(N32-O32,0))
D33: =IF(C33="","",IFERROR(VLOOKUP(C33,Employés!$A$6:$B$101,2,FALSE),"Employé introuvable")) | N33: =IF(A33="","",IFERROR(IF(M33<>"Approuvé",0,IF(E33="Accumulation",MAX(I33-H33,0),IF(E33="Ajustement crédit",J33,0))),0)) | O33: =IF(A33="","",IFERROR(IF(M33<>"Approuvé",0,IF(OR(E33="Reprise",E33="Ajustement débit"),J33,0)),0)) | P33: =IF(A33="","",IFERROR(N33-O33,0))
D34: =IF(C34="","",IFERROR(VLOOKUP(C34,Employés!$A$6:$B$101,2,FALSE),"Employé introuvable")) | N34: =IF(A34="","",IFERROR(IF(M34<>"Approuvé",0,IF(E34="Accumulation",MAX(I34-H34,0),IF(E34="Ajustement crédit",J34,0))),0)) | O34: =IF(A34="","",IFERROR(IF(M34<>"Approuvé",0,IF(OR(E34="Reprise",E34="Ajustement débit"),J34,0)),0)) | P34: =IF(A34="","",IFERROR(N34-O34,0))
D35: =IF(C35="","",IFERROR(VLOOKUP(C35,Employés!$A$6:$B$101,2,FALSE),"Employé introuvable")) | N35: =IF(A35="","",IFERROR(IF(M35<>"Approuvé",0,IF(E35="Accumulation",MAX(I35-H35,0),IF(E35="Ajustement crédit",J35,0))),0)) | O35: =IF(A35="","",IFERROR(IF(M35<>"Approuvé",0,IF(OR(E35="Reprise",E35="Ajustement débit"),J35,0)),0)) | P35: =IF(A35="","",IFERROR(N35-O35,0))
D36: =IF(C36="","",IFERROR(VLOOKUP(C36,Employés!$A$6:$B$101,2,FALSE),"Employé introuvable")) | N36: =IF(A36="","",IFERROR(IF(M36<>"Approuvé",0,IF(E36="Accumulation",MAX(I36-H36,0),IF(E36="Ajustement crédit",J36,0))),0)) | O36: =IF(A36="","",IFERROR(IF(M36<>"Approuvé",0,IF(OR(E36="Reprise",E36="Ajustement débit"),J36,0)),0)) | P36: =IF(A36="","",IFERROR(N36-O36,0))
... D500: =IF(C500="","",IFERROR(VLOOKUP(C500,Employés!$A$6:$B$101,2,FALSE),"Employé introuvable")) | N500: =IF(A500="","",IFERROR(IF(M500<>"Approuvé",0,IF(E500="Accumulation",MAX(I500-H500,0),IF(E500="Ajustement crédit",J500,0))),0)) | O500: =IF(A500="","",IFERROR(IF(M500<>"Approuvé",0,IF(OR(E500="Reprise",E500="Ajustement débit"),J500,0)),0)) | P500: =IF(A500="","",IFERROR(N500-O500,0))

Sheet Employés
A1: Répertoire des employés et soldes de banque d’heures
A2: Ajouter les nouveaux employés dans ce tableau avant de saisir leurs mouvements dans le registre.
A3: La limite interne est facultative. Une limite à 0,00 signifie qu’aucun contrôle de plafond n’est appliqué.
A5: No d’employé | B5: Nom de l’employé | C5: Poste | D5: Date d’embauche | E5: Heures hebdomadaires prévues | F5: Limite interne d’heures | G5: Statut | H5: Heures accumulées | I5: Heures reprises | J5: Solde actuel | K5: Dernier mouvement approuvé | L5: Contrôle du solde
A6: EMP-001 | B6: Amélie Tremblay | C6: Adjointe administrative | D6: 45317 | E6: 37.5 | F6: 40 | G6: Actif | H6: =IF(A6="","",IFERROR(SUMIFS('Banque d'heures'!$N$6:$N$500,'Banque d'heures'!$C$6:$C$500,A6,'Banque d'heures'!$M$6:$M$500,"Approuvé"),0)) | I6: =IF(A6="","",IFERROR(SUMIFS('Banque d'heures'!$O$6:$O$500,'Banque d'heures'!$C$6:$C$500,A6,'Banque d'heures'!$M$6:$M$500,"Approuvé"),0)) | J6: =IF(A6="","",IFERROR(H6-I6,0)) | K6: =IF(A6="","",IF(COUNTIFS('Banque d'heures'!$C$6:$C$500,A6,'Banque d'heures'!$M$6:$M$500,"Approuvé")=0,"",MAXIFS('Banque d'heures'!$B$6:$B$500,'Banque d'heures'!$C$6:$C$500,A6,'Banque d'heures'!$M$6:$M$500,"Approuvé"))) | L6: =IF(A6="","",IFERROR(IF(J6<0,"Solde négatif",IF(AND(F6>0,J6>F6),"À vérifier","Conforme")),"À vérifier"))
A7: EMP-002 | B7: Mathieu Bouchard | C7: Coordonnateur d’entrepôt | D7: 44967 | E7: 40 | F7: 40 | G7: Actif | H7: =IF(A7="","",IFERROR(SUMIFS('Banque d'heures'!$N$6:$N$500,'Banque d'heures'!$C$6:$C$500,A7,'Banque d'heures'!$M$6:$M$500,"Approuvé"),0)) | I7: =IF(A7="","",IFERROR(SUMIFS('Banque d'heures'!$O$6:$O$500,'Banque d'heures'!$C$6:$C$500,A7,'Banque d'heures'!$M$6:$M$500,"Approuvé"),0)) | J7: =IF(A7="","",IFERROR(H7-I7,0)) | K7: =IF(A7="","",IF(COUNTIFS('Banque d'heures'!$C$6:$C$500,A7,'Banque d'heures'!$M$6:$M$500,"Approuvé")=0,"",MAXIFS('Banque d'heures'!$B$6:$B$500,'Banque d'heures'!$C$6:$C$500,A7,'Banque d'heures'!$M$6:$M$500,"Approuvé"))) | L7: =IF(A7="","",IFERROR(IF(J7<0,"Solde négatif",IF(AND(F7>0,J7>F7),"À vérifier","Conforme")),"À vérifier"))
A8: EMP-003 | B8: Karine Gauthier | C8: Technicienne comptable | D8: 45527 | E8: 35 | F8: 35 | G8: Actif | H8: =IF(A8="","",IFERROR(SUMIFS('Banque d'heures'!$N$6:$N$500,'Banque d'heures'!$C$6:$C$500,A8,'Banque d'heures'!$M$6:$M$500,"Approuvé"),0)) | I8: =IF(A8="","",IFERROR(SUMIFS('Banque d'heures'!$O$6:$O$500,'Banque d'heures'!$C$6:$C$500,A8,'Banque d'heures'!$M$6:$M$500,"Approuvé"),0)) | J8: =IF(A8="","",IFERROR(H8-I8,0)) | K8: =IF(A8="","",IF(COUNTIFS('Banque d'heures'!$C$6:$C$500,A8,'Banque d'heures'!$M$6:$M$500,"Approuvé")=0,"",MAXIFS('Banque d'heures'!$B$6:$B$500,'Banque d'heures'!$C$6:$C$500,A8,'Banque d'heures'!$M$6:$M$500,"Approuvé"))) | L8: =IF(A8="","",IFERROR(IF(J8<0,"Solde négatif",IF(AND(F8>0,J8>F8),"À vérifier","Conforme")),"À vérifier"))
A9: EMP-004 | B9: Samuel Pelletier | C9: Représentant aux ventes | D9: 45757 | E9: 37.5 | F9: 30 | G9: Actif | H9: =IF(A9="","",IFERROR(SUMIFS('Banque d'heures'!$N$6:$N$500,'Banque d'heures'!$C$6:$C$500,A9,'Banque d'heures'!$M$6:$M$500,"Approuvé"),0)) | I9: =IF(A9="","",IFERROR(SUMIFS('Banque d'heures'!$O$6:$O$500,'Banque d'heures'!$C$6:$C$500,A9,'Banque d'heures'!$M$6:$M$500,"Approuvé"),0)) | J9: =IF(A9="","",IFERROR(H9-I9,0)) | K9: =IF(A9="","",IF(COUNTIFS('Banque d'heures'!$C$6:$C$500,A9,'Banque d'heures'!$M$6:$M$500,"Approuvé")=0,"",MAXIFS('Banque d'heures'!$B$6:$B$500,'Banque d'heures'!$C$6:$C$500,A9,'Banque d'heures'!$M$6:$M$500,"Approuvé"))) | L9: =IF(A9="","",IFERROR(IF(J9<0,"Solde négatif",IF(AND(F9>0,J9>F9),"À vérifier","Conforme")),"À vérifier"))
H10: =IF(A10="","",IFERROR(SUMIFS('Banque d'heures'!$N$6:$N$500,'Banque d'heures'!$C$6:$C$500,A10,'Banque d'heures'!$M$6:$M$500,"Approuvé"),0)) | I10: =IF(A10="","",IFERROR(SUMIFS('Banque d'heures'!$O$6:$O$500,'Banque d'heures'!$C$6:$C$500,A10,'Banque d'heures'!$M$6:$M$500,"Approuvé"),0)) | J10: =IF(A10="","",IFERROR(H10-I10,0)) | K10: =IF(A10="","",IF(COUNTIFS('Banque d'heures'!$C$6:$C$500,A10,'Banque d'heures'!$M$6:$M$500,"Approuvé")=0,"",MAXIFS('Banque d'heures'!$B$6:$B$500,'Banque d'heures'!$C$6:$C$500,A10,'Banque d'heures'!$M$6:$M$500,"Approuvé"))) | L10: =IF(A10="","",IFERROR(IF(J10<0,"Solde négatif",IF(AND(F10>0,J10>F10),"À vérifier","Conforme")),"À vérifier"))
H11: =IF(A11="","",IFERROR(SUMIFS('Banque d'heures'!$N$6:$N$500,'Banque d'heures'!$C$6:$C$500,A11,'Banque d'heures'!$M$6:$M$500,"Approuvé"),0)) | I11: =IF(A11="","",IFERROR(SUMIFS('Banque d'heures'!$O$6:$O$500,'Banque d'heures'!$C$6:$C$500,A11,'Banque d'heures'!$M$6:$M$500,"Approuvé"),0)) | J11: =IF(A11="","",IFERROR(H11-I11,0)) | K11: =IF(A11="","",IF(COUNTIFS('Banque d'heures'!$C$6:$C$500,A11,'Banque d'heures'!$M$6:$M$500,"Approuvé")=0,"",MAXIFS('Banque d'heures'!$B$6:$B$500,'Banque d'heures'!$C$6:$C$500,A11,'Banque d'heures'!$M$6:$M$500,"Approuvé"))) | L11: =IF(A11="","",IFERROR(IF(J11<0,"Solde négatif",IF(AND(F11>0,J11>F11),"À vérifier","Conforme")),"À vérifier"))
H12: =IF(A12="","",IFERROR(SUMIFS('Banque d'heures'!$N$6:$N$500,'Banque d'heures'!$C$6:$C$500,A12,'Banque d'heures'!$M$6:$M$500,"Approuvé"),0)) | I12: =IF(A12="","",IFERROR(SUMIFS('Banque d'heures'!$O$6:$O$500,'Banque d'heures'!$C$6:$C$500,A12,'Banque d'heures'!$M$6:$M$500,"Approuvé"),0)) | J12: =IF(A12="","",IFERROR(H12-I12,0)) | K12: =IF(A12="","",IF(COUNTIFS('Banque d'heures'!$C$6:$C$500,A12,'Banque d'heures'!$M$6:$M$500,"Approuvé")=0,"",MAXIFS('Banque d'heures'!$B$6:$B$500,'Banque d'heures'!$C$6:$C$500,A12,'Banque d'heures'!$M$6:$M$500,"Approuvé"))) | L12: =IF(A12="","",IFERROR(IF(J12<0,"Solde négatif",IF(AND(F12>0,J12>F12),"À vérifier","Conforme")),"À vérifier"))
H13: =IF(A13="","",IFERROR(SUMIFS('Banque d'heures'!$N$6:$N$500,'Banque d'heures'!$C$6:$C$500,A13,'Banque d'heures'!$M$6:$M$500,"Approuvé"),0)) | I13: =IF(A13="","",IFERROR(SUMIFS('Banque d'heures'!$O$6:$O$500,'Banque d'heures'!$C$6:$C$500,A13,'Banque d'heures'!$M$6:$M$500,"Approuvé"),0)) | J13: =IF(A13="","",IFERROR(H13-I13,0)) | K13: =IF(A13="","",IF(COUNTIFS('Banque d'heures'!$C$6:$C$500,A13,'Banque d'heures'!$M$6:$M$500,"Approuvé")=0,"",MAXIFS('Banque d'heures'!$B$6:$B$500,'Banque d'heures'!$C$6:$C$500,A13,'Banque d'heures'!$M$6:$M$500,"Approuvé"))) | L13: =IF(A13="","",IFERROR(IF(J13<0,"Solde négatif",IF(AND(F13>0,J13>F13),"À vérifier","Conforme")),"À vérifier"))
H14: =IF(A14="","",IFERROR(SUMIFS('Banque d'heures'!$N$6:$N$500,'Banque d'heures'!$C$6:$C$500,A14,'Banque d'heures'!$M$6:$M$500,"Approuvé"),0)) | I14: =IF(A14="","",IFERROR(SUMIFS('Banque d'heures'!$O$6:$O$500,'Banque d'heures'!$C$6:$C$500,A14,'Banque d'heures'!$M$6:$M$500,"Approuvé"),0)) | J14: =IF(A14="","",IFERROR(H14-I14,0)) | K14: =IF(A14="","",IF(COUNTIFS('Banque d'heures'!$C$6:$C$500,A14,'Banque d'heures'!$M$6:$M$500,"Approuvé")=0,"",MAXIFS('Banque d'heures'!$B$6:$B$500,'Banque d'heures'!$C$6:$C$500,A14,'Banque d'heures'!$M$6:$M$500,"Approuvé"))) | L14: =IF(A14="","",IFERROR(IF(J14<0,"Solde négatif",IF(AND(F14>0,J14>F14),"À vérifier","Conforme")),"À vérifier"))
H15: =IF(A15="","",IFERROR(SUMIFS('Banque d'heures'!$N$6:$N$500,'Banque d'heures'!$C$6:$C$500,A15,'Banque d'heures'!$M$6:$M$500,"Approuvé"),0)) | I15: =IF(A15="","",IFERROR(SUMIFS('Banque d'heures'!$O$6:$O$500,'Banque d'heures'!$C$6:$C$500,A15,'Banque d'heures'!$M$6:$M$500,"Approuvé"),0)) | J15: =IF(A15="","",IFERROR(H15-I15,0)) | K15: =IF(A15="","",IF(COUNTIFS('Banque d'heures'!$C$6:$C$500,A15,'Banque d'heures'!$M$6:$M$500,"Approuvé")=0,"",MAXIFS('Banque d'heures'!$B$6:$B$500,'Banque d'heures'!$C$6:$C$500,A15,'Banque d'heures'!$M$6:$M$500,"Approuvé"))) | L15: =IF(A15="","",IFERROR(IF(J15<0,"Solde négatif",IF(AND(F15>0,J15>F15),"À vérifier","Conforme")),"À vérifier"))
H16: =IF(A16="","",IFERROR(SUMIFS('Banque d'heures'!$N$6:$N$500,'Banque d'heures'!$C$6:$C$500,A16,'Banque d'heures'!$M$6:$M$500,"Approuvé"),0)) | I16: =IF(A16="","",IFERROR(SUMIFS('Banque d'heures'!$O$6:$O$500,'Banque d'heures'!$C$6:$C$500,A16,'Banque d'heures'!$M$6:$M$500,"Approuvé"),0)) | J16: =IF(A16="","",IFERROR(H16-I16,0)) | K16: =IF(A16="","",IF(COUNTIFS('Banque d'heures'!$C$6:$C$500,A16,'Banque d'heures'!$M$6:$M$500,"Approuvé")=0,"",MAXIFS('Banque d'heures'!$B$6:$B$500,'Banque d'heures'!$C$6:$C$500,A16,'Banque d'heures'!$M$6:$M$500,"Approuvé"))) | L16: =IF(A16="","",IFERROR(IF(J16<0,"Solde négatif",IF(AND(F16>0,J16>F16),"À vérifier","Conforme")),"À vérifier"))
H17: =IF(A17="","",IFERROR(SUMIFS('Banque d'heures'!$N$6:$N$500,'Banque d'heures'!$C$6:$C$500,A17,'Banque d'heures'!$M$6:$M$500,"Approuvé"),0)) | I17: =IF(A17="","",IFERROR(SUMIFS('Banque d'heures'!$O$6:$O$500,'Banque d'heures'!$C$6:$C$500,A17,'Banque d'heures'!$M$6:$M$500,"Approuvé"),0)) | J17: =IF(A17="","",IFERROR(H17-I17,0)) | K17: =IF(A17="","",IF(COUNTIFS('Banque d'heures'!$C$6:$C$500,A17,'Banque d'heures'!$M$6:$M$500,"Approuvé")=0,"",MAXIFS('Banque d'heures'!$B$6:$B$500,'Banque d'heures'!$C$6:$C$500,A17,'Banque d'heures'!$M$6:$M$500,"Approuvé"))) | L17: =IF(A17="","",IFERROR(IF(J17<0,"Solde négatif",IF(AND(F17>0,J17>F17),"À vérifier","Conforme")),"À vérifier"))
H18: =IF(A18="","",IFERROR(SUMIFS('Banque d'heures'!$N$6:$N$500,'Banque d'heures'!$C$6:$C$500,A18,'Banque d'heures'!$M$6:$M$500,"Approuvé"),0)) | I18: =IF(A18="","",IFERROR(SUMIFS('Banque d'heures'!$O$6:$O$500,'Banque d'heures'!$C$6:$C$500,A18,'Banque d'heures'!$M$6:$M$500,"Approuvé"),0)) | J18: =IF(A18="","",IFERROR(H18-I18,0)) | K18: =IF(A18="","",IF(COUNTIFS('Banque d'heures'!$C$6:$C$500,A18,'Banque d'heures'!$M$6:$M$500,"Approuvé")=0,"",MAXIFS('Banque d'heures'!$B$6:$B$500,'Banque d'heures'!$C$6:$C$500,A18,'Banque d'heures'!$M$6:$M$500,"Approuvé"))) | L18: =IF(A18="","",IFERROR(IF(J18<0,"Solde négatif",IF(AND(F18>0,J18>F18),"À vérifier","Conforme")),"À vérifier"))
H19: =IF(A19="","",IFERROR(SUMIFS('Banque d'heures'!$N$6:$N$500,'Banque d'heures'!$C$6:$C$500,A19,'Banque d'heures'!$M$6:$M$500,"Approuvé"),0)) | I19: =IF(A19="","",IFERROR(SUMIFS('Banque d'heures'!$O$6:$O$500,'Banque d'heures'!$C$6:$C$500,A19,'Banque d'heures'!$M$6:$M$500,"Approuvé"),0)) | J19: =IF(A19="","",IFERROR(H19-I19,0)) | K19: =IF(A19="","",IF(COUNTIFS('Banque d'heures'!$C$6:$C$500,A19,'Banque d'heures'!$M$6:$M$500,"Approuvé")=0,"",MAXIFS('Banque d'heures'!$B$6:$B$500,'Banque d'heures'!$C$6:$C$500,A19,'Banque d'heures'!$M$6:$M$500,"Approuvé"))) | L19: =IF(A19="","",IFERROR(IF(J19<0,"Solde négatif",IF(AND(F19>0,J19>F19),"À vérifier","Conforme")),"À vérifier"))
H20: =IF(A20="","",IFERROR(SUMIFS('Banque d'heures'!$N$6:$N$500,'Banque d'heures'!$C$6:$C$500,A20,'Banque d'heures'!$M$6:$M$500,"Approuvé"),0)) | I20: =IF(A20="","",IFERROR(SUMIFS('Banque d'heures'!$O$6:$O$500,'Banque d'heures'!$C$6:$C$500,A20,'Banque d'heures'!$M$6:$M$500,"Approuvé"),0)) | J20: =IF(A20="","",IFERROR(H20-I20,0)) | K20: =IF(A20="","",IF(COUNTIFS('Banque d'heures'!$C$6:$C$500,A20,'Banque d'heures'!$M$6:$M$500,"Approuvé")=0,"",MAXIFS('Banque d'heures'!$B$6:$B$500,'Banque d'heures'!$C$6:$C$500,A20,'Banque d'heures'!$M$6:$M$500,"Approuvé"))) | L20: =IF(A20="","",IFERROR(IF(J20<0,"Solde négatif",IF(AND(F20>0,J20>F20),"À vérifier","Conforme")),"À vérifier"))
H21: =IF(A21="","",IFERROR(SUMIFS('Banque d'heures'!$N$6:$N$500,'Banque d'heures'!$C$6:$C$500,A21,'Banque d'heures'!$M$6:$M$500,"Approuvé"),0)) | I21: =IF(A21="","",IFERROR(SUMIFS('Banque d'heures'!$O$6:$O$500,'Banque d'heures'!$C$6:$C$500,A21,'Banque d'heures'!$M$6:$M$500,"Approuvé"),0)) | J21: =IF(A21="","",IFERROR(H21-I21,0)) | K21: =IF(A21="","",IF(COUNTIFS('Banque d'heures'!$C$6:$C$500,A21,'Banque d'heures'!$M$6:$M$500,"Approuvé")=0,"",MAXIFS('Banque d'heures'!$B$6:$B$500,'Banque d'heures'!$C$6:$C$500,A21,'Banque d'heures'!$M$6:$M$500,"Approuvé"))) | L21: =IF(A21="","",IFERROR(IF(J21<0,"Solde négatif",IF(AND(F21>0,J21>F21),"À vérifier","Conforme")),"À vérifier"))
H22: =IF(A22="","",IFERROR(SUMIFS('Banque d'heures'!$N$6:$N$500,'Banque d'heures'!$C$6:$C$500,A22,'Banque d'heures'!$M$6:$M$500,"Approuvé"),0)) | I22: =IF(A22="","",IFERROR(SUMIFS('Banque d'heures'!$O$6:$O$500,'Banque d'heures'!$C$6:$C$500,A22,'Banque d'heures'!$M$6:$M$500,"Approuvé"),0)) | J22: =IF(A22="","",IFERROR(H22-I22,0)) | K22: =IF(A22="","",IF(COUNTIFS('Banque d'heures'!$C$6:$C$500,A22,'Banque d'heures'!$M$6:$M$500,"Approuvé")=0,"",MAXIFS('Banque d'heures'!$B$6:$B$500,'Banque d'heures'!$C$6:$C$500,A22,'Banque d'heures'!$M$6:$M$500,"Approuvé"))) | L22: =IF(A22="","",IFERROR(IF(J22<0,"Solde négatif",IF(AND(F22>0,J22>F22),"À vérifier","Conforme")),"À vérifier"))
H23: =IF(A23="","",IFERROR(SUMIFS('Banque d'heures'!$N$6:$N$500,'Banque d'heures'!$C$6:$C$500,A23,'Banque d'heures'!$M$6:$M$500,"Approuvé"),0)) | I23: =IF(A23="","",IFERROR(SUMIFS('Banque d'heures'!$O$6:$O$500,'Banque d'heures'!$C$6:$C$500,A23,'Banque d'heures'!$M$6:$M$500,"Approuvé"),0)) | J23: =IF(A23="","",IFERROR(H23-I23,0)) | K23: =IF(A23="","",IF(COUNTIFS('Banque d'heures'!$C$6:$C$500,A23,'Banque d'heures'!$M$6:$M$500,"Approuvé")=0,"",MAXIFS('Banque d'heures'!$B$6:$B$500,'Banque d'heures'!$C$6:$C$500,A23,'Banque d'heures'!$M$6:$M$500,"Approuvé"))) | L23: =IF(A23="","",IFERROR(IF(J23<0,"Solde négatif",IF(AND(F23>0,J23>F23),"À vérifier","Conforme")),"À vérifier"))
H24: =IF(A24="","",IFERROR(SUMIFS('Banque d'heures'!$N$6:$N$500,'Banque d'heures'!$C$6:$C$500,A24,'Banque d'heures'!$M$6:$M$500,"Approuvé"),0)) | I24: =IF(A24="","",IFERROR(SUMIFS('Banque d'heures'!$O$6:$O$500,'Banque d'heures'!$C$6:$C$500,A24,'Banque d'heures'!$M$6:$M$500,"Approuvé"),0)) | J24: =IF(A24="","",IFERROR(H24-I24,0)) | K24: =IF(A24="","",IF(COUNTIFS('Banque d'heures'!$C$6:$C$500,A24,'Banque d'heures'!$M$6:$M$500,"Approuvé")=0,"",MAXIFS('Banque d'heures'!$B$6:$B$500,'Banque d'heures'!$C$6:$C$500,A24,'Banque d'heures'!$M$6:$M$500,"Approuvé"))) | L24: =IF(A24="","",IFERROR(IF(J24<0,"Solde négatif",IF(AND(F24>0,J24>F24),"À vérifier","Conforme")),"À vérifier"))
H25: =IF(A25="","",IFERROR(SUMIFS('Banque d'heures'!$N$6:$N$500,'Banque d'heures'!$C$6:$C$500,A25,'Banque d'heures'!$M$6:$M$500,"Approuvé"),0)) | I25: =IF(A25="","",IFERROR(SUMIFS('Banque d'heures'!$O$6:$O$500,'Banque d'heures'!$C$6:$C$500,A25,'Banque d'heures'!$M$6:$M$500,"Approuvé"),0)) | J25: =IF(A25="","",IFERROR(H25-I25,0)) | K25: =IF(A25="","",IF(COUNTIFS('Banque d'heures'!$C$6:$C$500,A25,'Banque d'heures'!$M$6:$M$500,"Approuvé")=0,"",MAXIFS('Banque d'heures'!$B$6:$B$500,'Banque d'heures'!$C$6:$C$500,A25,'Banque d'heures'!$M$6:$M$500,"Approuvé"))) | L25: =IF(A25="","",IFERROR(IF(J25<0,"Solde négatif",IF(AND(F25>0,J25>F25),"À vérifier","Conforme")),"À vérifier"))
H26: =IF(A26="","",IFERROR(SUMIFS('Banque d'heures'!$N$6:$N$500,'Banque d'heures'!$C$6:$C$500,A26,'Banque d'heures'!$M$6:$M$500,"Approuvé"),0)) | I26: =IF(A26="","",IFERROR(SUMIFS('Banque d'heures'!$O$6:$O$500,'Banque d'heures'!$C$6:$C$500,A26,'Banque d'heures'!$M$6:$M$500,"Approuvé"),0)) | J26: =IF(A26="","",IFERROR(H26-I26,0)) | K26: =IF(A26="","",IF(COUNTIFS('Banque d'heures'!$C$6:$C$500,A26,'Banque d'heures'!$M$6:$M$500,"Approuvé")=0,"",MAXIFS('Banque d'heures'!$B$6:$B$500,'Banque d'heures'!$C$6:$C$500,A26,'Banque d'heures'!$M$6:$M$500,"Approuvé"))) | L26: =IF(A26="","",IFERROR(IF(J26<0,"Solde négatif",IF(AND(F26>0,J26>F26),"À vérifier","Conforme")),"À vérifier"))
H27: =IF(A27="","",IFERROR(SUMIFS('Banque d'heures'!$N$6:$N$500,'Banque d'heures'!$C$6:$C$500,A27,'Banque d'heures'!$M$6:$M$500,"Approuvé"),0)) | I27: =IF(A27="","",IFERROR(SUMIFS('Banque d'heures'!$O$6:$O$500,'Banque d'heures'!$C$6:$C$500,A27,'Banque d'heures'!$M$6:$M$500,"Approuvé"),0)) | J27: =IF(A27="","",IFERROR(H27-I27,0)) | K27: =IF(A27="","",IF(COUNTIFS('Banque d'heures'!$C$6:$C$500,A27,'Banque d'heures'!$M$6:$M$500,"Approuvé")=0,"",MAXIFS('Banque d'heures'!$B$6:$B$500,'Banque d'heures'!$C$6:$C$500,A27,'Banque d'heures'!$M$6:$M$500,"Approuvé"))) | L27: =IF(A27="","",IFERROR(IF(J27<0,"Solde négatif",IF(AND(F27>0,J27>F27),"À vérifier","Conforme")),"À vérifier"))
H28: =IF(A28="","",IFERROR(SUMIFS('Banque d'heures'!$N$6:$N$500,'Banque d'heures'!$C$6:$C$500,A28,'Banque d'heures'!$M$6:$M$500,"Approuvé"),0)) | I28: =IF(A28="","",IFERROR(SUMIFS('Banque d'heures'!$O$6:$O$500,'Banque d'heures'!$C$6:$C$500,A28,'Banque d'heures'!$M$6:$M$500,"Approuvé"),0)) | J28: =IF(A28="","",IFERROR(H28-I28,0)) | K28: =IF(A28="","",IF(COUNTIFS('Banque d'heures'!$C$6:$C$500,A28,'Banque d'heures'!$M$6:$M$500,"Approuvé")=0,"",MAXIFS('Banque d'heures'!$B$6:$B$500,'Banque d'heures'!$C$6:$C$500,A28,'Banque d'heures'!$M$6:$M$500,"Approuvé"))) | L28: =IF(A28="","",IFERROR(IF(J28<0,"Solde négatif",IF(AND(F28>0,J28>F28),"À vérifier","Conforme")),"À vérifier"))
H29: =IF(A29="","",IFERROR(SUMIFS('Banque d'heures'!$N$6:$N$500,'Banque d'heures'!$C$6:$C$500,A29,'Banque d'heures'!$M$6:$M$500,"Approuvé"),0)) | I29: =IF(A29="","",IFERROR(SUMIFS('Banque d'heures'!$O$6:$O$500,'Banque d'heures'!$C$6:$C$500,A29,'Banque d'heures'!$M$6:$M$500,"Approuvé"),0)) | J29: =IF(A29="","",IFERROR(H29-I29,0)) | K29: =IF(A29="","",IF(COUNTIFS('Banque d'heures'!$C$6:$C$500,A29,'Banque d'heures'!$M$6:$M$500,"Approuvé")=0,"",MAXIFS('Banque d'heures'!$B$6:$B$500,'Banque d'heures'!$C$6:$C$500,A29,'Banque d'heures'!$M$6:$M$500,"Approuvé"))) | L29: =IF(A29="","",IFERROR(IF(J29<0,"Solde négatif",IF(AND(F29>0,J29>F29),"À vérifier","Conforme")),"À vérifier"))
H30: =IF(A30="","",IFERROR(SUMIFS('Banque d'heures'!$N$6:$N$500,'Banque d'heures'!$C$6:$C$500,A30,'Banque d'heures'!$M$6:$M$500,"Approuvé"),0)) | I30: =IF(A30="","",IFERROR(SUMIFS('Banque d'heures'!$O$6:$O$500,'Banque d'heures'!$C$6:$C$500,A30,'Banque d'heures'!$M$6:$M$500,"Approuvé"),0)) | J30: =IF(A30="","",IFERROR(H30-I30,0)) | K30: =IF(A30="","",IF(COUNTIFS('Banque d'heures'!$C$6:$C$500,A30,'Banque d'heures'!$M$6:$M$500,"Approuvé")=0,"",MAXIFS('Banque d'heures'!$B$6:$B$500,'Banque d'heures'!$C$6:$C$500,A30,'Banque d'heures'!$M$6:$M$500,"Approuvé"))) | L30: =IF(A30="","",IFERROR(IF(J30<0,"Solde négatif",IF(AND(F30>0,J30>F30),"À vérifier","Conforme")),"À vérifier"))
H31: =IF(A31="","",IFERROR(SUMIFS('Banque d'heures'!$N$6:$N$500,'Banque d'heures'!$C$6:$C$500,A31,'Banque d'heures'!$M$6:$M$500,"Approuvé"),0)) | I31: =IF(A31="","",IFERROR(SUMIFS('Banque d'heures'!$O$6:$O$500,'Banque d'heures'!$C$6:$C$500,A31,'Banque d'heures'!$M$6:$M$500,"Approuvé"),0)) | J31: =IF(A31="","",IFERROR(H31-I31,0)) | K31: =IF(A31="","",IF(COUNTIFS('Banque d'heures'!$C$6:$C$500,A31,'Banque d'heures'!$M$6:$M$500,"Approuvé")=0,"",MAXIFS('Banque d'heures'!$B$6:$B$500,'Banque d'heures'!$C$6:$C$500,A31,'Banque d'heures'!$M$6:$M$500,"Approuvé"))) | L31: =IF(A31="","",IFERROR(IF(J31<0,"Solde négatif",IF(AND(F31>0,J31>F31),"À vérifier","Conforme")),"À vérifier"))
H32: =IF(A32="","",IFERROR(SUMIFS('Banque d'heures'!$N$6:$N$500,'Banque d'heures'!$C$6:$C$500,A32,'Banque d'heures'!$M$6:$M$500,"Approuvé"),0)) | I32: =IF(A32="","",IFERROR(SUMIFS('Banque d'heures'!$O$6:$O$500,'Banque d'heures'!$C$6:$C$500,A32,'Banque d'heures'!$M$6:$M$500,"Approuvé"),0)) | J32: =IF(A32="","",IFERROR(H32-I32,0)) | K32: =IF(A32="","",IF(COUNTIFS('Banque d'heures'!$C$6:$C$500,A32,'Banque d'heures'!$M$6:$M$500,"Approuvé")=0,"",MAXIFS('Banque d'heures'!$B$6:$B$500,'Banque d'heures'!$C$6:$C$500,A32,'Banque d'heures'!$M$6:$M$500,"Approuvé"))) | L32: =IF(A32="","",IFERROR(IF(J32<0,"Solde négatif",IF(AND(F32>0,J32>F32),"À vérifier","Conforme")),"À vérifier"))
H33: =IF(A33="","",IFERROR(SUMIFS('Banque d'heures'!$N$6:$N$500,'Banque d'heures'!$C$6:$C$500,A33,'Banque d'heures'!$M$6:$M$500,"Approuvé"),0)) | I33: =IF(A33="","",IFERROR(SUMIFS('Banque d'heures'!$O$6:$O$500,'Banque d'heures'!$C$6:$C$500,A33,'Banque d'heures'!$M$6:$M$500,"Approuvé"),0)) | J33: =IF(A33="","",IFERROR(H33-I33,0)) | K33: =IF(A33="","",IF(COUNTIFS('Banque d'heures'!$C$6:$C$500,A33,'Banque d'heures'!$M$6:$M$500,"Approuvé")=0,"",MAXIFS('Banque d'heures'!$B$6:$B$500,'Banque d'heures'!$C$6:$C$500,A33,'Banque d'heures'!$M$6:$M$500,"Approuvé"))) | L33: =IF(A33="","",IFERROR(IF(J33<0,"Solde négatif",IF(AND(F33>0,J33>F33),"À vérifier","Conforme")),"À vérifier"))
H34: =IF(A34="","",IFERROR(SUMIFS('Banque d'heures'!$N$6:$N$500,'Banque d'heures'!$C$6:$C$500,A34,'Banque d'heures'!$M$6:$M$500,"Approuvé"),0)) | I34: =IF(A34="","",IFERROR(SUMIFS('Banque d'heures'!$O$6:$O$500,'Banque d'heures'!$C$6:$C$500,A34,'Banque d'heures'!$M$6:$M$500,"Approuvé"),0)) | J34: =IF(A34="","",IFERROR(H34-I34,0)) | K34: =IF(A34="","",IF(COUNTIFS('Banque d'heures'!$C$6:$C$500,A34,'Banque d'heures'!$M$6:$M$500,"Approuvé")=0,"",MAXIFS('Banque d'heures'!$B$6:$B$500,'Banque d'heures'!$C$6:$C$500,A34,'Banque d'heures'!$M$6:$M$500,"Approuvé"))) | L34: =IF(A34="","",IFERROR(IF(J34<0,"Solde négatif",IF(AND(F34>0,J34>F34),"À vérifier","Conforme")),"À vérifier"))
H35: =IF(A35="","",IFERROR(SUMIFS('Banque d'heures'!$N$6:$N$500,'Banque d'heures'!$C$6:$C$500,A35,'Banque d'heures'!$M$6:$M$500,"Approuvé"),0)) | I35: =IF(A35="","",IFERROR(SUMIFS('Banque d'heures'!$O$6:$O$500,'Banque d'heures'!$C$6:$C$500,A35,'Banque d'heures'!$M$6:$M$500,"Approuvé"),0)) | J35: =IF(A35="","",IFERROR(H35-I35,0)) | K35: =IF(A35="","",IF(COUNTIFS('Banque d'heures'!$C$6:$C$500,A35,'Banque d'heures'!$M$6:$M$500,"Approuvé")=0,"",MAXIFS('Banque d'heures'!$B$6:$B$500,'Banque d'heures'!$C$6:$C$500,A35,'Banque d'heures'!$M$6:$M$500,"Approuvé"))) | L35: =IF(A35="","",IFERROR(IF(J35<0,"Solde négatif",IF(AND(F35>0,J35>F35),"À vérifier","Conforme")),"À vérifier"))
H36: =IF(A36="","",IFERROR(SUMIFS('Banque d'heures'!$N$6:$N$500,'Banque d'heures'!$C$6:$C$500,A36,'Banque d'heures'!$M$6:$M$500,"Approuvé"),0)) | I36: =IF(A36="","",IFERROR(SUMIFS('Banque d'heures'!$O$6:$O$500,'Banque d'heures'!$C$6:$C$500,A36,'Banque d'heures'!$M$6:$M$500,"Approuvé"),0)) | J36: =IF(A36="","",IFERROR(H36-I36,0)) | K36: =IF(A36="","",IF(COUNTIFS('Banque d'heures'!$C$6:$C$500,A36,'Banque d'heures'!$M$6:$M$500,"Approuvé")=0,"",MAXIFS('Banque d'heures'!$B$6:$B$500,'Banque d'heures'!$C$6:$C$500,A36,'Banque d'heures'!$M$6:$M$500,"Approuvé"))) | L36: =IF(A36="","",IFERROR(IF(J36<0,"Solde négatif",IF(AND(F36>0,J36>F36),"À vérifier","Conforme")),"À vérifier"))
H37: =IF(A37="","",IFERROR(SUMIFS('Banque d'heures'!$N$6:$N$500,'Banque d'heures'!$C$6:$C$500,A37,'Banque d'heures'!$M$6:$M$500,"Approuvé"),0)) | I37: =IF(A37="","",IFERROR(SUMIFS('Banque d'heures'!$O$6:$O$500,'Banque d'heures'!$C$6:$C$500,A37,'Banque d'heures'!$M$6:$M$500,"Approuvé"),0)) | J37: =IF(A37="","",IFERROR(H37-I37,0)) | K37: =IF(A37="","",IF(COUNTIFS('Banque d'heures'!$C$6:$C$500,A37,'Banque d'heures'!$M$6:$M$500,"Approuvé")=0,"",MAXIFS('Banque d'heures'!$B$6:$B$500,'Banque d'heures'!$C$6:$C$500,A37,'Banque d'heures'!$M$6:$M$500,"Approuvé"))) | L37: =IF(A37="","",IFERROR(IF(J37<0,"Solde négatif",IF(AND(F37>0,J37>F37),"À vérifier","Conforme")),"À vérifier"))
H38: =IF(A38="","",IFERROR(SUMIFS('Banque d'heures'!$N$6:$N$500,'Banque d'heures'!$C$6:$C$500,A38,'Banque d'heures'!$M$6:$M$500,"Approuvé"),0)) | I38: =IF(A38="","",IFERROR(SUMIFS('Banque d'heures'!$O$6:$O$500,'Banque d'heures'!$C$6:$C$500,A38,'Banque d'heures'!$M$6:$M$500,"Approuvé"),0)) | J38: =IF(A38="","",IFERROR(H38-I38,0)) | K38: =IF(A38="","",IF(COUNTIFS('Banque d'heures'!$C$6:$C$500,A38,'Banque d'heures'!$M$6:$M$500,"Approuvé")=0,"",MAXIFS('Banque d'heures'!$B$6:$B$500,'Banque d'heures'!$C$6:$C$500,A38,'Banque d'heures'!$M$6:$M$500,"Approuvé"))) | L38: =IF(A38="","",IFERROR(IF(J38<0,"Solde négatif",IF(AND(F38>0,J38>F38),"À vérifier","Conforme")),"À vérifier"))
H39: =IF(A39="","",IFERROR(SUMIFS('Banque d'heures'!$N$6:$N$500,'Banque d'heures'!$C$6:$C$500,A39,'Banque d'heures'!$M$6:$M$500,"Approuvé"),0)) | I39: =IF(A39="","",IFERROR(SUMIFS('Banque d'heures'!$O$6:$O$500,'Banque d'heures'!$C$6:$C$500,A39,'Banque d'heures'!$M$6:$M$500,"Approuvé"),0)) | J39: =IF(A39="","",IFERROR(H39-I39,0)) | K39: =IF(A39="","",IF(COUNTIFS('Banque d'heures'!$C$6:$C$500,A39,'Banque d'heures'!$M$6:$M$500,"Approuvé")=0,"",MAXIFS('Banque d'heures'!$B$6:$B$500,'Banque d'heures'!$C$6:$C$500,A39,'Banque d'heures'!$M$6:$M$500,"Approuvé"))) | L39: =IF(A39="","",IFERROR(IF(J39<0,"Solde négatif",IF(AND(F39>0,J39>F39),"À vérifier","Conforme")),"À vérifier"))
H40: =IF(A40="","",IFERROR(SUMIFS('Banque d'heures'!$N$6:$N$500,'Banque d'heures'!$C$6:$C$500,A40,'Banque d'heures'!$M$6:$M$500,"Approuvé"),0)) | I40: =IF(A40="","",IFERROR(SUMIFS('Banque d'heures'!$O$6:$O$500,'Banque d'heures'!$C$6:$C$500,A40,'Banque d'heures'!$M$6:$M$500,"Approuvé"),0)) | J40: =IF(A40="","",IFERROR(H40-I40,0)) | K40: =IF(A40="","",IF(COUNTIFS('Banque d'heures'!$C$6:$C$500,A40,'Banque d'heures'!$M$6:$M$500,"Approuvé")=0,"",MAXIFS('Banque d'heures'!$B$6:$B$500,'Banque d'heures'!$C$6:$C$500,A40,'Banque d'heures'!$M$6:$M$500,"Approuvé"))) | L40: =IF(A40="","",IFERROR(IF(J40<0,"Solde négatif",IF(AND(F40>0,J40>F40),"À vérifier","Conforme")),"À vérifier"))
H41: =IF(A41="","",IFERROR(SUMIFS('Banque d'heures'!$N$6:$N$500,'Banque d'heures'!$C$6:$C$500,A41,'Banque d'heures'!$M$6:$M$500,"Approuvé"),0)) | I41: =IF(A41="","",IFERROR(SUMIFS('Banque d'heures'!$O$6:$O$500,'Banque d'heures'!$C$6:$C$500,A41,'Banque d'heures'!$M$6:$M$500,"Approuvé"),0)) | J41: =IF(A41="","",IFERROR(H41-I41,0)) | K41: =IF(A41="","",IF(COUNTIFS('Banque d'heures'!$C$6:$C$500,A41,'Banque d'heures'!$M$6:$M$500,"Approuvé")=0,"",MAXIFS('Banque d'heures'!$B$6:$B$500,'Banque d'heures'!$C$6:$C$500,A41,'Banque d'heures'!$M$6:$M$500,"Approuvé"))) | L41: =IF(A41="","",IFERROR(IF(J41<0,"Solde négatif",IF(AND(F41>0,J41>F41),"À vérifier","Conforme")),"À vérifier"))
...

Sheet Paramètres
A1: Paramètres administratifs — Banque d’heures
A2: Modifier uniquement les cellules jaunes selon les politiques internes de l’entreprise.
A3: Ce modèle est un outil de suivi administratif. Valider les règles applicables auprès de la personne responsable de la paie, des normes du travail ou d’un conseiller professionnel lorsque requis.
A5: Paramètre | B5: Valeur | C5: Description
A6: Limite interne par défaut d’heures | B6: 40 | C6: Valeur de référence administrative. Les limites individuelles de la feuille Employés ont priorité lorsqu’elles sont saisies.
A7: Heures hebdomadaires de référence | B7: 37.5 | C7: Valeur de référence pour la planification interne seulement.
A8: Devise de référence | B8: CAD | C8: Dollars canadiens. Aucune conversion de devise n’est effectuée dans ce modèle.
A9: Format de date recommandé | B9: AAAA-MM-JJ | C9: Format ISO recommandé au Québec.
A10: Responsable du modèle | B10: Administration | C10: Personne ou équipe responsable de l’entretien du classeur.
A14: Types de mouvement | B14: Statuts | C14: Statuts d’employé | D14: Approbateurs
A15: Accumulation | B15: En attente | C15: Actif | D15: Marie-Claude Gagnon
A16: Reprise | B16: Approuvé | C16: Inactif | D16: Jean-François Roy
A17: Ajustement crédit | B17: Refusé | D17: Administration
A18: Ajustement débit | D18: À confirmer
