Workbook

Sheet Tableau de bord
A1: Tableau de bord — Coût employeur
A2: Résumé des scénarios saisis dans la feuille Calcul coût employeur.
A3: Année de référence | B3: =IFERROR('Paramètres'!$B$5,"") | D3: Date de mise à jour | E3: =IFERROR('Paramètres'!$B$6,"")
A5: Nombre d’employés ou scénarios | B5: =IFERROR(COUNTA('Calcul coût employeur'!$A$7:$A$106),0) | D5: Lignes prêtes au calcul | E5: =IFERROR(COUNTIF('Calcul coût employeur'!$AA$7:$AA$106,"Calcul prêt"),0)
A6: Masse salariale annuelle brute | B6: =IFERROR(SUM('Calcul coût employeur'!$E$7:$E$106),0) | D6: Lignes à vérifier | E6: =IFERROR(COUNTIF('Calcul coût employeur'!$AA$7:$AA$106,"À vérifier"),0)
A7: Total des avantages imposables | B7: =IFERROR(SUM('Calcul coût employeur'!$F$7:$F$106),0) | D7: Paramètres actifs avec taux nul | E7: =IFERROR(COUNTIFS('Paramètres'!$F$13:$F$22,"Oui",'Paramètres'!$C$13:$C$22,0),0)
A8: Total des cotisations variables | B8: =IFERROR(SUM('Calcul coût employeur'!$T$7:$T$106),0) | D8: Contrôles de total en erreur | E8: =IFERROR(COUNTIF('Calcul coût employeur'!$Z$7:$Z$106,"<>OK"),0)
A9: Total des coûts directs | B9: =IFERROR(SUM('Calcul coût employeur'!$H$7:$H$106),0) | D9: Statut global | E9: =IFERROR(IF(AND(E6=0,E7=0,E8=0),"Prêt pour révision","Action requise"),"Action requise")
A10: Coût employeur annuel total | B10: =IFERROR(SUM('Calcul coût employeur'!$U$7:$U$106),0) | E10: =""
E11: =""
E12: =""
E13: =""
A14: Coût employeur annuel par employé | E14: =""
A15: Nom de l’employé | B15: Poste | C15: Salaire annuel brut | D15: Coût employeur annuel | E15: =""
A16: =IFERROR('Calcul coût employeur'!$B$7,"") | B16: =IFERROR('Calcul coût employeur'!$C$7,"") | C16: =IFERROR('Calcul coût employeur'!$E$7,0) | D16: =IFERROR('Calcul coût employeur'!$U$7,0) | E16: =""
A17: =IFERROR('Calcul coût employeur'!$B$8,"") | B17: =IFERROR('Calcul coût employeur'!$C$8,"") | C17: =IFERROR('Calcul coût employeur'!$E$8,0) | D17: =IFERROR('Calcul coût employeur'!$U$8,0) | E17: =""
A18: =IFERROR('Calcul coût employeur'!$B$9,"") | B18: =IFERROR('Calcul coût employeur'!$C$9,"") | C18: =IFERROR('Calcul coût employeur'!$E$9,0) | D18: =IFERROR('Calcul coût employeur'!$U$9,0) | E18: =""
A19: =IFERROR('Calcul coût employeur'!$B$10,"") | B19: =IFERROR('Calcul coût employeur'!$C$10,"") | C19: =IFERROR('Calcul coût employeur'!$E$10,0) | D19: =IFERROR('Calcul coût employeur'!$U$10,0) | E19: =""
A20: =IFERROR('Calcul coût employeur'!$B$11,"") | B20: =IFERROR('Calcul coût employeur'!$C$11,"") | C20: =IFERROR('Calcul coût employeur'!$E$11,0) | D20: =IFERROR('Calcul coût employeur'!$U$11,0) | E20: =""
A21: =IFERROR('Calcul coût employeur'!$B$12,"") | B21: =IFERROR('Calcul coût employeur'!$C$12,"") | C21: =IFERROR('Calcul coût employeur'!$E$12,0) | D21: =IFERROR('Calcul coût employeur'!$U$12,0) | E21: =""
A22: =IFERROR('Calcul coût employeur'!$B$13,"") | B22: =IFERROR('Calcul coût employeur'!$C$13,"") | C22: =IFERROR('Calcul coût employeur'!$E$13,0) | D22: =IFERROR('Calcul coût employeur'!$U$13,0) | E22: =""
A23: =IFERROR('Calcul coût employeur'!$B$14,"") | B23: =IFERROR('Calcul coût employeur'!$C$14,"") | C23: =IFERROR('Calcul coût employeur'!$E$14,0) | D23: =IFERROR('Calcul coût employeur'!$U$14,0) | E23: =""
A24: =IFERROR('Calcul coût employeur'!$B$15,"") | B24: =IFERROR('Calcul coût employeur'!$C$15,"") | C24: =IFERROR('Calcul coût employeur'!$E$15,0) | D24: =IFERROR('Calcul coût employeur'!$U$15,0) | E24: =""
A25: ="" | B25: ="" | C25: ="" | D25: ="" | E25: =""
A26: ="" | B26: ="" | C26: ="" | D26: ="" | E26: =""
A27: ="" | B27: ="" | C27: ="" | D27: ="" | E27: =""
A28: ="" | B28: ="" | C28: ="" | D28: ="" | E28: =""
A29: ="" | B29: ="" | C29: ="" | D29: ="" | E29: =""
A30: ="" | B30: ="" | C30: ="" | D30: ="" | E30: =""
A31: ="" | B31: ="" | C31: ="" | D31: ="" | E31: =""
A32: ="" | B32: ="" | C32: ="" | D32: ="" | E32: =""
A33: ="" | B33: ="" | C33: ="" | D33: ="" | E33: =""
A34: ="" | B34: ="" | C34: ="" | D34: ="" | E34: =""
A35: ="" | B35: ="" | C35: ="" | D35: ="" | E35: =""
A36: ="" | B36: ="" | C36: ="" | D36: ="" | E36: =""
... A101: ="" | B101: ="" | C101: ="" | D101: ="" | E101: =""

Sheet Paramètres
A1: Paramètres — Calcul coût employeur Québec
A2: Mettre à jour les taux, plafonds et exemptions selon l’année de paie, les règles applicables et votre dossier employeur.
A4: Entreprise | B4: Atelier Nordik inc. | J4: Statut d’emploi | K4: Oui / Non
A5: Année de référence | B5: 2026 | J5: Permanent | K5: Oui
A6: Date de mise à jour des paramètres | B6: 46023 | J6: Temporaire | K6: Non
A7: Devise | B7: CAD | J7: Contractuel
A8: Méthode de calcul | B8: Estimation annuelle par employé | J8: Temps plein
A9: Avis important | B9: Vérifier les taux et règles auprès de l’ARC, de Revenu Québec, de la CNESST et de vos assureurs avant utilisation. | J9: Temps partiel
A10: Avis de budgétisation | B10: Ce modèle sert à estimer les coûts employeur. Les cotisations, taux, plafonds, exemptions et obligations applicables peuvent varier selon l’année, le secteur d’activité, la masse salariale, les conditions d’emploi et le dossier de l’employeur. Valider les paramètres auprès des sources officielles et de vos conseillers avant de prendre une décision de paie ou de budgétisation.
A12: Code | B12: Poste de coût | C12: Taux employeur | D12: Exemption annuelle | E12: Plafond annuel de base | F12: Actif | G12: Source ou note de vérification | H12: Dernière vérification
A13: RRQ | B13: Régime de rentes du Québec (RRQ) | C13: 0 | D13: 0 | E13: 0 | F13: Oui | G13: À confirmer selon l’année de référence | H13: 46023
A14: RQAP | B14: Régime québécois d’assurance parentale (RQAP) | C14: 0 | D14: 0 | E14: 0 | F14: Oui | G14: À confirmer selon l’année de référence | H14: 46023
A15: AE | B15: Assurance-emploi (part employeur) | C15: 0 | D15: 0 | E15: 0 | F15: Oui | G15: À confirmer selon l’année de référence | H15: 46023
A16: CNESST | B16: Cotisation CNESST | C16: 0 | D16: 0 | E16: 0 | F16: Oui | G16: Selon le taux du dossier employeur | H16: 46023
A17: FSS | B17: Fonds des services de santé (FSS) | C17: 0 | D17: 0 | E17: 0 | F17: Oui | G17: Selon la masse salariale et les règles applicables | H17: 46023
A18: VACANCES | B18: Indemnité de vacances | C18: 0 | D18: 0 | E18: 0 | F18: Oui | G18: Selon les conditions d’emploi applicables | H18: 46023
A19: REER | B19: Cotisation REER collectif de l’employeur | C19: 0 | D19: 0 | E19: 0 | F19: Non | G19: Selon la politique de l’entreprise | H19: 46023
A20: ASSURANCE | B20: Assurances collectives variables | C20: 0 | D20: 0 | E20: 0 | F20: Non | G20: Utiliser si calculées en pourcentage | H20: 46023
A21: FORMATION | B21: Formation et développement | C21: 0 | D21: 0 | E21: 0 | F21: Non | G21: Budget ou politique interne | H21: 46023
A22: AUTRE | B22: Autre coût patronal variable | C22: 0 | D22: 0 | E22: 0 | F22: Non | G22: Décrire dans les notes de l’employé | H22: 46023

Sheet Calcul coût employeur
A1: Calcul coût employeur — Estimation annuelle
A2: Saisir les cellules jaunes seulement. Les montants de cotisations dépendent des paramètres actifs de la feuille Paramètres.
A3: La base assujettie annuelle doit être ajustée au besoin lorsque certains revenus ou avantages ne sont pas assujettis à tous les programmes.
A6: No employé | B6: Nom de l’employé | C6: Poste | D6: Statut d’emploi | E6: Salaire annuel brut | F6: Avantages imposables annuels | G6: Base assujettie annuelle | H6: Coûts directs annuels | I6: Notes | J6: RRQ employeur | K6: RQAP employeur | L6: Assurance-emploi employeur | M6: CNESST | N6: FSS | O6: Indemnité de vacances | P6: REER collectif employeur | Q6: Assurances collectives variables | R6: Formation et développement | S6: Autre coût patronal variable | T6: Total cotisations variables | U6: Coût employeur annuel | V6: Coût employeur mensuel estimé | W6: Majoration employeur | X6: Contrôle base négative | Y6: Contrôle paramètres incomplets | Z6: Contrôle total | AA6: Statut du calcul
A7: E-001 | B7: Amélie Gagnon | C7: Adjointe administrative | D7: Permanent | E7: 48500 | F7: 0 | G7: =IF($A7="","",IFERROR($E7+$F7,0)) | H7: 1250 | I7: Poste administratif à temps plein | J7: =IF($A7="","",IFERROR(IF('Paramètres'!$F$13<>"Oui",0,MIN(MAX(0,$G7-'Paramètres'!$D$13),IF('Paramètres'!$E$13=0,MAX(0,$G7-'Paramètres'!$D$13),'Paramètres'!$E$13))*'Paramètres'!$C$13),0)) | K7: =IF($A7="","",IFERROR(IF('Paramètres'!$F$14<>"Oui",0,MIN(MAX(0,$G7-'Paramètres'!$D$14),IF('Paramètres'!$E$14=0,MAX(0,$G7-'Paramètres'!$D$14),'Paramètres'!$E$14))*'Paramètres'!$C$14),0)) | L7: =IF($A7="","",IFERROR(IF('Paramètres'!$F$15<>"Oui",0,MIN(MAX(0,$G7-'Paramètres'!$D$15),IF('Paramètres'!$E$15=0,MAX(0,$G7-'Paramètres'!$D$15),'Paramètres'!$E$15))*'Paramètres'!$C$15),0)) | M7: =IF($A7="","",IFERROR(IF('Paramètres'!$F$16<>"Oui",0,MIN(MAX(0,$G7-'Paramètres'!$D$16),IF('Paramètres'!$E$16=0,MAX(0,$G7-'Paramètres'!$D$16),'Paramètres'!$E$16))*'Paramètres'!$C$16),0)) | N7: =IF($A7="","",IFERROR(IF('Paramètres'!$F$17<>"Oui",0,MIN(MAX(0,$G7-'Paramètres'!$D$17),IF('Paramètres'!$E$17=0,MAX(0,$G7-'Paramètres'!$D$17),'Paramètres'!$E$17))*'Paramètres'!$C$17),0)) | O7: =IF($A7="","",IFERROR(IF('Paramètres'!$F$18<>"Oui",0,MIN(MAX(0,$G7-'Paramètres'!$D$18),IF('Paramètres'!$E$18=0,MAX(0,$G7-'Paramètres'!$D$18),'Paramètres'!$E$18))*'Paramètres'!$C$18),0)) | P7: =IF($A7="","",IFERROR(IF('Paramètres'!$F$19<>"Oui",0,MIN(MAX(0,$G7-'Paramètres'!$D$19),IF('Paramètres'!$E$19=0,MAX(0,$G7-'Paramètres'!$D$19),'Paramètres'!$E$19))*'Paramètres'!$C$19),0)) | Q7: =IF($A7="","",IFERROR(IF('Paramètres'!$F$20<>"Oui",0,MIN(MAX(0,$G7-'Paramètres'!$D$20),IF('Paramètres'!$E$20=0,MAX(0,$G7-'Paramètres'!$D$20),'Paramètres'!$E$20))*'Paramètres'!$C$20),0)) | R7: =IF($A7="","",IFERROR(IF('Paramètres'!$F$21<>"Oui",0,MIN(MAX(0,$G7-'Paramètres'!$D$21),IF('Paramètres'!$E$21=0,MAX(0,$G7-'Paramètres'!$D$21),'Paramètres'!$E$21))*'Paramètres'!$C$21),0)) | S7: =IF($A7="","",IFERROR(IF('Paramètres'!$F$22<>"Oui",0,MIN(MAX(0,$G7-'Paramètres'!$D$22),IF('Paramètres'!$E$22=0,MAX(0,$G7-'Paramètres'!$D$22),'Paramètres'!$E$22))*'Paramètres'!$C$22),0)) | T7: =IF($A7="","",IFERROR(SUM($J7:$S7),0)) | U7: =IF($A7="","",IFERROR($E7+$F7+$H7+$T7,0)) | V7: =IF($A7="","",IFERROR($U7/12,0)) | W7: =IF($A7="","",IFERROR(($U7/$E7)-1,0)) | X7: =IF($A7="","",IFERROR(IF(OR($E7<0,$F7<0,$H7<0),"À vérifier","OK"),"À vérifier")) | Y7: =IF($A7="","",IFERROR(IF(COUNTIFS('Paramètres'!$F$13:$F$22,"Oui",'Paramètres'!$C$13:$C$22,0)>0,"Taux actif à vérifier",IF(COUNTIFS('Paramètres'!$F$13:$F$22,"Oui",'Paramètres'!$H$13:$H$22,"")>0,"Date à vérifier","OK")),"À vérifier")) | Z7: =IF($A7="","",IFERROR(IF(ABS($U7-($E7+$F7+$H7+$T7))<0.01,"OK","Écart à vérifier"),"Écart à vérifier")) | AA7: =IF($A7="","",IFERROR(IF(AND($X7="OK",$Y7="OK",$Z7="OK"),"Calcul prêt","À vérifier"),"À vérifier"))
A8: E-002 | B8: Mathieu Tremblay | C8: Estimateur | D8: Permanent | E8: 62000 | F8: 850 | G8: =IF($A8="","",IFERROR($E8+$F8,0)) | H8: 1800 | I8: Allocation et outils de travail | J8: =IF($A8="","",IFERROR(IF('Paramètres'!$F$13<>"Oui",0,MIN(MAX(0,$G8-'Paramètres'!$D$13),IF('Paramètres'!$E$13=0,MAX(0,$G8-'Paramètres'!$D$13),'Paramètres'!$E$13))*'Paramètres'!$C$13),0)) | K8: =IF($A8="","",IFERROR(IF('Paramètres'!$F$14<>"Oui",0,MIN(MAX(0,$G8-'Paramètres'!$D$14),IF('Paramètres'!$E$14=0,MAX(0,$G8-'Paramètres'!$D$14),'Paramètres'!$E$14))*'Paramètres'!$C$14),0)) | L8: =IF($A8="","",IFERROR(IF('Paramètres'!$F$15<>"Oui",0,MIN(MAX(0,$G8-'Paramètres'!$D$15),IF('Paramètres'!$E$15=0,MAX(0,$G8-'Paramètres'!$D$15),'Paramètres'!$E$15))*'Paramètres'!$C$15),0)) | M8: =IF($A8="","",IFERROR(IF('Paramètres'!$F$16<>"Oui",0,MIN(MAX(0,$G8-'Paramètres'!$D$16),IF('Paramètres'!$E$16=0,MAX(0,$G8-'Paramètres'!$D$16),'Paramètres'!$E$16))*'Paramètres'!$C$16),0)) | N8: =IF($A8="","",IFERROR(IF('Paramètres'!$F$17<>"Oui",0,MIN(MAX(0,$G8-'Paramètres'!$D$17),IF('Paramètres'!$E$17=0,MAX(0,$G8-'Paramètres'!$D$17),'Paramètres'!$E$17))*'Paramètres'!$C$17),0)) | O8: =IF($A8="","",IFERROR(IF('Paramètres'!$F$18<>"Oui",0,MIN(MAX(0,$G8-'Paramètres'!$D$18),IF('Paramètres'!$E$18=0,MAX(0,$G8-'Paramètres'!$D$18),'Paramètres'!$E$18))*'Paramètres'!$C$18),0)) | P8: =IF($A8="","",IFERROR(IF('Paramètres'!$F$19<>"Oui",0,MIN(MAX(0,$G8-'Paramètres'!$D$19),IF('Paramètres'!$E$19=0,MAX(0,$G8-'Paramètres'!$D$19),'Paramètres'!$E$19))*'Paramètres'!$C$19),0)) | Q8: =IF($A8="","",IFERROR(IF('Paramètres'!$F$20<>"Oui",0,MIN(MAX(0,$G8-'Paramètres'!$D$20),IF('Paramètres'!$E$20=0,MAX(0,$G8-'Paramètres'!$D$20),'Paramètres'!$E$20))*'Paramètres'!$C$20),0)) | R8: =IF($A8="","",IFERROR(IF('Paramètres'!$F$21<>"Oui",0,MIN(MAX(0,$G8-'Paramètres'!$D$21),IF('Paramètres'!$E$21=0,MAX(0,$G8-'Paramètres'!$D$21),'Paramètres'!$E$21))*'Paramètres'!$C$21),0)) | S8: =IF($A8="","",IFERROR(IF('Paramètres'!$F$22<>"Oui",0,MIN(MAX(0,$G8-'Paramètres'!$D$22),IF('Paramètres'!$E$22=0,MAX(0,$G8-'Paramètres'!$D$22),'Paramètres'!$E$22))*'Paramètres'!$C$22),0)) | T8: =IF($A8="","",IFERROR(SUM($J8:$S8),0)) | U8: =IF($A8="","",IFERROR($E8+$F8+$H8+$T8,0)) | V8: =IF($A8="","",IFERROR($U8/12,0)) | W8: =IF($A8="","",IFERROR(($U8/$E8)-1,0)) | X8: =IF($A8="","",IFERROR(IF(OR($E8<0,$F8<0,$H8<0),"À vérifier","OK"),"À vérifier")) | Y8: =IF($A8="","",IFERROR(IF(COUNTIFS('Paramètres'!$F$13:$F$22,"Oui",'Paramètres'!$C$13:$C$22,0)>0,"Taux actif à vérifier",IF(COUNTIFS('Paramètres'!$F$13:$F$22,"Oui",'Paramètres'!$H$13:$H$22,"")>0,"Date à vérifier","OK")),"À vérifier")) | Z8: =IF($A8="","",IFERROR(IF(ABS($U8-($E8+$F8+$H8+$T8))<0.01,"OK","Écart à vérifier"),"Écart à vérifier")) | AA8: =IF($A8="","",IFERROR(IF(AND($X8="OK",$Y8="OK",$Z8="OK"),"Calcul prêt","À vérifier"),"À vérifier"))
A9: E-003 | B9: Sarah Bouchard | C9: Technicienne comptable | D9: Permanent | E9: 58500 | F9: 0 | G9: =IF($A9="","",IFERROR($E9+$F9,0)) | H9: 1500 | I9: Formation annuelle incluse aux coûts directs | J9: =IF($A9="","",IFERROR(IF('Paramètres'!$F$13<>"Oui",0,MIN(MAX(0,$G9-'Paramètres'!$D$13),IF('Paramètres'!$E$13=0,MAX(0,$G9-'Paramètres'!$D$13),'Paramètres'!$E$13))*'Paramètres'!$C$13),0)) | K9: =IF($A9="","",IFERROR(IF('Paramètres'!$F$14<>"Oui",0,MIN(MAX(0,$G9-'Paramètres'!$D$14),IF('Paramètres'!$E$14=0,MAX(0,$G9-'Paramètres'!$D$14),'Paramètres'!$E$14))*'Paramètres'!$C$14),0)) | L9: =IF($A9="","",IFERROR(IF('Paramètres'!$F$15<>"Oui",0,MIN(MAX(0,$G9-'Paramètres'!$D$15),IF('Paramètres'!$E$15=0,MAX(0,$G9-'Paramètres'!$D$15),'Paramètres'!$E$15))*'Paramètres'!$C$15),0)) | M9: =IF($A9="","",IFERROR(IF('Paramètres'!$F$16<>"Oui",0,MIN(MAX(0,$G9-'Paramètres'!$D$16),IF('Paramètres'!$E$16=0,MAX(0,$G9-'Paramètres'!$D$16),'Paramètres'!$E$16))*'Paramètres'!$C$16),0)) | N9: =IF($A9="","",IFERROR(IF('Paramètres'!$F$17<>"Oui",0,MIN(MAX(0,$G9-'Paramètres'!$D$17),IF('Paramètres'!$E$17=0,MAX(0,$G9-'Paramètres'!$D$17),'Paramètres'!$E$17))*'Paramètres'!$C$17),0)) | O9: =IF($A9="","",IFERROR(IF('Paramètres'!$F$18<>"Oui",0,MIN(MAX(0,$G9-'Paramètres'!$D$18),IF('Paramètres'!$E$18=0,MAX(0,$G9-'Paramètres'!$D$18),'Paramètres'!$E$18))*'Paramètres'!$C$18),0)) | P9: =IF($A9="","",IFERROR(IF('Paramètres'!$F$19<>"Oui",0,MIN(MAX(0,$G9-'Paramètres'!$D$19),IF('Paramètres'!$E$19=0,MAX(0,$G9-'Paramètres'!$D$19),'Paramètres'!$E$19))*'Paramètres'!$C$19),0)) | Q9: =IF($A9="","",IFERROR(IF('Paramètres'!$F$20<>"Oui",0,MIN(MAX(0,$G9-'Paramètres'!$D$20),IF('Paramètres'!$E$20=0,MAX(0,$G9-'Paramètres'!$D$20),'Paramètres'!$E$20))*'Paramètres'!$C$20),0)) | R9: =IF($A9="","",IFERROR(IF('Paramètres'!$F$21<>"Oui",0,MIN(MAX(0,$G9-'Paramètres'!$D$21),IF('Paramètres'!$E$21=0,MAX(0,$G9-'Paramètres'!$D$21),'Paramètres'!$E$21))*'Paramètres'!$C$21),0)) | S9: =IF($A9="","",IFERROR(IF('Paramètres'!$F$22<>"Oui",0,MIN(MAX(0,$G9-'Paramètres'!$D$22),IF('Paramètres'!$E$22=0,MAX(0,$G9-'Paramètres'!$D$22),'Paramètres'!$E$22))*'Paramètres'!$C$22),0)) | T9: =IF($A9="","",IFERROR(SUM($J9:$S9),0)) | U9: =IF($A9="","",IFERROR($E9+$F9+$H9+$T9,0)) | V9: =IF($A9="","",IFERROR($U9/12,0)) | W9: =IF($A9="","",IFERROR(($U9/$E9)-1,0)) | X9: =IF($A9="","",IFERROR(IF(OR($E9<0,$F9<0,$H9<0),"À vérifier","OK"),"À vérifier")) | Y9: =IF($A9="","",IFERROR(IF(COUNTIFS('Paramètres'!$F$13:$F$22,"Oui",'Paramètres'!$C$13:$C$22,0)>0,"Taux actif à vérifier",IF(COUNTIFS('Paramètres'!$F$13:$F$22,"Oui",'Paramètres'!$H$13:$H$22,"")>0,"Date à vérifier","OK")),"À vérifier")) | Z9: =IF($A9="","",IFERROR(IF(ABS($U9-($E9+$F9+$H9+$T9))<0.01,"OK","Écart à vérifier"),"Écart à vérifier")) | AA9: =IF($A9="","",IFERROR(IF(AND($X9="OK",$Y9="OK",$Z9="OK"),"Calcul prêt","À vérifier"),"À vérifier"))
A10: E-004 | B10: Félix Roy | C10: Chargé de projets | D10: Permanent | E10: 78000 | F10: 1200 | G10: =IF($A10="","",IFERROR($E10+$F10,0)) | H10: 2400 | I10: Cellulaire et déplacements professionnels | J10: =IF($A10="","",IFERROR(IF('Paramètres'!$F$13<>"Oui",0,MIN(MAX(0,$G10-'Paramètres'!$D$13),IF('Paramètres'!$E$13=0,MAX(0,$G10-'Paramètres'!$D$13),'Paramètres'!$E$13))*'Paramètres'!$C$13),0)) | K10: =IF($A10="","",IFERROR(IF('Paramètres'!$F$14<>"Oui",0,MIN(MAX(0,$G10-'Paramètres'!$D$14),IF('Paramètres'!$E$14=0,MAX(0,$G10-'Paramètres'!$D$14),'Paramètres'!$E$14))*'Paramètres'!$C$14),0)) | L10: =IF($A10="","",IFERROR(IF('Paramètres'!$F$15<>"Oui",0,MIN(MAX(0,$G10-'Paramètres'!$D$15),IF('Paramètres'!$E$15=0,MAX(0,$G10-'Paramètres'!$D$15),'Paramètres'!$E$15))*'Paramètres'!$C$15),0)) | M10: =IF($A10="","",IFERROR(IF('Paramètres'!$F$16<>"Oui",0,MIN(MAX(0,$G10-'Paramètres'!$D$16),IF('Paramètres'!$E$16=0,MAX(0,$G10-'Paramètres'!$D$16),'Paramètres'!$E$16))*'Paramètres'!$C$16),0)) | N10: =IF($A10="","",IFERROR(IF('Paramètres'!$F$17<>"Oui",0,MIN(MAX(0,$G10-'Paramètres'!$D$17),IF('Paramètres'!$E$17=0,MAX(0,$G10-'Paramètres'!$D$17),'Paramètres'!$E$17))*'Paramètres'!$C$17),0)) | O10: =IF($A10="","",IFERROR(IF('Paramètres'!$F$18<>"Oui",0,MIN(MAX(0,$G10-'Paramètres'!$D$18),IF('Paramètres'!$E$18=0,MAX(0,$G10-'Paramètres'!$D$18),'Paramètres'!$E$18))*'Paramètres'!$C$18),0)) | P10: =IF($A10="","",IFERROR(IF('Paramètres'!$F$19<>"Oui",0,MIN(MAX(0,$G10-'Paramètres'!$D$19),IF('Paramètres'!$E$19=0,MAX(0,$G10-'Paramètres'!$D$19),'Paramètres'!$E$19))*'Paramètres'!$C$19),0)) | Q10: =IF($A10="","",IFERROR(IF('Paramètres'!$F$20<>"Oui",0,MIN(MAX(0,$G10-'Paramètres'!$D$20),IF('Paramètres'!$E$20=0,MAX(0,$G10-'Paramètres'!$D$20),'Paramètres'!$E$20))*'Paramètres'!$C$20),0)) | R10: =IF($A10="","",IFERROR(IF('Paramètres'!$F$21<>"Oui",0,MIN(MAX(0,$G10-'Paramètres'!$D$21),IF('Paramètres'!$E$21=0,MAX(0,$G10-'Paramètres'!$D$21),'Paramètres'!$E$21))*'Paramètres'!$C$21),0)) | S10: =IF($A10="","",IFERROR(IF('Paramètres'!$F$22<>"Oui",0,MIN(MAX(0,$G10-'Paramètres'!$D$22),IF('Paramètres'!$E$22=0,MAX(0,$G10-'Paramètres'!$D$22),'Paramètres'!$E$22))*'Paramètres'!$C$22),0)) | T10: =IF($A10="","",IFERROR(SUM($J10:$S10),0)) | U10: =IF($A10="","",IFERROR($E10+$F10+$H10+$T10,0)) | V10: =IF($A10="","",IFERROR($U10/12,0)) | W10: =IF($A10="","",IFERROR(($U10/$E10)-1,0)) | X10: =IF($A10="","",IFERROR(IF(OR($E10<0,$F10<0,$H10<0),"À vérifier","OK"),"À vérifier")) | Y10: =IF($A10="","",IFERROR(IF(COUNTIFS('Paramètres'!$F$13:$F$22,"Oui",'Paramètres'!$C$13:$C$22,0)>0,"Taux actif à vérifier",IF(COUNTIFS('Paramètres'!$F$13:$F$22,"Oui",'Paramètres'!$H$13:$H$22,"")>0,"Date à vérifier","OK")),"À vérifier")) | Z10: =IF($A10="","",IFERROR(IF(ABS($U10-($E10+$F10+$H10+$T10))<0.01,"OK","Écart à vérifier"),"Écart à vérifier")) | AA10: =IF($A10="","",IFERROR(IF(AND($X10="OK",$Y10="OK",$Z10="OK"),"Calcul prêt","À vérifier"),"À vérifier"))
A11: E-005 | B11: Geneviève Côté | C11: Coordonnatrice RH | D11: Permanent | E11: 71500 | F11: 0 | G11: =IF($A11="","",IFERROR($E11+$F11,0)) | H11: 2100 | I11: Budget de perfectionnement inclus | J11: =IF($A11="","",IFERROR(IF('Paramètres'!$F$13<>"Oui",0,MIN(MAX(0,$G11-'Paramètres'!$D$13),IF('Paramètres'!$E$13=0,MAX(0,$G11-'Paramètres'!$D$13),'Paramètres'!$E$13))*'Paramètres'!$C$13),0)) | K11: =IF($A11="","",IFERROR(IF('Paramètres'!$F$14<>"Oui",0,MIN(MAX(0,$G11-'Paramètres'!$D$14),IF('Paramètres'!$E$14=0,MAX(0,$G11-'Paramètres'!$D$14),'Paramètres'!$E$14))*'Paramètres'!$C$14),0)) | L11: =IF($A11="","",IFERROR(IF('Paramètres'!$F$15<>"Oui",0,MIN(MAX(0,$G11-'Paramètres'!$D$15),IF('Paramètres'!$E$15=0,MAX(0,$G11-'Paramètres'!$D$15),'Paramètres'!$E$15))*'Paramètres'!$C$15),0)) | M11: =IF($A11="","",IFERROR(IF('Paramètres'!$F$16<>"Oui",0,MIN(MAX(0,$G11-'Paramètres'!$D$16),IF('Paramètres'!$E$16=0,MAX(0,$G11-'Paramètres'!$D$16),'Paramètres'!$E$16))*'Paramètres'!$C$16),0)) | N11: =IF($A11="","",IFERROR(IF('Paramètres'!$F$17<>"Oui",0,MIN(MAX(0,$G11-'Paramètres'!$D$17),IF('Paramètres'!$E$17=0,MAX(0,$G11-'Paramètres'!$D$17),'Paramètres'!$E$17))*'Paramètres'!$C$17),0)) | O11: =IF($A11="","",IFERROR(IF('Paramètres'!$F$18<>"Oui",0,MIN(MAX(0,$G11-'Paramètres'!$D$18),IF('Paramètres'!$E$18=0,MAX(0,$G11-'Paramètres'!$D$18),'Paramètres'!$E$18))*'Paramètres'!$C$18),0)) | P11: =IF($A11="","",IFERROR(IF('Paramètres'!$F$19<>"Oui",0,MIN(MAX(0,$G11-'Paramètres'!$D$19),IF('Paramètres'!$E$19=0,MAX(0,$G11-'Paramètres'!$D$19),'Paramètres'!$E$19))*'Paramètres'!$C$19),0)) | Q11: =IF($A11="","",IFERROR(IF('Paramètres'!$F$20<>"Oui",0,MIN(MAX(0,$G11-'Paramètres'!$D$20),IF('Paramètres'!$E$20=0,MAX(0,$G11-'Paramètres'!$D$20),'Paramètres'!$E$20))*'Paramètres'!$C$20),0)) | R11: =IF($A11="","",IFERROR(IF('Paramètres'!$F$21<>"Oui",0,MIN(MAX(0,$G11-'Paramètres'!$D$21),IF('Paramètres'!$E$21=0,MAX(0,$G11-'Paramètres'!$D$21),'Paramètres'!$E$21))*'Paramètres'!$C$21),0)) | S11: =IF($A11="","",IFERROR(IF('Paramètres'!$F$22<>"Oui",0,MIN(MAX(0,$G11-'Paramètres'!$D$22),IF('Paramètres'!$E$22=0,MAX(0,$G11-'Paramètres'!$D$22),'Paramètres'!$E$22))*'Paramètres'!$C$22),0)) | T11: =IF($A11="","",IFERROR(SUM($J11:$S11),0)) | U11: =IF($A11="","",IFERROR($E11+$F11+$H11+$T11,0)) | V11: =IF($A11="","",IFERROR($U11/12,0)) | W11: =IF($A11="","",IFERROR(($U11/$E11)-1,0)) | X11: =IF($A11="","",IFERROR(IF(OR($E11<0,$F11<0,$H11<0),"À vérifier","OK"),"À vérifier")) | Y11: =IF($A11="","",IFERROR(IF(COUNTIFS('Paramètres'!$F$13:$F$22,"Oui",'Paramètres'!$C$13:$C$22,0)>0,"Taux actif à vérifier",IF(COUNTIFS('Paramètres'!$F$13:$F$22,"Oui",'Paramètres'!$H$13:$H$22,"")>0,"Date à vérifier","OK")),"À vérifier")) | Z11: =IF($A11="","",IFERROR(IF(ABS($U11-($E11+$F11+$H11+$T11))<0.01,"OK","Écart à vérifier"),"Écart à vérifier")) | AA11: =IF($A11="","",IFERROR(IF(AND($X11="OK",$Y11="OK",$Z11="OK"),"Calcul prêt","À vérifier"),"À vérifier"))
A12: E-006 | B12: Olivier Lavoie | C12: Journalier spécialisé | D12: Temporaire | E12: 52000 | F12: 0 | G12: =IF($A12="","",IFERROR($E12+$F12,0)) | H12: 900 | I12: Contrat saisonnier | J12: =IF($A12="","",IFERROR(IF('Paramètres'!$F$13<>"Oui",0,MIN(MAX(0,$G12-'Paramètres'!$D$13),IF('Paramètres'!$E$13=0,MAX(0,$G12-'Paramètres'!$D$13),'Paramètres'!$E$13))*'Paramètres'!$C$13),0)) | K12: =IF($A12="","",IFERROR(IF('Paramètres'!$F$14<>"Oui",0,MIN(MAX(0,$G12-'Paramètres'!$D$14),IF('Paramètres'!$E$14=0,MAX(0,$G12-'Paramètres'!$D$14),'Paramètres'!$E$14))*'Paramètres'!$C$14),0)) | L12: =IF($A12="","",IFERROR(IF('Paramètres'!$F$15<>"Oui",0,MIN(MAX(0,$G12-'Paramètres'!$D$15),IF('Paramètres'!$E$15=0,MAX(0,$G12-'Paramètres'!$D$15),'Paramètres'!$E$15))*'Paramètres'!$C$15),0)) | M12: =IF($A12="","",IFERROR(IF('Paramètres'!$F$16<>"Oui",0,MIN(MAX(0,$G12-'Paramètres'!$D$16),IF('Paramètres'!$E$16=0,MAX(0,$G12-'Paramètres'!$D$16),'Paramètres'!$E$16))*'Paramètres'!$C$16),0)) | N12: =IF($A12="","",IFERROR(IF('Paramètres'!$F$17<>"Oui",0,MIN(MAX(0,$G12-'Paramètres'!$D$17),IF('Paramètres'!$E$17=0,MAX(0,$G12-'Paramètres'!$D$17),'Paramètres'!$E$17))*'Paramètres'!$C$17),0)) | O12: =IF($A12="","",IFERROR(IF('Paramètres'!$F$18<>"Oui",0,MIN(MAX(0,$G12-'Paramètres'!$D$18),IF('Paramètres'!$E$18=0,MAX(0,$G12-'Paramètres'!$D$18),'Paramètres'!$E$18))*'Paramètres'!$C$18),0)) | P12: =IF($A12="","",IFERROR(IF('Paramètres'!$F$19<>"Oui",0,MIN(MAX(0,$G12-'Paramètres'!$D$19),IF('Paramètres'!$E$19=0,MAX(0,$G12-'Paramètres'!$D$19),'Paramètres'!$E$19))*'Paramètres'!$C$19),0)) | Q12: =IF($A12="","",IFERROR(IF('Paramètres'!$F$20<>"Oui",0,MIN(MAX(0,$G12-'Paramètres'!$D$20),IF('Paramètres'!$E$20=0,MAX(0,$G12-'Paramètres'!$D$20),'Paramètres'!$E$20))*'Paramètres'!$C$20),0)) | R12: =IF($A12="","",IFERROR(IF('Paramètres'!$F$21<>"Oui",0,MIN(MAX(0,$G12-'Paramètres'!$D$21),IF('Paramètres'!$E$21=0,MAX(0,$G12-'Paramètres'!$D$21),'Paramètres'!$E$21))*'Paramètres'!$C$21),0)) | S12: =IF($A12="","",IFERROR(IF('Paramètres'!$F$22<>"Oui",0,MIN(MAX(0,$G12-'Paramètres'!$D$22),IF('Paramètres'!$E$22=0,MAX(0,$G12-'Paramètres'!$D$22),'Paramètres'!$E$22))*'Paramètres'!$C$22),0)) | T12: =IF($A12="","",IFERROR(SUM($J12:$S12),0)) | U12: =IF($A12="","",IFERROR($E12+$F12+$H12+$T12,0)) | V12: =IF($A12="","",IFERROR($U12/12,0)) | W12: =IF($A12="","",IFERROR(($U12/$E12)-1,0)) | X12: =IF($A12="","",IFERROR(IF(OR($E12<0,$F12<0,$H12<0),"À vérifier","OK"),"À vérifier")) | Y12: =IF($A12="","",IFERROR(IF(COUNTIFS('Paramètres'!$F$13:$F$22,"Oui",'Paramètres'!$C$13:$C$22,0)>0,"Taux actif à vérifier",IF(COUNTIFS('Paramètres'!$F$13:$F$22,"Oui",'Paramètres'!$H$13:$H$22,"")>0,"Date à vérifier","OK")),"À vérifier")) | Z12: =IF($A12="","",IFERROR(IF(ABS($U12-($E12+$F12+$H12+$T12))<0.01,"OK","Écart à vérifier"),"Écart à vérifier")) | AA12: =IF($A12="","",IFERROR(IF(AND($X12="OK",$Y12="OK",$Z12="OK"),"Calcul prêt","À vérifier"),"À vérifier"))
A13: E-007 | B13: Isabelle Morin | C13: Directrice des opérations | D13: Permanent | E13: 98000 | F13: 2500 | G13: =IF($A13="","",IFERROR($E13+$F13,0)) | H13: 4500 | I13: Assurances et représentation à confirmer | J13: =IF($A13="","",IFERROR(IF('Paramètres'!$F$13<>"Oui",0,MIN(MAX(0,$G13-'Paramètres'!$D$13),IF('Paramètres'!$E$13=0,MAX(0,$G13-'Paramètres'!$D$13),'Paramètres'!$E$13))*'Paramètres'!$C$13),0)) | K13: =IF($A13="","",IFERROR(IF('Paramètres'!$F$14<>"Oui",0,MIN(MAX(0,$G13-'Paramètres'!$D$14),IF('Paramètres'!$E$14=0,MAX(0,$G13-'Paramètres'!$D$14),'Paramètres'!$E$14))*'Paramètres'!$C$14),0)) | L13: =IF($A13="","",IFERROR(IF('Paramètres'!$F$15<>"Oui",0,MIN(MAX(0,$G13-'Paramètres'!$D$15),IF('Paramètres'!$E$15=0,MAX(0,$G13-'Paramètres'!$D$15),'Paramètres'!$E$15))*'Paramètres'!$C$15),0)) | M13: =IF($A13="","",IFERROR(IF('Paramètres'!$F$16<>"Oui",0,MIN(MAX(0,$G13-'Paramètres'!$D$16),IF('Paramètres'!$E$16=0,MAX(0,$G13-'Paramètres'!$D$16),'Paramètres'!$E$16))*'Paramètres'!$C$16),0)) | N13: =IF($A13="","",IFERROR(IF('Paramètres'!$F$17<>"Oui",0,MIN(MAX(0,$G13-'Paramètres'!$D$17),IF('Paramètres'!$E$17=0,MAX(0,$G13-'Paramètres'!$D$17),'Paramètres'!$E$17))*'Paramètres'!$C$17),0)) | O13: =IF($A13="","",IFERROR(IF('Paramètres'!$F$18<>"Oui",0,MIN(MAX(0,$G13-'Paramètres'!$D$18),IF('Paramètres'!$E$18=0,MAX(0,$G13-'Paramètres'!$D$18),'Paramètres'!$E$18))*'Paramètres'!$C$18),0)) | P13: =IF($A13="","",IFERROR(IF('Paramètres'!$F$19<>"Oui",0,MIN(MAX(0,$G13-'Paramètres'!$D$19),IF('Paramètres'!$E$19=0,MAX(0,$G13-'Paramètres'!$D$19),'Paramètres'!$E$19))*'Paramètres'!$C$19),0)) | Q13: =IF($A13="","",IFERROR(IF('Paramètres'!$F$20<>"Oui",0,MIN(MAX(0,$G13-'Paramètres'!$D$20),IF('Paramètres'!$E$20=0,MAX(0,$G13-'Paramètres'!$D$20),'Paramètres'!$E$20))*'Paramètres'!$C$20),0)) | R13: =IF($A13="","",IFERROR(IF('Paramètres'!$F$21<>"Oui",0,MIN(MAX(0,$G13-'Paramètres'!$D$21),IF('Paramètres'!$E$21=0,MAX(0,$G13-'Paramètres'!$D$21),'Paramètres'!$E$21))*'Paramètres'!$C$21),0)) | S13: =IF($A13="","",IFERROR(IF('Paramètres'!$F$22<>"Oui",0,MIN(MAX(0,$G13-'Paramètres'!$D$22),IF('Paramètres'!$E$22=0,MAX(0,$G13-'Paramètres'!$D$22),'Paramètres'!$E$22))*'Paramètres'!$C$22),0)) | T13: =IF($A13="","",IFERROR(SUM($J13:$S13),0)) | U13: =IF($A13="","",IFERROR($E13+$F13+$H13+$T13,0)) | V13: =IF($A13="","",IFERROR($U13/12,0)) | W13: =IF($A13="","",IFERROR(($U13/$E13)-1,0)) | X13: =IF($A13="","",IFERROR(IF(OR($E13<0,$F13<0,$H13<0),"À vérifier","OK"),"À vérifier")) | Y13: =IF($A13="","",IFERROR(IF(COUNTIFS('Paramètres'!$F$13:$F$22,"Oui",'Paramètres'!$C$13:$C$22,0)>0,"Taux actif à vérifier",IF(COUNTIFS('Paramètres'!$F$13:$F$22,"Oui",'Paramètres'!$H$13:$H$22,"")>0,"Date à vérifier","OK")),"À vérifier")) | Z13: =IF($A13="","",IFERROR(IF(ABS($U13-($E13+$F13+$H13+$T13))<0.01,"OK","Écart à vérifier"),"Écart à vérifier")) | AA13: =IF($A13="","",IFERROR(IF(AND($X13="OK",$Y13="OK",$Z13="OK"),"Calcul prêt","À vérifier"),"À vérifier"))
A14: E-008 | B14: Vincent Pelletier | C14: Représentant aux ventes | D14: Permanent | E14: 64000 | F14: 3000 | G14: =IF($A14="","",IFERROR($E14+$F14,0)) | H14: 3200 | I14: Avantages imposables liés à un véhicule | J14: =IF($A14="","",IFERROR(IF('Paramètres'!$F$13<>"Oui",0,MIN(MAX(0,$G14-'Paramètres'!$D$13),IF('Paramètres'!$E$13=0,MAX(0,$G14-'Paramètres'!$D$13),'Paramètres'!$E$13))*'Paramètres'!$C$13),0)) | K14: =IF($A14="","",IFERROR(IF('Paramètres'!$F$14<>"Oui",0,MIN(MAX(0,$G14-'Paramètres'!$D$14),IF('Paramètres'!$E$14=0,MAX(0,$G14-'Paramètres'!$D$14),'Paramètres'!$E$14))*'Paramètres'!$C$14),0)) | L14: =IF($A14="","",IFERROR(IF('Paramètres'!$F$15<>"Oui",0,MIN(MAX(0,$G14-'Paramètres'!$D$15),IF('Paramètres'!$E$15=0,MAX(0,$G14-'Paramètres'!$D$15),'Paramètres'!$E$15))*'Paramètres'!$C$15),0)) | M14: =IF($A14="","",IFERROR(IF('Paramètres'!$F$16<>"Oui",0,MIN(MAX(0,$G14-'Paramètres'!$D$16),IF('Paramètres'!$E$16=0,MAX(0,$G14-'Paramètres'!$D$16),'Paramètres'!$E$16))*'Paramètres'!$C$16),0)) | N14: =IF($A14="","",IFERROR(IF('Paramètres'!$F$17<>"Oui",0,MIN(MAX(0,$G14-'Paramètres'!$D$17),IF('Paramètres'!$E$17=0,MAX(0,$G14-'Paramètres'!$D$17),'Paramètres'!$E$17))*'Paramètres'!$C$17),0)) | O14: =IF($A14="","",IFERROR(IF('Paramètres'!$F$18<>"Oui",0,MIN(MAX(0,$G14-'Paramètres'!$D$18),IF('Paramètres'!$E$18=0,MAX(0,$G14-'Paramètres'!$D$18),'Paramètres'!$E$18))*'Paramètres'!$C$18),0)) | P14: =IF($A14="","",IFERROR(IF('Paramètres'!$F$19<>"Oui",0,MIN(MAX(0,$G14-'Paramètres'!$D$19),IF('Paramètres'!$E$19=0,MAX(0,$G14-'Paramètres'!$D$19),'Paramètres'!$E$19))*'Paramètres'!$C$19),0)) | Q14: =IF($A14="","",IFERROR(IF('Paramètres'!$F$20<>"Oui",0,MIN(MAX(0,$G14-'Paramètres'!$D$20),IF('Paramètres'!$E$20=0,MAX(0,$G14-'Paramètres'!$D$20),'Paramètres'!$E$20))*'Paramètres'!$C$20),0)) | R14: =IF($A14="","",IFERROR(IF('Paramètres'!$F$21<>"Oui",0,MIN(MAX(0,$G14-'Paramètres'!$D$21),IF('Paramètres'!$E$21=0,MAX(0,$G14-'Paramètres'!$D$21),'Paramètres'!$E$21))*'Paramètres'!$C$21),0)) | S14: =IF($A14="","",IFERROR(IF('Paramètres'!$F$22<>"Oui",0,MIN(MAX(0,$G14-'Paramètres'!$D$22),IF('Paramètres'!$E$22=0,MAX(0,$G14-'Paramètres'!$D$22),'Paramètres'!$E$22))*'Paramètres'!$C$22),0)) | T14: =IF($A14="","",IFERROR(SUM($J14:$S14),0)) | U14: =IF($A14="","",IFERROR($E14+$F14+$H14+$T14,0)) | V14: =IF($A14="","",IFERROR($U14/12,0)) | W14: =IF($A14="","",IFERROR(($U14/$E14)-1,0)) | X14: =IF($A14="","",IFERROR(IF(OR($E14<0,$F14<0,$H14<0),"À vérifier","OK"),"À vérifier")) | Y14: =IF($A14="","",IFERROR(IF(COUNTIFS('Paramètres'!$F$13:$F$22,"Oui",'Paramètres'!$C$13:$C$22,0)>0,"Taux actif à vérifier",IF(COUNTIFS('Paramètres'!$F$13:$F$22,"Oui",'Paramètres'!$H$13:$H$22,"")>0,"Date à vérifier","OK")),"À vérifier")) | Z14: =IF($A14="","",IFERROR(IF(ABS($U14-($E14+$F14+$H14+$T14))<0.01,"OK","Écart à vérifier"),"Écart à vérifier")) | AA14: =IF($A14="","",IFERROR(IF(AND($X14="OK",$Y14="OK",$Z14="OK"),"Calcul prêt","À vérifier"),"À vérifier"))
A15: E-009 | B15: Chloé Desjardins | C15: Designer graphique | D15: Contractuel | E15: 56000 | F15: 0 | G15: =IF($A15="","",IFERROR($E15+$F15,0)) | H15: 750 | I15: Vérifier les coûts applicables selon le statut | J15: =IF($A15="","",IFERROR(IF('Paramètres'!$F$13<>"Oui",0,MIN(MAX(0,$G15-'Paramètres'!$D$13),IF('Paramètres'!$E$13=0,MAX(0,$G15-'Paramètres'!$D$13),'Paramètres'!$E$13))*'Paramètres'!$C$13),0)) | K15: =IF($A15="","",IFERROR(IF('Paramètres'!$F$14<>"Oui",0,MIN(MAX(0,$G15-'Paramètres'!$D$14),IF('Paramètres'!$E$14=0,MAX(0,$G15-'Paramètres'!$D$14),'Paramètres'!$E$14))*'Paramètres'!$C$14),0)) | L15: =IF($A15="","",IFERROR(IF('Paramètres'!$F$15<>"Oui",0,MIN(MAX(0,$G15-'Paramètres'!$D$15),IF('Paramètres'!$E$15=0,MAX(0,$G15-'Paramètres'!$D$15),'Paramètres'!$E$15))*'Paramètres'!$C$15),0)) | M15: =IF($A15="","",IFERROR(IF('Paramètres'!$F$16<>"Oui",0,MIN(MAX(0,$G15-'Paramètres'!$D$16),IF('Paramètres'!$E$16=0,MAX(0,$G15-'Paramètres'!$D$16),'Paramètres'!$E$16))*'Paramètres'!$C$16),0)) | N15: =IF($A15="","",IFERROR(IF('Paramètres'!$F$17<>"Oui",0,MIN(MAX(0,$G15-'Paramètres'!$D$17),IF('Paramètres'!$E$17=0,MAX(0,$G15-'Paramètres'!$D$17),'Paramètres'!$E$17))*'Paramètres'!$C$17),0)) | O15: =IF($A15="","",IFERROR(IF('Paramètres'!$F$18<>"Oui",0,MIN(MAX(0,$G15-'Paramètres'!$D$18),IF('Paramètres'!$E$18=0,MAX(0,$G15-'Paramètres'!$D$18),'Paramètres'!$E$18))*'Paramètres'!$C$18),0)) | P15: =IF($A15="","",IFERROR(IF('Paramètres'!$F$19<>"Oui",0,MIN(MAX(0,$G15-'Paramètres'!$D$19),IF('Paramètres'!$E$19=0,MAX(0,$G15-'Paramètres'!$D$19),'Paramètres'!$E$19))*'Paramètres'!$C$19),0)) | Q15: =IF($A15="","",IFERROR(IF('Paramètres'!$F$20<>"Oui",0,MIN(MAX(0,$G15-'Paramètres'!$D$20),IF('Paramètres'!$E$20=0,MAX(0,$G15-'Paramètres'!$D$20),'Paramètres'!$E$20))*'Paramètres'!$C$20),0)) | R15: =IF($A15="","",IFERROR(IF('Paramètres'!$F$21<>"Oui",0,MIN(MAX(0,$G15-'Paramètres'!$D$21),IF('Paramètres'!$E$21=0,MAX(0,$G15-'Paramètres'!$D$21),'Paramètres'!$E$21))*'Paramètres'!$C$21),0)) | S15: =IF($A15="","",IFERROR(IF('Paramètres'!$F$22<>"Oui",0,MIN(MAX(0,$G15-'Paramètres'!$D$22),IF('Paramètres'!$E$22=0,MAX(0,$G15-'Paramètres'!$D$22),'Paramètres'!$E$22))*'Paramètres'!$C$22),0)) | T15: =IF($A15="","",IFERROR(SUM($J15:$S15),0)) | U15: =IF($A15="","",IFERROR($E15+$F15+$H15+$T15,0)) | V15: =IF($A15="","",IFERROR($U15/12,0)) | W15: =IF($A15="","",IFERROR(($U15/$E15)-1,0)) | X15: =IF($A15="","",IFERROR(IF(OR($E15<0,$F15<0,$H15<0),"À vérifier","OK"),"À vérifier")) | Y15: =IF($A15="","",IFERROR(IF(COUNTIFS('Paramètres'!$F$13:$F$22,"Oui",'Paramètres'!$C$13:$C$22,0)>0,"Taux actif à vérifier",IF(COUNTIFS('Paramètres'!$F$13:$F$22,"Oui",'Paramètres'!$H$13:$H$22,"")>0,"Date à vérifier","OK")),"À vérifier")) | Z15: =IF($A15="","",IFERROR(IF(ABS($U15-($E15+$F15+$H15+$T15))<0.01,"OK","Écart à vérifier"),"Écart à vérifier")) | AA15: =IF($A15="","",IFERROR(IF(AND($X15="OK",$Y15="OK",$Z15="OK"),"Calcul prêt","À vérifier"),"À vérifier"))
G16: =IF($A16="","",IFERROR($E16+$F16,0)) | J16: =IF($A16="","",IFERROR(IF('Paramètres'!$F$13<>"Oui",0,MIN(MAX(0,$G16-'Paramètres'!$D$13),IF('Paramètres'!$E$13=0,MAX(0,$G16-'Paramètres'!$D$13),'Paramètres'!$E$13))*'Paramètres'!$C$13),0)) | K16: =IF($A16="","",IFERROR(IF('Paramètres'!$F$14<>"Oui",0,MIN(MAX(0,$G16-'Paramètres'!$D$14),IF('Paramètres'!$E$14=0,MAX(0,$G16-'Paramètres'!$D$14),'Paramètres'!$E$14))*'Paramètres'!$C$14),0)) | L16: =IF($A16="","",IFERROR(IF('Paramètres'!$F$15<>"Oui",0,MIN(MAX(0,$G16-'Paramètres'!$D$15),IF('Paramètres'!$E$15=0,MAX(0,$G16-'Paramètres'!$D$15),'Paramètres'!$E$15))*'Paramètres'!$C$15),0)) | M16: =IF($A16="","",IFERROR(IF('Paramètres'!$F$16<>"Oui",0,MIN(MAX(0,$G16-'Paramètres'!$D$16),IF('Paramètres'!$E$16=0,MAX(0,$G16-'Paramètres'!$D$16),'Paramètres'!$E$16))*'Paramètres'!$C$16),0)) | N16: =IF($A16="","",IFERROR(IF('Paramètres'!$F$17<>"Oui",0,MIN(MAX(0,$G16-'Paramètres'!$D$17),IF('Paramètres'!$E$17=0,MAX(0,$G16-'Paramètres'!$D$17),'Paramètres'!$E$17))*'Paramètres'!$C$17),0)) | O16: =IF($A16="","",IFERROR(IF('Paramètres'!$F$18<>"Oui",0,MIN(MAX(0,$G16-'Paramètres'!$D$18),IF('Paramètres'!$E$18=0,MAX(0,$G16-'Paramètres'!$D$18),'Paramètres'!$E$18))*'Paramètres'!$C$18),0)) | P16: =IF($A16="","",IFERROR(IF('Paramètres'!$F$19<>"Oui",0,MIN(MAX(0,$G16-'Paramètres'!$D$19),IF('Paramètres'!$E$19=0,MAX(0,$G16-'Paramètres'!$D$19),'Paramètres'!$E$19))*'Paramètres'!$C$19),0)) | Q16: =IF($A16="","",IFERROR(IF('Paramètres'!$F$20<>"Oui",0,MIN(MAX(0,$G16-'Paramètres'!$D$20),IF('Paramètres'!$E$20=0,MAX(0,$G16-'Paramètres'!$D$20),'Paramètres'!$E$20))*'Paramètres'!$C$20),0)) | R16: =IF($A16="","",IFERROR(IF('Paramètres'!$F$21<>"Oui",0,MIN(MAX(0,$G16-'Paramètres'!$D$21),IF('Paramètres'!$E$21=0,MAX(0,$G16-'Paramètres'!$D$21),'Paramètres'!$E$21))*'Paramètres'!$C$21),0)) | S16: =IF($A16="","",IFERROR(IF('Paramètres'!$F$22<>"Oui",0,MIN(MAX(0,$G16-'Paramètres'!$D$22),IF('Paramètres'!$E$22=0,MAX(0,$G16-'Paramètres'!$D$22),'Paramètres'!$E$22))*'Paramètres'!$C$22),0)) | T16: =IF($A16="","",IFERROR(SUM($J16:$S16),0)) | U16: =IF($A16="","",IFERROR($E16+$F16+$H16+$T16,0)) | V16: =IF($A16="","",IFERROR($U16/12,0)) | W16: =IF($A16="","",IFERROR(($U16/$E16)-1,0)) | X16: =IF($A16="","",IFERROR(IF(OR($E16<0,$F16<0,$H16<0),"À vérifier","OK"),"À vérifier")) | Y16: =IF($A16="","",IFERROR(IF(COUNTIFS('Paramètres'!$F$13:$F$22,"Oui",'Paramètres'!$C$13:$C$22,0)>0,"Taux actif à vérifier",IF(COUNTIFS('Paramètres'!$F$13:$F$22,"Oui",'Paramètres'!$H$13:$H$22,"")>0,"Date à vérifier","OK")),"À vérifier")) | Z16: =IF($A16="","",IFERROR(IF(ABS($U16-($E16+$F16+$H16+$T16))<0.01,"OK","Écart à vérifier"),"Écart à vérifier")) | AA16: =IF($A16="","",IFERROR(IF(AND($X16="OK",$Y16="OK",$Z16="OK"),"Calcul prêt","À vérifier"),"À vérifier"))
G17: =IF($A17="","",IFERROR($E17+$F17,0)) | J17: =IF($A17="","",IFERROR(IF('Paramètres'!$F$13<>"Oui",0,MIN(MAX(0,$G17-'Paramètres'!$D$13),IF('Paramètres'!$E$13=0,MAX(0,$G17-'Paramètres'!$D$13),'Paramètres'!$E$13))*'Paramètres'!$C$13),0)) | K17: =IF($A17="","",IFERROR(IF('Paramètres'!$F$14<>"Oui",0,MIN(MAX(0,$G17-'Paramètres'!$D$14),IF('Paramètres'!$E$14=0,MAX(0,$G17-'Paramètres'!$D$14),'Paramètres'!$E$14))*'Paramètres'!$C$14),0)) | L17: =IF($A17="","",IFERROR(IF('Paramètres'!$F$15<>"Oui",0,MIN(MAX(0,$G17-'Paramètres'!$D$15),IF('Paramètres'!$E$15=0,MAX(0,$G17-'Paramètres'!$D$15),'Paramètres'!$E$15))*'Paramètres'!$C$15),0)) | M17: =IF($A17="","",IFERROR(IF('Paramètres'!$F$16<>"Oui",0,MIN(MAX(0,$G17-'Paramètres'!$D$16),IF('Paramètres'!$E$16=0,MAX(0,$G17-'Paramètres'!$D$16),'Paramètres'!$E$16))*'Paramètres'!$C$16),0)) | N17: =IF($A17="","",IFERROR(IF('Paramètres'!$F$17<>"Oui",0,MIN(MAX(0,$G17-'Paramètres'!$D$17),IF('Paramètres'!$E$17=0,MAX(0,$G17-'Paramètres'!$D$17),'Paramètres'!$E$17))*'Paramètres'!$C$17),0)) | O17: =IF($A17="","",IFERROR(IF('Paramètres'!$F$18<>"Oui",0,MIN(MAX(0,$G17-'Paramètres'!$D$18),IF('Paramètres'!$E$18=0,MAX(0,$G17-'Paramètres'!$D$18),'Paramètres'!$E$18))*'Paramètres'!$C$18),0)) | P17: =IF($A17="","",IFERROR(IF('Paramètres'!$F$19<>"Oui",0,MIN(MAX(0,$G17-'Paramètres'!$D$19),IF('Paramètres'!$E$19=0,MAX(0,$G17-'Paramètres'!$D$19),'Paramètres'!$E$19))*'Paramètres'!$C$19),0)) | Q17: =IF($A17="","",IFERROR(IF('Paramètres'!$F$20<>"Oui",0,MIN(MAX(0,$G17-'Paramètres'!$D$20),IF('Paramètres'!$E$20=0,MAX(0,$G17-'Paramètres'!$D$20),'Paramètres'!$E$20))*'Paramètres'!$C$20),0)) | R17: =IF($A17="","",IFERROR(IF('Paramètres'!$F$21<>"Oui",0,MIN(MAX(0,$G17-'Paramètres'!$D$21),IF('Paramètres'!$E$21=0,MAX(0,$G17-'Paramètres'!$D$21),'Paramètres'!$E$21))*'Paramètres'!$C$21),0)) | S17: =IF($A17="","",IFERROR(IF('Paramètres'!$F$22<>"Oui",0,MIN(MAX(0,$G17-'Paramètres'!$D$22),IF('Paramètres'!$E$22=0,MAX(0,$G17-'Paramètres'!$D$22),'Paramètres'!$E$22))*'Paramètres'!$C$22),0)) | T17: =IF($A17="","",IFERROR(SUM($J17:$S17),0)) | U17: =IF($A17="","",IFERROR($E17+$F17+$H17+$T17,0)) | V17: =IF($A17="","",IFERROR($U17/12,0)) | W17: =IF($A17="","",IFERROR(($U17/$E17)-1,0)) | X17: =IF($A17="","",IFERROR(IF(OR($E17<0,$F17<0,$H17<0),"À vérifier","OK"),"À vérifier")) | Y17: =IF($A17="","",IFERROR(IF(COUNTIFS('Paramètres'!$F$13:$F$22,"Oui",'Paramètres'!$C$13:$C$22,0)>0,"Taux actif à vérifier",IF(COUNTIFS('Paramètres'!$F$13:$F$22,"Oui",'Paramètres'!$H$13:$H$22,"")>0,"Date à vérifier","OK")),"À vérifier")) | Z17: =IF($A17="","",IFERROR(IF(ABS($U17-($E17+$F17+$H17+$T17))<0.01,"OK","Écart à vérifier"),"Écart à vérifier")) | AA17: =IF($A17="","",IFERROR(IF(AND($X17="OK",$Y17="OK",$Z17="OK"),"Calcul prêt","À vérifier"),"À vérifier"))
G18: =IF($A18="","",IFERROR($E18+$F18,0)) | J18: =IF($A18="","",IFERROR(IF('Paramètres'!$F$13<>"Oui",0,MIN(MAX(0,$G18-'Paramètres'!$D$13),IF('Paramètres'!$E$13=0,MAX(0,$G18-'Paramètres'!$D$13),'Paramètres'!$E$13))*'Paramètres'!$C$13),0)) | K18: =IF($A18="","",IFERROR(IF('Paramètres'!$F$14<>"Oui",0,MIN(MAX(0,$G18-'Paramètres'!$D$14),IF('Paramètres'!$E$14=0,MAX(0,$G18-'Paramètres'!$D$14),'Paramètres'!$E$14))*'Paramètres'!$C$14),0)) | L18: =IF($A18="","",IFERROR(IF('Paramètres'!$F$15<>"Oui",0,MIN(MAX(0,$G18-'Paramètres'!$D$15),IF('Paramètres'!$E$15=0,MAX(0,$G18-'Paramètres'!$D$15),'Paramètres'!$E$15))*'Paramètres'!$C$15),0)) | M18: =IF($A18="","",IFERROR(IF('Paramètres'!$F$16<>"Oui",0,MIN(MAX(0,$G18-'Paramètres'!$D$16),IF('Paramètres'!$E$16=0,MAX(0,$G18-'Paramètres'!$D$16),'Paramètres'!$E$16))*'Paramètres'!$C$16),0)) | N18: =IF($A18="","",IFERROR(IF('Paramètres'!$F$17<>"Oui",0,MIN(MAX(0,$G18-'Paramètres'!$D$17),IF('Paramètres'!$E$17=0,MAX(0,$G18-'Paramètres'!$D$17),'Paramètres'!$E$17))*'Paramètres'!$C$17),0)) | O18: =IF($A18="","",IFERROR(IF('Paramètres'!$F$18<>"Oui",0,MIN(MAX(0,$G18-'Paramètres'!$D$18),IF('Paramètres'!$E$18=0,MAX(0,$G18-'Paramètres'!$D$18),'Paramètres'!$E$18))*'Paramètres'!$C$18),0)) | P18: =IF($A18="","",IFERROR(IF('Paramètres'!$F$19<>"Oui",0,MIN(MAX(0,$G18-'Paramètres'!$D$19),IF('Paramètres'!$E$19=0,MAX(0,$G18-'Paramètres'!$D$19),'Paramètres'!$E$19))*'Paramètres'!$C$19),0)) | Q18: =IF($A18="","",IFERROR(IF('Paramètres'!$F$20<>"Oui",0,MIN(MAX(0,$G18-'Paramètres'!$D$20),IF('Paramètres'!$E$20=0,MAX(0,$G18-'Paramètres'!$D$20),'Paramètres'!$E$20))*'Paramètres'!$C$20),0)) | R18: =IF($A18="","",IFERROR(IF('Paramètres'!$F$21<>"Oui",0,MIN(MAX(0,$G18-'Paramètres'!$D$21),IF('Paramètres'!$E$21=0,MAX(0,$G18-'Paramètres'!$D$21),'Paramètres'!$E$21))*'Paramètres'!$C$21),0)) | S18: =IF($A18="","",IFERROR(IF('Paramètres'!$F$22<>"Oui",0,MIN(MAX(0,$G18-'Paramètres'!$D$22),IF('Paramètres'!$E$22=0,MAX(0,$G18-'Paramètres'!$D$22),'Paramètres'!$E$22))*'Paramètres'!$C$22),0)) | T18: =IF($A18="","",IFERROR(SUM($J18:$S18),0)) | U18: =IF($A18="","",IFERROR($E18+$F18+$H18+$T18,0)) | V18: =IF($A18="","",IFERROR($U18/12,0)) | W18: =IF($A18="","",IFERROR(($U18/$E18)-1,0)) | X18: =IF($A18="","",IFERROR(IF(OR($E18<0,$F18<0,$H18<0),"À vérifier","OK"),"À vérifier")) | Y18: =IF($A18="","",IFERROR(IF(COUNTIFS('Paramètres'!$F$13:$F$22,"Oui",'Paramètres'!$C$13:$C$22,0)>0,"Taux actif à vérifier",IF(COUNTIFS('Paramètres'!$F$13:$F$22,"Oui",'Paramètres'!$H$13:$H$22,"")>0,"Date à vérifier","OK")),"À vérifier")) | Z18: =IF($A18="","",IFERROR(IF(ABS($U18-($E18+$F18+$H18+$T18))<0.01,"OK","Écart à vérifier"),"Écart à vérifier")) | AA18: =IF($A18="","",IFERROR(IF(AND($X18="OK",$Y18="OK",$Z18="OK"),"Calcul prêt","À vérifier"),"À vérifier"))
G19: =IF($A19="","",IFERROR($E19+$F19,0)) | J19: =IF($A19="","",IFERROR(IF('Paramètres'!$F$13<>"Oui",0,MIN(MAX(0,$G19-'Paramètres'!$D$13),IF('Paramètres'!$E$13=0,MAX(0,$G19-'Paramètres'!$D$13),'Paramètres'!$E$13))*'Paramètres'!$C$13),0)) | K19: =IF($A19="","",IFERROR(IF('Paramètres'!$F$14<>"Oui",0,MIN(MAX(0,$G19-'Paramètres'!$D$14),IF('Paramètres'!$E$14=0,MAX(0,$G19-'Paramètres'!$D$14),'Paramètres'!$E$14))*'Paramètres'!$C$14),0)) | L19: =IF($A19="","",IFERROR(IF('Paramètres'!$F$15<>"Oui",0,MIN(MAX(0,$G19-'Paramètres'!$D$15),IF('Paramètres'!$E$15=0,MAX(0,$G19-'Paramètres'!$D$15),'Paramètres'!$E$15))*'Paramètres'!$C$15),0)) | M19: =IF($A19="","",IFERROR(IF('Paramètres'!$F$16<>"Oui",0,MIN(MAX(0,$G19-'Paramètres'!$D$16),IF('Paramètres'!$E$16=0,MAX(0,$G19-'Paramètres'!$D$16),'Paramètres'!$E$16))*'Paramètres'!$C$16),0)) | N19: =IF($A19="","",IFERROR(IF('Paramètres'!$F$17<>"Oui",0,MIN(MAX(0,$G19-'Paramètres'!$D$17),IF('Paramètres'!$E$17=0,MAX(0,$G19-'Paramètres'!$D$17),'Paramètres'!$E$17))*'Paramètres'!$C$17),0)) | O19: =IF($A19="","",IFERROR(IF('Paramètres'!$F$18<>"Oui",0,MIN(MAX(0,$G19-'Paramètres'!$D$18),IF('Paramètres'!$E$18=0,MAX(0,$G19-'Paramètres'!$D$18),'Paramètres'!$E$18))*'Paramètres'!$C$18),0)) | P19: =IF($A19="","",IFERROR(IF('Paramètres'!$F$19<>"Oui",0,MIN(MAX(0,$G19-'Paramètres'!$D$19),IF('Paramètres'!$E$19=0,MAX(0,$G19-'Paramètres'!$D$19),'Paramètres'!$E$19))*'Paramètres'!$C$19),0)) | Q19: =IF($A19="","",IFERROR(IF('Paramètres'!$F$20<>"Oui",0,MIN(MAX(0,$G19-'Paramètres'!$D$20),IF('Paramètres'!$E$20=0,MAX(0,$G19-'Paramètres'!$D$20),'Paramètres'!$E$20))*'Paramètres'!$C$20),0)) | R19: =IF($A19="","",IFERROR(IF('Paramètres'!$F$21<>"Oui",0,MIN(MAX(0,$G19-'Paramètres'!$D$21),IF('Paramètres'!$E$21=0,MAX(0,$G19-'Paramètres'!$D$21),'Paramètres'!$E$21))*'Paramètres'!$C$21),0)) | S19: =IF($A19="","",IFERROR(IF('Paramètres'!$F$22<>"Oui",0,MIN(MAX(0,$G19-'Paramètres'!$D$22),IF('Paramètres'!$E$22=0,MAX(0,$G19-'Paramètres'!$D$22),'Paramètres'!$E$22))*'Paramètres'!$C$22),0)) | T19: =IF($A19="","",IFERROR(SUM($J19:$S19),0)) | U19: =IF($A19="","",IFERROR($E19+$F19+$H19+$T19,0)) | V19: =IF($A19="","",IFERROR($U19/12,0)) | W19: =IF($A19="","",IFERROR(($U19/$E19)-1,0)) | X19: =IF($A19="","",IFERROR(IF(OR($E19<0,$F19<0,$H19<0),"À vérifier","OK"),"À vérifier")) | Y19: =IF($A19="","",IFERROR(IF(COUNTIFS('Paramètres'!$F$13:$F$22,"Oui",'Paramètres'!$C$13:$C$22,0)>0,"Taux actif à vérifier",IF(COUNTIFS('Paramètres'!$F$13:$F$22,"Oui",'Paramètres'!$H$13:$H$22,"")>0,"Date à vérifier","OK")),"À vérifier")) | Z19: =IF($A19="","",IFERROR(IF(ABS($U19-($E19+$F19+$H19+$T19))<0.01,"OK","Écart à vérifier"),"Écart à vérifier")) | AA19: =IF($A19="","",IFERROR(IF(AND($X19="OK",$Y19="OK",$Z19="OK"),"Calcul prêt","À vérifier"),"À vérifier"))
G20: =IF($A20="","",IFERROR($E20+$F20,0)) | J20: =IF($A20="","",IFERROR(IF('Paramètres'!$F$13<>"Oui",0,MIN(MAX(0,$G20-'Paramètres'!$D$13),IF('Paramètres'!$E$13=0,MAX(0,$G20-'Paramètres'!$D$13),'Paramètres'!$E$13))*'Paramètres'!$C$13),0)) | K20: =IF($A20="","",IFERROR(IF('Paramètres'!$F$14<>"Oui",0,MIN(MAX(0,$G20-'Paramètres'!$D$14),IF('Paramètres'!$E$14=0,MAX(0,$G20-'Paramètres'!$D$14),'Paramètres'!$E$14))*'Paramètres'!$C$14),0)) | L20: =IF($A20="","",IFERROR(IF('Paramètres'!$F$15<>"Oui",0,MIN(MAX(0,$G20-'Paramètres'!$D$15),IF('Paramètres'!$E$15=0,MAX(0,$G20-'Paramètres'!$D$15),'Paramètres'!$E$15))*'Paramètres'!$C$15),0)) | M20: =IF($A20="","",IFERROR(IF('Paramètres'!$F$16<>"Oui",0,MIN(MAX(0,$G20-'Paramètres'!$D$16),IF('Paramètres'!$E$16=0,MAX(0,$G20-'Paramètres'!$D$16),'Paramètres'!$E$16))*'Paramètres'!$C$16),0)) | N20: =IF($A20="","",IFERROR(IF('Paramètres'!$F$17<>"Oui",0,MIN(MAX(0,$G20-'Paramètres'!$D$17),IF('Paramètres'!$E$17=0,MAX(0,$G20-'Paramètres'!$D$17),'Paramètres'!$E$17))*'Paramètres'!$C$17),0)) | O20: =IF($A20="","",IFERROR(IF('Paramètres'!$F$18<>"Oui",0,MIN(MAX(0,$G20-'Paramètres'!$D$18),IF('Paramètres'!$E$18=0,MAX(0,$G20-'Paramètres'!$D$18),'Paramètres'!$E$18))*'Paramètres'!$C$18),0)) | P20: =IF($A20="","",IFERROR(IF('Paramètres'!$F$19<>"Oui",0,MIN(MAX(0,$G20-'Paramètres'!$D$19),IF('Paramètres'!$E$19=0,MAX(0,$G20-'Paramètres'!$D$19),'Paramètres'!$E$19))*'Paramètres'!$C$19),0)) | Q20: =IF($A20="","",IFERROR(IF('Paramètres'!$F$20<>"Oui",0,MIN(MAX(0,$G20-'Paramètres'!$D$20),IF('Paramètres'!$E$20=0,MAX(0,$G20-'Paramètres'!$D$20),'Paramètres'!$E$20))*'Paramètres'!$C$20),0)) | R20: =IF($A20="","",IFERROR(IF('Paramètres'!$F$21<>"Oui",0,MIN(MAX(0,$G20-'Paramètres'!$D$21),IF('Paramètres'!$E$21=0,MAX(0,$G20-'Paramètres'!$D$21),'Paramètres'!$E$21))*'Paramètres'!$C$21),0)) | S20: =IF($A20="","",IFERROR(IF('Paramètres'!$F$22<>"Oui",0,MIN(MAX(0,$G20-'Paramètres'!$D$22),IF('Paramètres'!$E$22=0,MAX(0,$G20-'Paramètres'!$D$22),'Paramètres'!$E$22))*'Paramètres'!$C$22),0)) | T20: =IF($A20="","",IFERROR(SUM($J20:$S20),0)) | U20: =IF($A20="","",IFERROR($E20+$F20+$H20+$T20,0)) | V20: =IF($A20="","",IFERROR($U20/12,0)) | W20: =IF($A20="","",IFERROR(($U20/$E20)-1,0)) | X20: =IF($A20="","",IFERROR(IF(OR($E20<0,$F20<0,$H20<0),"À vérifier","OK"),"À vérifier")) | Y20: =IF($A20="","",IFERROR(IF(COUNTIFS('Paramètres'!$F$13:$F$22,"Oui",'Paramètres'!$C$13:$C$22,0)>0,"Taux actif à vérifier",IF(COUNTIFS('Paramètres'!$F$13:$F$22,"Oui",'Paramètres'!$H$13:$H$22,"")>0,"Date à vérifier","OK")),"À vérifier")) | Z20: =IF($A20="","",IFERROR(IF(ABS($U20-($E20+$F20+$H20+$T20))<0.01,"OK","Écart à vérifier"),"Écart à vérifier")) | AA20: =IF($A20="","",IFERROR(IF(AND($X20="OK",$Y20="OK",$Z20="OK"),"Calcul prêt","À vérifier"),"À vérifier"))
G21: =IF($A21="","",IFERROR($E21+$F21,0)) | J21: =IF($A21="","",IFERROR(IF('Paramètres'!$F$13<>"Oui",0,MIN(MAX(0,$G21-'Paramètres'!$D$13),IF('Paramètres'!$E$13=0,MAX(0,$G21-'Paramètres'!$D$13),'Paramètres'!$E$13))*'Paramètres'!$C$13),0)) | K21: =IF($A21="","",IFERROR(IF('Paramètres'!$F$14<>"Oui",0,MIN(MAX(0,$G21-'Paramètres'!$D$14),IF('Paramètres'!$E$14=0,MAX(0,$G21-'Paramètres'!$D$14),'Paramètres'!$E$14))*'Paramètres'!$C$14),0)) | L21: =IF($A21="","",IFERROR(IF('Paramètres'!$F$15<>"Oui",0,MIN(MAX(0,$G21-'Paramètres'!$D$15),IF('Paramètres'!$E$15=0,MAX(0,$G21-'Paramètres'!$D$15),'Paramètres'!$E$15))*'Paramètres'!$C$15),0)) | M21: =IF($A21="","",IFERROR(IF('Paramètres'!$F$16<>"Oui",0,MIN(MAX(0,$G21-'Paramètres'!$D$16),IF('Paramètres'!$E$16=0,MAX(0,$G21-'Paramètres'!$D$16),'Paramètres'!$E$16))*'Paramètres'!$C$16),0)) | N21: =IF($A21="","",IFERROR(IF('Paramètres'!$F$17<>"Oui",0,MIN(MAX(0,$G21-'Paramètres'!$D$17),IF('Paramètres'!$E$17=0,MAX(0,$G21-'Paramètres'!$D$17),'Paramètres'!$E$17))*'Paramètres'!$C$17),0)) | O21: =IF($A21="","",IFERROR(IF('Paramètres'!$F$18<>"Oui",0,MIN(MAX(0,$G21-'Paramètres'!$D$18),IF('Paramètres'!$E$18=0,MAX(0,$G21-'Paramètres'!$D$18),'Paramètres'!$E$18))*'Paramètres'!$C$18),0)) | P21: =IF($A21="","",IFERROR(IF('Paramètres'!$F$19<>"Oui",0,MIN(MAX(0,$G21-'Paramètres'!$D$19),IF('Paramètres'!$E$19=0,MAX(0,$G21-'Paramètres'!$D$19),'Paramètres'!$E$19))*'Paramètres'!$C$19),0)) | Q21: =IF($A21="","",IFERROR(IF('Paramètres'!$F$20<>"Oui",0,MIN(MAX(0,$G21-'Paramètres'!$D$20),IF('Paramètres'!$E$20=0,MAX(0,$G21-'Paramètres'!$D$20),'Paramètres'!$E$20))*'Paramètres'!$C$20),0)) | R21: =IF($A21="","",IFERROR(IF('Paramètres'!$F$21<>"Oui",0,MIN(MAX(0,$G21-'Paramètres'!$D$21),IF('Paramètres'!$E$21=0,MAX(0,$G21-'Paramètres'!$D$21),'Paramètres'!$E$21))*'Paramètres'!$C$21),0)) | S21: =IF($A21="","",IFERROR(IF('Paramètres'!$F$22<>"Oui",0,MIN(MAX(0,$G21-'Paramètres'!$D$22),IF('Paramètres'!$E$22=0,MAX(0,$G21-'Paramètres'!$D$22),'Paramètres'!$E$22))*'Paramètres'!$C$22),0)) | T21: =IF($A21="","",IFERROR(SUM($J21:$S21),0)) | U21: =IF($A21="","",IFERROR($E21+$F21+$H21+$T21,0)) | V21: =IF($A21="","",IFERROR($U21/12,0)) | W21: =IF($A21="","",IFERROR(($U21/$E21)-1,0)) | X21: =IF($A21="","",IFERROR(IF(OR($E21<0,$F21<0,$H21<0),"À vérifier","OK"),"À vérifier")) | Y21: =IF($A21="","",IFERROR(IF(COUNTIFS('Paramètres'!$F$13:$F$22,"Oui",'Paramètres'!$C$13:$C$22,0)>0,"Taux actif à vérifier",IF(COUNTIFS('Paramètres'!$F$13:$F$22,"Oui",'Paramètres'!$H$13:$H$22,"")>0,"Date à vérifier","OK")),"À vérifier")) | Z21: =IF($A21="","",IFERROR(IF(ABS($U21-($E21+$F21+$H21+$T21))<0.01,"OK","Écart à vérifier"),"Écart à vérifier")) | AA21: =IF($A21="","",IFERROR(IF(AND($X21="OK",$Y21="OK",$Z21="OK"),"Calcul prêt","À vérifier"),"À vérifier"))
G22: =IF($A22="","",IFERROR($E22+$F22,0)) | J22: =IF($A22="","",IFERROR(IF('Paramètres'!$F$13<>"Oui",0,MIN(MAX(0,$G22-'Paramètres'!$D$13),IF('Paramètres'!$E$13=0,MAX(0,$G22-'Paramètres'!$D$13),'Paramètres'!$E$13))*'Paramètres'!$C$13),0)) | K22: =IF($A22="","",IFERROR(IF('Paramètres'!$F$14<>"Oui",0,MIN(MAX(0,$G22-'Paramètres'!$D$14),IF('Paramètres'!$E$14=0,MAX(0,$G22-'Paramètres'!$D$14),'Paramètres'!$E$14))*'Paramètres'!$C$14),0)) | L22: =IF($A22="","",IFERROR(IF('Paramètres'!$F$15<>"Oui",0,MIN(MAX(0,$G22-'Paramètres'!$D$15),IF('Paramètres'!$E$15=0,MAX(0,$G22-'Paramètres'!$D$15),'Paramètres'!$E$15))*'Paramètres'!$C$15),0)) | M22: =IF($A22="","",IFERROR(IF('Paramètres'!$F$16<>"Oui",0,MIN(MAX(0,$G22-'Paramètres'!$D$16),IF('Paramètres'!$E$16=0,MAX(0,$G22-'Paramètres'!$D$16),'Paramètres'!$E$16))*'Paramètres'!$C$16),0)) | N22: =IF($A22="","",IFERROR(IF('Paramètres'!$F$17<>"Oui",0,MIN(MAX(0,$G22-'Paramètres'!$D$17),IF('Paramètres'!$E$17=0,MAX(0,$G22-'Paramètres'!$D$17),'Paramètres'!$E$17))*'Paramètres'!$C$17),0)) | O22: =IF($A22="","",IFERROR(IF('Paramètres'!$F$18<>"Oui",0,MIN(MAX(0,$G22-'Paramètres'!$D$18),IF('Paramètres'!$E$18=0,MAX(0,$G22-'Paramètres'!$D$18),'Paramètres'!$E$18))*'Paramètres'!$C$18),0)) | P22: =IF($A22="","",IFERROR(IF('Paramètres'!$F$19<>"Oui",0,MIN(MAX(0,$G22-'Paramètres'!$D$19),IF('Paramètres'!$E$19=0,MAX(0,$G22-'Paramètres'!$D$19),'Paramètres'!$E$19))*'Paramètres'!$C$19),0)) | Q22: =IF($A22="","",IFERROR(IF('Paramètres'!$F$20<>"Oui",0,MIN(MAX(0,$G22-'Paramètres'!$D$20),IF('Paramètres'!$E$20=0,MAX(0,$G22-'Paramètres'!$D$20),'Paramètres'!$E$20))*'Paramètres'!$C$20),0)) | R22: =IF($A22="","",IFERROR(IF('Paramètres'!$F$21<>"Oui",0,MIN(MAX(0,$G22-'Paramètres'!$D$21),IF('Paramètres'!$E$21=0,MAX(0,$G22-'Paramètres'!$D$21),'Paramètres'!$E$21))*'Paramètres'!$C$21),0)) | S22: =IF($A22="","",IFERROR(IF('Paramètres'!$F$22<>"Oui",0,MIN(MAX(0,$G22-'Paramètres'!$D$22),IF('Paramètres'!$E$22=0,MAX(0,$G22-'Paramètres'!$D$22),'Paramètres'!$E$22))*'Paramètres'!$C$22),0)) | T22: =IF($A22="","",IFERROR(SUM($J22:$S22),0)) | U22: =IF($A22="","",IFERROR($E22+$F22+$H22+$T22,0)) | V22: =IF($A22="","",IFERROR($U22/12,0)) | W22: =IF($A22="","",IFERROR(($U22/$E22)-1,0)) | X22: =IF($A22="","",IFERROR(IF(OR($E22<0,$F22<0,$H22<0),"À vérifier","OK"),"À vérifier")) | Y22: =IF($A22="","",IFERROR(IF(COUNTIFS('Paramètres'!$F$13:$F$22,"Oui",'Paramètres'!$C$13:$C$22,0)>0,"Taux actif à vérifier",IF(COUNTIFS('Paramètres'!$F$13:$F$22,"Oui",'Paramètres'!$H$13:$H$22,"")>0,"Date à vérifier","OK")),"À vérifier")) | Z22: =IF($A22="","",IFERROR(IF(ABS($U22-($E22+$F22+$H22+$T22))<0.01,"OK","Écart à vérifier"),"Écart à vérifier")) | AA22: =IF($A22="","",IFERROR(IF(AND($X22="OK",$Y22="OK",$Z22="OK"),"Calcul prêt","À vérifier"),"À vérifier"))
G23: =IF($A23="","",IFERROR($E23+$F23,0)) | J23: =IF($A23="","",IFERROR(IF('Paramètres'!$F$13<>"Oui",0,MIN(MAX(0,$G23-'Paramètres'!$D$13),IF('Paramètres'!$E$13=0,MAX(0,$G23-'Paramètres'!$D$13),'Paramètres'!$E$13))*'Paramètres'!$C$13),0)) | K23: =IF($A23="","",IFERROR(IF('Paramètres'!$F$14<>"Oui",0,MIN(MAX(0,$G23-'Paramètres'!$D$14),IF('Paramètres'!$E$14=0,MAX(0,$G23-'Paramètres'!$D$14),'Paramètres'!$E$14))*'Paramètres'!$C$14),0)) | L23: =IF($A23="","",IFERROR(IF('Paramètres'!$F$15<>"Oui",0,MIN(MAX(0,$G23-'Paramètres'!$D$15),IF('Paramètres'!$E$15=0,MAX(0,$G23-'Paramètres'!$D$15),'Paramètres'!$E$15))*'Paramètres'!$C$15),0)) | M23: =IF($A23="","",IFERROR(IF('Paramètres'!$F$16<>"Oui",0,MIN(MAX(0,$G23-'Paramètres'!$D$16),IF('Paramètres'!$E$16=0,MAX(0,$G23-'Paramètres'!$D$16),'Paramètres'!$E$16))*'Paramètres'!$C$16),0)) | N23: =IF($A23="","",IFERROR(IF('Paramètres'!$F$17<>"Oui",0,MIN(MAX(0,$G23-'Paramètres'!$D$17),IF('Paramètres'!$E$17=0,MAX(0,$G23-'Paramètres'!$D$17),'Paramètres'!$E$17))*'Paramètres'!$C$17),0)) | O23: =IF($A23="","",IFERROR(IF('Paramètres'!$F$18<>"Oui",0,MIN(MAX(0,$G23-'Paramètres'!$D$18),IF('Paramètres'!$E$18=0,MAX(0,$G23-'Paramètres'!$D$18),'Paramètres'!$E$18))*'Paramètres'!$C$18),0)) | P23: =IF($A23="","",IFERROR(IF('Paramètres'!$F$19<>"Oui",0,MIN(MAX(0,$G23-'Paramètres'!$D$19),IF('Paramètres'!$E$19=0,MAX(0,$G23-'Paramètres'!$D$19),'Paramètres'!$E$19))*'Paramètres'!$C$19),0)) | Q23: =IF($A23="","",IFERROR(IF('Paramètres'!$F$20<>"Oui",0,MIN(MAX(0,$G23-'Paramètres'!$D$20),IF('Paramètres'!$E$20=0,MAX(0,$G23-'Paramètres'!$D$20),'Paramètres'!$E$20))*'Paramètres'!$C$20),0)) | R23: =IF($A23="","",IFERROR(IF('Paramètres'!$F$21<>"Oui",0,MIN(MAX(0,$G23-'Paramètres'!$D$21),IF('Paramètres'!$E$21=0,MAX(0,$G23-'Paramètres'!$D$21),'Paramètres'!$E$21))*'Paramètres'!$C$21),0)) | S23: =IF($A23="","",IFERROR(IF('Paramètres'!$F$22<>"Oui",0,MIN(MAX(0,$G23-'Paramètres'!$D$22),IF('Paramètres'!$E$22=0,MAX(0,$G23-'Paramètres'!$D$22),'Paramètres'!$E$22))*'Paramètres'!$C$22),0)) | T23: =IF($A23="","",IFERROR(SUM($J23:$S23),0)) | U23: =IF($A23="","",IFERROR($E23+$F23+$H23+$T23,0)) | V23: =IF($A23="","",IFERROR($U23/12,0)) | W23: =IF($A23="","",IFERROR(($U23/$E23)-1,0)) | X23: =IF($A23="","",IFERROR(IF(OR($E23<0,$F23<0,$H23<0),"À vérifier","OK"),"À vérifier")) | Y23: =IF($A23="","",IFERROR(IF(COUNTIFS('Paramètres'!$F$13:$F$22,"Oui",'Paramètres'!$C$13:$C$22,0)>0,"Taux actif à vérifier",IF(COUNTIFS('Paramètres'!$F$13:$F$22,"Oui",'Paramètres'!$H$13:$H$22,"")>0,"Date à vérifier","OK")),"À vérifier")) | Z23: =IF($A23="","",IFERROR(IF(ABS($U23-($E23+$F23+$H23+$T23))<0.01,"OK","Écart à vérifier"),"Écart à vérifier")) | AA23: =IF($A23="","",IFERROR(IF(AND($X23="OK",$Y23="OK",$Z23="OK"),"Calcul prêt","À vérifier"),"À vérifier"))
G24: =IF($A24="","",IFERROR($E24+$F24,0)) | J24: =IF($A24="","",IFERROR(IF('Paramètres'!$F$13<>"Oui",0,MIN(MAX(0,$G24-'Paramètres'!$D$13),IF('Paramètres'!$E$13=0,MAX(0,$G24-'Paramètres'!$D$13),'Paramètres'!$E$13))*'Paramètres'!$C$13),0)) | K24: =IF($A24="","",IFERROR(IF('Paramètres'!$F$14<>"Oui",0,MIN(MAX(0,$G24-'Paramètres'!$D$14),IF('Paramètres'!$E$14=0,MAX(0,$G24-'Paramètres'!$D$14),'Paramètres'!$E$14))*'Paramètres'!$C$14),0)) | L24: =IF($A24="","",IFERROR(IF('Paramètres'!$F$15<>"Oui",0,MIN(MAX(0,$G24-'Paramètres'!$D$15),IF('Paramètres'!$E$15=0,MAX(0,$G24-'Paramètres'!$D$15),'Paramètres'!$E$15))*'Paramètres'!$C$15),0)) | M24: =IF($A24="","",IFERROR(IF('Paramètres'!$F$16<>"Oui",0,MIN(MAX(0,$G24-'Paramètres'!$D$16),IF('Paramètres'!$E$16=0,MAX(0,$G24-'Paramètres'!$D$16),'Paramètres'!$E$16))*'Paramètres'!$C$16),0)) | N24: =IF($A24="","",IFERROR(IF('Paramètres'!$F$17<>"Oui",0,MIN(MAX(0,$G24-'Paramètres'!$D$17),IF('Paramètres'!$E$17=0,MAX(0,$G24-'Paramètres'!$D$17),'Paramètres'!$E$17))*'Paramètres'!$C$17),0)) | O24: =IF($A24="","",IFERROR(IF('Paramètres'!$F$18<>"Oui",0,MIN(MAX(0,$G24-'Paramètres'!$D$18),IF('Paramètres'!$E$18=0,MAX(0,$G24-'Paramètres'!$D$18),'Paramètres'!$E$18))*'Paramètres'!$C$18),0)) | P24: =IF($A24="","",IFERROR(IF('Paramètres'!$F$19<>"Oui",0,MIN(MAX(0,$G24-'Paramètres'!$D$19),IF('Paramètres'!$E$19=0,MAX(0,$G24-'Paramètres'!$D$19),'Paramètres'!$E$19))*'Paramètres'!$C$19),0)) | Q24: =IF($A24="","",IFERROR(IF('Paramètres'!$F$20<>"Oui",0,MIN(MAX(0,$G24-'Paramètres'!$D$20),IF('Paramètres'!$E$20=0,MAX(0,$G24-'Paramètres'!$D$20),'Paramètres'!$E$20))*'Paramètres'!$C$20),0)) | R24: =IF($A24="","",IFERROR(IF('Paramètres'!$F$21<>"Oui",0,MIN(MAX(0,$G24-'Paramètres'!$D$21),IF('Paramètres'!$E$21=0,MAX(0,$G24-'Paramètres'!$D$21),'Paramètres'!$E$21))*'Paramètres'!$C$21),0)) | S24: =IF($A24="","",IFERROR(IF('Paramètres'!$F$22<>"Oui",0,MIN(MAX(0,$G24-'Paramètres'!$D$22),IF('Paramètres'!$E$22=0,MAX(0,$G24-'Paramètres'!$D$22),'Paramètres'!$E$22))*'Paramètres'!$C$22),0)) | T24: =IF($A24="","",IFERROR(SUM($J24:$S24),0)) | U24: =IF($A24="","",IFERROR($E24+$F24+$H24+$T24,0)) | V24: =IF($A24="","",IFERROR($U24/12,0)) | W24: =IF($A24="","",IFERROR(($U24/$E24)-1,0)) | X24: =IF($A24="","",IFERROR(IF(OR($E24<0,$F24<0,$H24<0),"À vérifier","OK"),"À vérifier")) | Y24: =IF($A24="","",IFERROR(IF(COUNTIFS('Paramètres'!$F$13:$F$22,"Oui",'Paramètres'!$C$13:$C$22,0)>0,"Taux actif à vérifier",IF(COUNTIFS('Paramètres'!$F$13:$F$22,"Oui",'Paramètres'!$H$13:$H$22,"")>0,"Date à vérifier","OK")),"À vérifier")) | Z24: =IF($A24="","",IFERROR(IF(ABS($U24-($E24+$F24+$H24+$T24))<0.01,"OK","Écart à vérifier"),"Écart à vérifier")) | AA24: =IF($A24="","",IFERROR(IF(AND($X24="OK",$Y24="OK",$Z24="OK"),"Calcul prêt","À vérifier"),"À vérifier"))
