Workbook

Sheet Tableau de bord
A1: Tableau de bord — État des résultats
A2: Entreprise : | B2: ='Paramètres'!$B$3
A3: Année financière : | B3: ='Paramètres'!$B$4
A4: Mois affiché : | B4: =IFERROR(VLOOKUP('Paramètres'!$B$5,'Paramètres'!$D$4:$E$15,2,FALSE),"")
A6: Revenus annuels | B6: ='État des résultats'!$N$11 | D6: Dépenses annuelles | E6: ='État des résultats'!$N$25 | G6: Résultat avant impôt | H6: ='État des résultats'!$N$27 | J6: Marge bénéficiaire | K6: ='État des résultats'!$N$28
A10: Revenus du mois | B10: =SUMIFS('Transactions'!$G$4:$G$203,'Transactions'!$C$4:$C$203,"Revenu",'Transactions'!$B$4:$B$203,">="&DATE('Paramètres'!$B$4,'Paramètres'!$B$5,1),'Transactions'!$B$4:$B$203,"<"&EDATE(DATE('Paramètres'!$B$4,'Paramètres'!$B$5,1),1),'Transactions'!$H$4:$H$203,"<>Annulée") | D10: Dépenses du mois | E10: =SUMIFS('Transactions'!$G$4:$G$203,'Transactions'!$C$4:$C$203,"Dépense",'Transactions'!$B$4:$B$203,">="&DATE('Paramètres'!$B$4,'Paramètres'!$B$5,1),'Transactions'!$B$4:$B$203,"<"&EDATE(DATE('Paramètres'!$B$4,'Paramètres'!$B$5,1),1),'Transactions'!$H$4:$H$203,"<>Annulée") | G10: Résultat avant impôt du mois | H10: =B10-E10 | J10: Marge bénéficiaire du mois | K10: =IFERROR(H10/B10,0)
A14: Contrôle des transactions
A15: Transactions à corriger | B15: =COUNTIF('Transactions'!$I$4:$I$203,"À corriger") | D15: Transactions annulées | E15: =COUNTIF('Transactions'!$H$4:$H$203,"Annulée") | G15: Écart des contrôles | H15: =MAX(0,'État des résultats'!$B$32,-'État des résultats'!$B$32,'État des résultats'!$B$33,-'État des résultats'!$B$33,'État des résultats'!$B$34,-'État des résultats'!$B$34)
E16: ="" | H16: =""
E17: ="" | H17: =""
E18: ="" | H18: =""
E19: ="" | H19: =""
E20: ="" | H20: =""
E21: ="" | H21: =""
E22: ="" | H22: =""
E23: ="" | H23: =""
E24: ="" | H24: =""
E25: ="" | H25: =""
E26: ="" | H26: =""
E27: ="" | H27: =""
... E29: ="" | H29: =""
A30: Mois | B30: Revenus | C30: Dépenses | E30: ="" | H30: =""
A31: ='État des résultats'!B$5 | B31: ='État des résultats'!B$11 | C31: ='État des résultats'!B$25 | E31: ="" | H31: =""
A32: ='État des résultats'!C$5 | B32: ='État des résultats'!C$11 | C32: ='État des résultats'!C$25 | E32: ="" | H32: =""
A33: ='État des résultats'!D$5 | B33: ='État des résultats'!D$11 | C33: ='État des résultats'!D$25 | E33: ="" | H33: =""
A34: ='État des résultats'!E$5 | B34: ='État des résultats'!E$11 | C34: ='État des résultats'!E$25 | E34: ="" | H34: =""
A35: ='État des résultats'!F$5 | B35: ='État des résultats'!F$11 | C35: ='État des résultats'!F$25 | E35: ="" | H35: =""
A36: ='État des résultats'!G$5 | B36: ='État des résultats'!G$11 | C36: ='État des résultats'!G$25 | E36: ="" | H36: =""
A37: ='État des résultats'!H$5 | B37: ='État des résultats'!H$11 | C37: ='État des résultats'!H$25 | E37: ="" | H37: =""
A38: ='État des résultats'!I$5 | B38: ='État des résultats'!I$11 | C38: ='État des résultats'!I$25 | E38: ="" | H38: =""
A39: ='État des résultats'!J$5 | B39: ='État des résultats'!J$11 | C39: ='État des résultats'!J$25 | E39: ="" | H39: =""
A40: ='État des résultats'!K$5 | B40: ='État des résultats'!K$11 | C40: ='État des résultats'!K$25 | E40: ="" | H40: =""
A41: ='État des résultats'!L$5 | B41: ='État des résultats'!L$11 | C41: ='État des résultats'!L$25 | E41: ="" | H41: =""
A42: ='État des résultats'!M$5 | B42: ='État des résultats'!M$11 | C42: ='État des résultats'!M$25 | E42: ="" | H42: =""
A43: ="" | B43: ="" | C43: ="" | E43: ="" | H43: =""
A44: ="" | B44: ="" | C44: ="" | E44: ="" | H44: =""
A45: ="" | B45: ="" | C45: ="" | E45: ="" | H45: =""
A46: ="" | B46: ="" | C46: ="" | E46: ="" | H46: =""
A47: ="" | B47: ="" | C47: ="" | E47: ="" | H47: =""
A48: ="" | B48: ="" | C48: ="" | E48: ="" | H48: =""
...

Sheet Paramètres
A1: Paramètres du modèle
A3: Nom de l’entreprise | B3: Atelier Boréal inc. | D3: Numéro du mois | E3: Mois | G3: Type | J3: Catégorie | K3: Type
A4: Année financière | B4: 2026 | D4: 1 | E4: Janvier | G4: Revenu | J4: Services professionnels | K4: Revenu
A5: Mois affiché au tableau de bord | B5: 11 | D5: 2 | E5: Février | G5: Dépense | J5: Vente de produits | K5: Revenu
A6: Devise | B6: Dollar canadien (CAD) | D6: 3 | E6: Mars | J6: Autres revenus | K6: Revenu
A7: Base des montants | B7: Montants hors taxes | D7: 4 | E7: Avril | J7: Achats et sous-traitance | K7: Dépense
A8: Note importante | B8: La TPS et la TVQ sont exclues de l’état des résultats. | D8: 5 | E8: Mai | J8: Salaires et avantages sociaux | K8: Dépense
D9: 6 | E9: Juin | J9: Loyer | K9: Dépense
D10: 7 | E10: Juillet | J10: Télécommunications | K10: Dépense
D11: 8 | E11: Août | J11: Marketing et publicité | K11: Dépense
D12: 9 | E12: Septembre | J12: Fournitures de bureau | K12: Dépense
D13: 10 | E13: Octobre | J13: Déplacements | K13: Dépense
D14: 11 | E14: Novembre | J14: Assurances | K14: Dépense
D15: 12 | E15: Décembre | J15: Frais bancaires | K15: Dépense
J16: Amortissement | K16: Dépense
J17: Autres dépenses | K17: Dépense

Sheet Transactions
A1: Registre des transactions
A3: No transaction | B3: Date | C3: Type | D3: Catégorie | E3: Description | F3: Client ou fournisseur | G3: Montant hors taxes | H3: Statut | I3: Contrôle catégorie
A4: REV-2026-001 | B4: 46037 | C4: Revenu | D4: Services professionnels | E4: Mandat de tenue de livres mensuelle | F4: Gestion Tremblay inc. | G4: 7500 | H4: Payée | I4: =IF(A4="","",IFERROR(IF(VLOOKUP(D4,'Paramètres'!$J$4:$K$17,2,FALSE)=C4,"OK","À corriger"),"À corriger"))
A5: DEP-2026-001 | B5: 46053 | C5: Dépense | D5: Salaires et avantages sociaux | E5: Paie administrative de janvier | F5: Équipe administrative | G5: 3200 | H5: Payée | I5: =IF(A5="","",IFERROR(IF(VLOOKUP(D5,'Paramètres'!$J$4:$K$17,2,FALSE)=C5,"OK","À corriger"),"À corriger"))
A6: DEP-2026-002 | B6: 46054 | C6: Dépense | D6: Loyer | E6: Loyer du bureau de février | F6: Immeubles du Vieux-Port | G6: 1650 | H6: Payée | I6: =IF(A6="","",IFERROR(IF(VLOOKUP(D6,'Paramètres'!$J$4:$K$17,2,FALSE)=C6,"OK","À corriger"),"À corriger"))
A7: REV-2026-002 | B7: 46099 | C7: Revenu | D7: Vente de produits | E7: Vente de fournitures spécialisées | F7: Atelier Mécanique Gagnon | G7: 4600 | H7: Payée | I7: =IF(A7="","",IFERROR(IF(VLOOKUP(D7,'Paramètres'!$J$4:$K$17,2,FALSE)=C7,"OK","À corriger"),"À corriger"))
A8: DEP-2026-003 | B8: 46122 | C8: Dépense | D8: Marketing et publicité | E8: Campagne publicitaire numérique | F8: Média Nord | G8: 890 | H8: Payée | I8: =IF(A8="","",IFERROR(IF(VLOOKUP(D8,'Paramètres'!$J$4:$K$17,2,FALSE)=C8,"OK","À corriger"),"À corriger"))
A9: DEP-2026-004 | B9: 46164 | C9: Dépense | D9: Achats et sous-traitance | E9: Sous-traitance pour mandat client | F9: Solutions Bouchard | G9: 1800 | H9: À payer | I9: =IF(A9="","",IFERROR(IF(VLOOKUP(D9,'Paramètres'!$J$4:$K$17,2,FALSE)=C9,"OK","À corriger"),"À corriger"))
A10: REV-2026-003 | B10: 46203 | C10: Revenu | D10: Services professionnels | E10: Services-conseils trimestriels | F10: Construction Lavoie ltée | G10: 8400 | H10: À recevoir | I10: =IF(A10="","",IFERROR(IF(VLOOKUP(D10,'Paramètres'!$J$4:$K$17,2,FALSE)=C10,"OK","À corriger"),"À corriger"))
A11: DEP-2026-005 | B11: 46270 | C11: Dépense | D11: Télécommunications | E11: Téléphonie et Internet de septembre | F11: Télécom Québec | G11: 245 | H11: Payée | I11: =IF(A11="","",IFERROR(IF(VLOOKUP(D11,'Paramètres'!$J$4:$K$17,2,FALSE)=C11,"OK","À corriger"),"À corriger"))
A12: DEP-2026-006 | B12: 46311 | C12: Dépense | D12: Déplacements | E12: Déplacement chez un client à Sherbrooke | F12: Transport et carburant | G12: 620 | H12: Payée | I12: =IF(A12="","",IFERROR(IF(VLOOKUP(D12,'Paramètres'!$J$4:$K$17,2,FALSE)=C12,"OK","À corriger"),"À corriger"))
A13: DEP-2026-007 | B13: 46327 | C13: Dépense | D13: Assurances | E13: Prime annuelle d’assurance entreprise | F13: Assurances Laurentiennes | G13: 1450 | H13: Payée | I13: =IF(A13="","",IFERROR(IF(VLOOKUP(D13,'Paramètres'!$J$4:$K$17,2,FALSE)=C13,"OK","À corriger"),"À corriger"))
I14: =IF(A14="","",IFERROR(IF(VLOOKUP(D14,'Paramètres'!$J$4:$K$17,2,FALSE)=C14,"OK","À corriger"),"À corriger"))
I15: =IF(A15="","",IFERROR(IF(VLOOKUP(D15,'Paramètres'!$J$4:$K$17,2,FALSE)=C15,"OK","À corriger"),"À corriger"))
I16: =IF(A16="","",IFERROR(IF(VLOOKUP(D16,'Paramètres'!$J$4:$K$17,2,FALSE)=C16,"OK","À corriger"),"À corriger"))
I17: =IF(A17="","",IFERROR(IF(VLOOKUP(D17,'Paramètres'!$J$4:$K$17,2,FALSE)=C17,"OK","À corriger"),"À corriger"))
I18: =IF(A18="","",IFERROR(IF(VLOOKUP(D18,'Paramètres'!$J$4:$K$17,2,FALSE)=C18,"OK","À corriger"),"À corriger"))
I19: =IF(A19="","",IFERROR(IF(VLOOKUP(D19,'Paramètres'!$J$4:$K$17,2,FALSE)=C19,"OK","À corriger"),"À corriger"))
I20: =IF(A20="","",IFERROR(IF(VLOOKUP(D20,'Paramètres'!$J$4:$K$17,2,FALSE)=C20,"OK","À corriger"),"À corriger"))
I21: =IF(A21="","",IFERROR(IF(VLOOKUP(D21,'Paramètres'!$J$4:$K$17,2,FALSE)=C21,"OK","À corriger"),"À corriger"))
I22: =IF(A22="","",IFERROR(IF(VLOOKUP(D22,'Paramètres'!$J$4:$K$17,2,FALSE)=C22,"OK","À corriger"),"À corriger"))
I23: =IF(A23="","",IFERROR(IF(VLOOKUP(D23,'Paramètres'!$J$4:$K$17,2,FALSE)=C23,"OK","À corriger"),"À corriger"))
I24: =IF(A24="","",IFERROR(IF(VLOOKUP(D24,'Paramètres'!$J$4:$K$17,2,FALSE)=C24,"OK","À corriger"),"À corriger"))
I25: =IF(A25="","",IFERROR(IF(VLOOKUP(D25,'Paramètres'!$J$4:$K$17,2,FALSE)=C25,"OK","À corriger"),"À corriger"))
... I203: =IF(A203="","",IFERROR(IF(VLOOKUP(D203,'Paramètres'!$J$4:$K$17,2,FALSE)=C203,"OK","À corriger"),"À corriger"))

Sheet État des résultats
A1: État des résultats mensuel
A2: Entreprise : | B2: ='Paramètres'!$B$3
A3: Année financière : | B3: ='Paramètres'!$B$4
A5: Catégorie | B5: =DATE('Paramètres'!$B$4,1,1) | C5: =EDATE(B5,1) | D5: =EDATE(C5,1) | E5: =EDATE(D5,1) | F5: =EDATE(E5,1) | G5: =EDATE(F5,1) | H5: =EDATE(G5,1) | I5: =EDATE(H5,1) | J5: =EDATE(I5,1) | ... M5: =EDATE(L5,1) | N5: Total annuel
A7: REVENUS
A8: Services professionnels | B8: =SUMIFS('Transactions'!$G$4:$G$203,'Transactions'!$D$4:$D$203,$A8,'Transactions'!$B$4:$B$203,">="&B$5,'Transactions'!$B$4:$B$203,"<"&EDATE(B$5,1),'Transactions'!$H$4:$H$203,"<>Annulée") | C8: =SUMIFS('Transactions'!$G$4:$G$203,'Transactions'!$D$4:$D$203,$A8,'Transactions'!$B$4:$B$203,">="&C$5,'Transactions'!$B$4:$B$203,"<"&EDATE(C$5,1),'Transactions'!$H$4:$H$203,"<>Annulée") | D8: =SUMIFS('Transactions'!$G$4:$G$203,'Transactions'!$D$4:$D$203,$A8,'Transactions'!$B$4:$B$203,">="&D$5,'Transactions'!$B$4:$B$203,"<"&EDATE(D$5,1),'Transactions'!$H$4:$H$203,"<>Annulée") | E8: =SUMIFS('Transactions'!$G$4:$G$203,'Transactions'!$D$4:$D$203,$A8,'Transactions'!$B$4:$B$203,">="&E$5,'Transactions'!$B$4:$B$203,"<"&EDATE(E$5,1),'Transactions'!$H$4:$H$203,"<>Annulée") | F8: =SUMIFS('Transactions'!$G$4:$G$203,'Transactions'!$D$4:$D$203,$A8,'Transactions'!$B$4:$B$203,">="&F$5,'Transactions'!$B$4:$B$203,"<"&EDATE(F$5,1),'Transactions'!$H$4:$H$203,"<>Annulée") | G8: =SUMIFS('Transactions'!$G$4:$G$203,'Transactions'!$D$4:$D$203,$A8,'Transactions'!$B$4:$B$203,">="&G$5,'Transactions'!$B$4:$B$203,"<"&EDATE(G$5,1),'Transactions'!$H$4:$H$203,"<>Annulée") | H8: =SUMIFS('Transactions'!$G$4:$G$203,'Transactions'!$D$4:$D$203,$A8,'Transactions'!$B$4:$B$203,">="&H$5,'Transactions'!$B$4:$B$203,"<"&EDATE(H$5,1),'Transactions'!$H$4:$H$203,"<>Annulée") | I8: =SUMIFS('Transactions'!$G$4:$G$203,'Transactions'!$D$4:$D$203,$A8,'Transactions'!$B$4:$B$203,">="&I$5,'Transactions'!$B$4:$B$203,"<"&EDATE(I$5,1),'Transactions'!$H$4:$H$203,"<>Annulée") | ... M8: =SUMIFS('Transactions'!$G$4:$G$203,'Transactions'!$D$4:$D$203,$A8,'Transactions'!$B$4:$B$203,">="&M$5,'Transactions'!$B$4:$B$203,"<"&EDATE(M$5,1),'Transactions'!$H$4:$H$203,"<>Annulée") | N8: =SUM(B8:M8)
A9: Vente de produits | B9: =SUMIFS('Transactions'!$G$4:$G$203,'Transactions'!$D$4:$D$203,$A9,'Transactions'!$B$4:$B$203,">="&B$5,'Transactions'!$B$4:$B$203,"<"&EDATE(B$5,1),'Transactions'!$H$4:$H$203,"<>Annulée") | C9: =SUMIFS('Transactions'!$G$4:$G$203,'Transactions'!$D$4:$D$203,$A9,'Transactions'!$B$4:$B$203,">="&C$5,'Transactions'!$B$4:$B$203,"<"&EDATE(C$5,1),'Transactions'!$H$4:$H$203,"<>Annulée") | D9: =SUMIFS('Transactions'!$G$4:$G$203,'Transactions'!$D$4:$D$203,$A9,'Transactions'!$B$4:$B$203,">="&D$5,'Transactions'!$B$4:$B$203,"<"&EDATE(D$5,1),'Transactions'!$H$4:$H$203,"<>Annulée") | E9: =SUMIFS('Transactions'!$G$4:$G$203,'Transactions'!$D$4:$D$203,$A9,'Transactions'!$B$4:$B$203,">="&E$5,'Transactions'!$B$4:$B$203,"<"&EDATE(E$5,1),'Transactions'!$H$4:$H$203,"<>Annulée") | F9: =SUMIFS('Transactions'!$G$4:$G$203,'Transactions'!$D$4:$D$203,$A9,'Transactions'!$B$4:$B$203,">="&F$5,'Transactions'!$B$4:$B$203,"<"&EDATE(F$5,1),'Transactions'!$H$4:$H$203,"<>Annulée") | G9: =SUMIFS('Transactions'!$G$4:$G$203,'Transactions'!$D$4:$D$203,$A9,'Transactions'!$B$4:$B$203,">="&G$5,'Transactions'!$B$4:$B$203,"<"&EDATE(G$5,1),'Transactions'!$H$4:$H$203,"<>Annulée") | H9: =SUMIFS('Transactions'!$G$4:$G$203,'Transactions'!$D$4:$D$203,$A9,'Transactions'!$B$4:$B$203,">="&H$5,'Transactions'!$B$4:$B$203,"<"&EDATE(H$5,1),'Transactions'!$H$4:$H$203,"<>Annulée") | I9: =SUMIFS('Transactions'!$G$4:$G$203,'Transactions'!$D$4:$D$203,$A9,'Transactions'!$B$4:$B$203,">="&I$5,'Transactions'!$B$4:$B$203,"<"&EDATE(I$5,1),'Transactions'!$H$4:$H$203,"<>Annulée") | ... M9: =SUMIFS('Transactions'!$G$4:$G$203,'Transactions'!$D$4:$D$203,$A9,'Transactions'!$B$4:$B$203,">="&M$5,'Transactions'!$B$4:$B$203,"<"&EDATE(M$5,1),'Transactions'!$H$4:$H$203,"<>Annulée") | N9: =SUM(B9:M9)
A10: Autres revenus | B10: =SUMIFS('Transactions'!$G$4:$G$203,'Transactions'!$D$4:$D$203,$A10,'Transactions'!$B$4:$B$203,">="&B$5,'Transactions'!$B$4:$B$203,"<"&EDATE(B$5,1),'Transactions'!$H$4:$H$203,"<>Annulée") | C10: =SUMIFS('Transactions'!$G$4:$G$203,'Transactions'!$D$4:$D$203,$A10,'Transactions'!$B$4:$B$203,">="&C$5,'Transactions'!$B$4:$B$203,"<"&EDATE(C$5,1),'Transactions'!$H$4:$H$203,"<>Annulée") | D10: =SUMIFS('Transactions'!$G$4:$G$203,'Transactions'!$D$4:$D$203,$A10,'Transactions'!$B$4:$B$203,">="&D$5,'Transactions'!$B$4:$B$203,"<"&EDATE(D$5,1),'Transactions'!$H$4:$H$203,"<>Annulée") | E10: =SUMIFS('Transactions'!$G$4:$G$203,'Transactions'!$D$4:$D$203,$A10,'Transactions'!$B$4:$B$203,">="&E$5,'Transactions'!$B$4:$B$203,"<"&EDATE(E$5,1),'Transactions'!$H$4:$H$203,"<>Annulée") | F10: =SUMIFS('Transactions'!$G$4:$G$203,'Transactions'!$D$4:$D$203,$A10,'Transactions'!$B$4:$B$203,">="&F$5,'Transactions'!$B$4:$B$203,"<"&EDATE(F$5,1),'Transactions'!$H$4:$H$203,"<>Annulée") | G10: =SUMIFS('Transactions'!$G$4:$G$203,'Transactions'!$D$4:$D$203,$A10,'Transactions'!$B$4:$B$203,">="&G$5,'Transactions'!$B$4:$B$203,"<"&EDATE(G$5,1),'Transactions'!$H$4:$H$203,"<>Annulée") | H10: =SUMIFS('Transactions'!$G$4:$G$203,'Transactions'!$D$4:$D$203,$A10,'Transactions'!$B$4:$B$203,">="&H$5,'Transactions'!$B$4:$B$203,"<"&EDATE(H$5,1),'Transactions'!$H$4:$H$203,"<>Annulée") | I10: =SUMIFS('Transactions'!$G$4:$G$203,'Transactions'!$D$4:$D$203,$A10,'Transactions'!$B$4:$B$203,">="&I$5,'Transactions'!$B$4:$B$203,"<"&EDATE(I$5,1),'Transactions'!$H$4:$H$203,"<>Annulée") | ... M10: =SUMIFS('Transactions'!$G$4:$G$203,'Transactions'!$D$4:$D$203,$A10,'Transactions'!$B$4:$B$203,">="&M$5,'Transactions'!$B$4:$B$203,"<"&EDATE(M$5,1),'Transactions'!$H$4:$H$203,"<>Annulée") | N10: =SUM(B10:M10)
A11: Total des revenus | B11: =SUM(B8:B10) | C11: =SUM(C8:C10) | D11: =SUM(D8:D10) | E11: =SUM(E8:E10) | F11: =SUM(F8:F10) | G11: =SUM(G8:G10) | H11: =SUM(H8:H10) | I11: =SUM(I8:I10) | ... M11: =SUM(M8:M10) | N11: =SUM(B11:M11)
A13: DÉPENSES
A14: Achats et sous-traitance | B14: =SUMIFS('Transactions'!$G$4:$G$203,'Transactions'!$D$4:$D$203,$A14,'Transactions'!$B$4:$B$203,">="&B$5,'Transactions'!$B$4:$B$203,"<"&EDATE(B$5,1),'Transactions'!$H$4:$H$203,"<>Annulée") | C14: =SUMIFS('Transactions'!$G$4:$G$203,'Transactions'!$D$4:$D$203,$A14,'Transactions'!$B$4:$B$203,">="&C$5,'Transactions'!$B$4:$B$203,"<"&EDATE(C$5,1),'Transactions'!$H$4:$H$203,"<>Annulée") | D14: =SUMIFS('Transactions'!$G$4:$G$203,'Transactions'!$D$4:$D$203,$A14,'Transactions'!$B$4:$B$203,">="&D$5,'Transactions'!$B$4:$B$203,"<"&EDATE(D$5,1),'Transactions'!$H$4:$H$203,"<>Annulée") | E14: =SUMIFS('Transactions'!$G$4:$G$203,'Transactions'!$D$4:$D$203,$A14,'Transactions'!$B$4:$B$203,">="&E$5,'Transactions'!$B$4:$B$203,"<"&EDATE(E$5,1),'Transactions'!$H$4:$H$203,"<>Annulée") | F14: =SUMIFS('Transactions'!$G$4:$G$203,'Transactions'!$D$4:$D$203,$A14,'Transactions'!$B$4:$B$203,">="&F$5,'Transactions'!$B$4:$B$203,"<"&EDATE(F$5,1),'Transactions'!$H$4:$H$203,"<>Annulée") | G14: =SUMIFS('Transactions'!$G$4:$G$203,'Transactions'!$D$4:$D$203,$A14,'Transactions'!$B$4:$B$203,">="&G$5,'Transactions'!$B$4:$B$203,"<"&EDATE(G$5,1),'Transactions'!$H$4:$H$203,"<>Annulée") | H14: =SUMIFS('Transactions'!$G$4:$G$203,'Transactions'!$D$4:$D$203,$A14,'Transactions'!$B$4:$B$203,">="&H$5,'Transactions'!$B$4:$B$203,"<"&EDATE(H$5,1),'Transactions'!$H$4:$H$203,"<>Annulée") | I14: =SUMIFS('Transactions'!$G$4:$G$203,'Transactions'!$D$4:$D$203,$A14,'Transactions'!$B$4:$B$203,">="&I$5,'Transactions'!$B$4:$B$203,"<"&EDATE(I$5,1),'Transactions'!$H$4:$H$203,"<>Annulée") | ... M14: =SUMIFS('Transactions'!$G$4:$G$203,'Transactions'!$D$4:$D$203,$A14,'Transactions'!$B$4:$B$203,">="&M$5,'Transactions'!$B$4:$B$203,"<"&EDATE(M$5,1),'Transactions'!$H$4:$H$203,"<>Annulée") | N14: =SUM(B14:M14)
A15: Salaires et avantages sociaux | B15: =SUMIFS('Transactions'!$G$4:$G$203,'Transactions'!$D$4:$D$203,$A15,'Transactions'!$B$4:$B$203,">="&B$5,'Transactions'!$B$4:$B$203,"<"&EDATE(B$5,1),'Transactions'!$H$4:$H$203,"<>Annulée") | C15: =SUMIFS('Transactions'!$G$4:$G$203,'Transactions'!$D$4:$D$203,$A15,'Transactions'!$B$4:$B$203,">="&C$5,'Transactions'!$B$4:$B$203,"<"&EDATE(C$5,1),'Transactions'!$H$4:$H$203,"<>Annulée") | D15: =SUMIFS('Transactions'!$G$4:$G$203,'Transactions'!$D$4:$D$203,$A15,'Transactions'!$B$4:$B$203,">="&D$5,'Transactions'!$B$4:$B$203,"<"&EDATE(D$5,1),'Transactions'!$H$4:$H$203,"<>Annulée") | E15: =SUMIFS('Transactions'!$G$4:$G$203,'Transactions'!$D$4:$D$203,$A15,'Transactions'!$B$4:$B$203,">="&E$5,'Transactions'!$B$4:$B$203,"<"&EDATE(E$5,1),'Transactions'!$H$4:$H$203,"<>Annulée") | F15: =SUMIFS('Transactions'!$G$4:$G$203,'Transactions'!$D$4:$D$203,$A15,'Transactions'!$B$4:$B$203,">="&F$5,'Transactions'!$B$4:$B$203,"<"&EDATE(F$5,1),'Transactions'!$H$4:$H$203,"<>Annulée") | G15: =SUMIFS('Transactions'!$G$4:$G$203,'Transactions'!$D$4:$D$203,$A15,'Transactions'!$B$4:$B$203,">="&G$5,'Transactions'!$B$4:$B$203,"<"&EDATE(G$5,1),'Transactions'!$H$4:$H$203,"<>Annulée") | H15: =SUMIFS('Transactions'!$G$4:$G$203,'Transactions'!$D$4:$D$203,$A15,'Transactions'!$B$4:$B$203,">="&H$5,'Transactions'!$B$4:$B$203,"<"&EDATE(H$5,1),'Transactions'!$H$4:$H$203,"<>Annulée") | I15: =SUMIFS('Transactions'!$G$4:$G$203,'Transactions'!$D$4:$D$203,$A15,'Transactions'!$B$4:$B$203,">="&I$5,'Transactions'!$B$4:$B$203,"<"&EDATE(I$5,1),'Transactions'!$H$4:$H$203,"<>Annulée") | ... M15: =SUMIFS('Transactions'!$G$4:$G$203,'Transactions'!$D$4:$D$203,$A15,'Transactions'!$B$4:$B$203,">="&M$5,'Transactions'!$B$4:$B$203,"<"&EDATE(M$5,1),'Transactions'!$H$4:$H$203,"<>Annulée") | N15: =SUM(B15:M15)
A16: Loyer | B16: =SUMIFS('Transactions'!$G$4:$G$203,'Transactions'!$D$4:$D$203,$A16,'Transactions'!$B$4:$B$203,">="&B$5,'Transactions'!$B$4:$B$203,"<"&EDATE(B$5,1),'Transactions'!$H$4:$H$203,"<>Annulée") | C16: =SUMIFS('Transactions'!$G$4:$G$203,'Transactions'!$D$4:$D$203,$A16,'Transactions'!$B$4:$B$203,">="&C$5,'Transactions'!$B$4:$B$203,"<"&EDATE(C$5,1),'Transactions'!$H$4:$H$203,"<>Annulée") | D16: =SUMIFS('Transactions'!$G$4:$G$203,'Transactions'!$D$4:$D$203,$A16,'Transactions'!$B$4:$B$203,">="&D$5,'Transactions'!$B$4:$B$203,"<"&EDATE(D$5,1),'Transactions'!$H$4:$H$203,"<>Annulée") | E16: =SUMIFS('Transactions'!$G$4:$G$203,'Transactions'!$D$4:$D$203,$A16,'Transactions'!$B$4:$B$203,">="&E$5,'Transactions'!$B$4:$B$203,"<"&EDATE(E$5,1),'Transactions'!$H$4:$H$203,"<>Annulée") | F16: =SUMIFS('Transactions'!$G$4:$G$203,'Transactions'!$D$4:$D$203,$A16,'Transactions'!$B$4:$B$203,">="&F$5,'Transactions'!$B$4:$B$203,"<"&EDATE(F$5,1),'Transactions'!$H$4:$H$203,"<>Annulée") | G16: =SUMIFS('Transactions'!$G$4:$G$203,'Transactions'!$D$4:$D$203,$A16,'Transactions'!$B$4:$B$203,">="&G$5,'Transactions'!$B$4:$B$203,"<"&EDATE(G$5,1),'Transactions'!$H$4:$H$203,"<>Annulée") | H16: =SUMIFS('Transactions'!$G$4:$G$203,'Transactions'!$D$4:$D$203,$A16,'Transactions'!$B$4:$B$203,">="&H$5,'Transactions'!$B$4:$B$203,"<"&EDATE(H$5,1),'Transactions'!$H$4:$H$203,"<>Annulée") | I16: =SUMIFS('Transactions'!$G$4:$G$203,'Transactions'!$D$4:$D$203,$A16,'Transactions'!$B$4:$B$203,">="&I$5,'Transactions'!$B$4:$B$203,"<"&EDATE(I$5,1),'Transactions'!$H$4:$H$203,"<>Annulée") | ... M16: =SUMIFS('Transactions'!$G$4:$G$203,'Transactions'!$D$4:$D$203,$A16,'Transactions'!$B$4:$B$203,">="&M$5,'Transactions'!$B$4:$B$203,"<"&EDATE(M$5,1),'Transactions'!$H$4:$H$203,"<>Annulée") | N16: =SUM(B16:M16)
A17: Télécommunications | B17: =SUMIFS('Transactions'!$G$4:$G$203,'Transactions'!$D$4:$D$203,$A17,'Transactions'!$B$4:$B$203,">="&B$5,'Transactions'!$B$4:$B$203,"<"&EDATE(B$5,1),'Transactions'!$H$4:$H$203,"<>Annulée") | C17: =SUMIFS('Transactions'!$G$4:$G$203,'Transactions'!$D$4:$D$203,$A17,'Transactions'!$B$4:$B$203,">="&C$5,'Transactions'!$B$4:$B$203,"<"&EDATE(C$5,1),'Transactions'!$H$4:$H$203,"<>Annulée") | D17: =SUMIFS('Transactions'!$G$4:$G$203,'Transactions'!$D$4:$D$203,$A17,'Transactions'!$B$4:$B$203,">="&D$5,'Transactions'!$B$4:$B$203,"<"&EDATE(D$5,1),'Transactions'!$H$4:$H$203,"<>Annulée") | E17: =SUMIFS('Transactions'!$G$4:$G$203,'Transactions'!$D$4:$D$203,$A17,'Transactions'!$B$4:$B$203,">="&E$5,'Transactions'!$B$4:$B$203,"<"&EDATE(E$5,1),'Transactions'!$H$4:$H$203,"<>Annulée") | F17: =SUMIFS('Transactions'!$G$4:$G$203,'Transactions'!$D$4:$D$203,$A17,'Transactions'!$B$4:$B$203,">="&F$5,'Transactions'!$B$4:$B$203,"<"&EDATE(F$5,1),'Transactions'!$H$4:$H$203,"<>Annulée") | G17: =SUMIFS('Transactions'!$G$4:$G$203,'Transactions'!$D$4:$D$203,$A17,'Transactions'!$B$4:$B$203,">="&G$5,'Transactions'!$B$4:$B$203,"<"&EDATE(G$5,1),'Transactions'!$H$4:$H$203,"<>Annulée") | H17: =SUMIFS('Transactions'!$G$4:$G$203,'Transactions'!$D$4:$D$203,$A17,'Transactions'!$B$4:$B$203,">="&H$5,'Transactions'!$B$4:$B$203,"<"&EDATE(H$5,1),'Transactions'!$H$4:$H$203,"<>Annulée") | I17: =SUMIFS('Transactions'!$G$4:$G$203,'Transactions'!$D$4:$D$203,$A17,'Transactions'!$B$4:$B$203,">="&I$5,'Transactions'!$B$4:$B$203,"<"&EDATE(I$5,1),'Transactions'!$H$4:$H$203,"<>Annulée") | ... M17: =SUMIFS('Transactions'!$G$4:$G$203,'Transactions'!$D$4:$D$203,$A17,'Transactions'!$B$4:$B$203,">="&M$5,'Transactions'!$B$4:$B$203,"<"&EDATE(M$5,1),'Transactions'!$H$4:$H$203,"<>Annulée") | N17: =SUM(B17:M17)
A18: Marketing et publicité | B18: =SUMIFS('Transactions'!$G$4:$G$203,'Transactions'!$D$4:$D$203,$A18,'Transactions'!$B$4:$B$203,">="&B$5,'Transactions'!$B$4:$B$203,"<"&EDATE(B$5,1),'Transactions'!$H$4:$H$203,"<>Annulée") | C18: =SUMIFS('Transactions'!$G$4:$G$203,'Transactions'!$D$4:$D$203,$A18,'Transactions'!$B$4:$B$203,">="&C$5,'Transactions'!$B$4:$B$203,"<"&EDATE(C$5,1),'Transactions'!$H$4:$H$203,"<>Annulée") | D18: =SUMIFS('Transactions'!$G$4:$G$203,'Transactions'!$D$4:$D$203,$A18,'Transactions'!$B$4:$B$203,">="&D$5,'Transactions'!$B$4:$B$203,"<"&EDATE(D$5,1),'Transactions'!$H$4:$H$203,"<>Annulée") | E18: =SUMIFS('Transactions'!$G$4:$G$203,'Transactions'!$D$4:$D$203,$A18,'Transactions'!$B$4:$B$203,">="&E$5,'Transactions'!$B$4:$B$203,"<"&EDATE(E$5,1),'Transactions'!$H$4:$H$203,"<>Annulée") | F18: =SUMIFS('Transactions'!$G$4:$G$203,'Transactions'!$D$4:$D$203,$A18,'Transactions'!$B$4:$B$203,">="&F$5,'Transactions'!$B$4:$B$203,"<"&EDATE(F$5,1),'Transactions'!$H$4:$H$203,"<>Annulée") | G18: =SUMIFS('Transactions'!$G$4:$G$203,'Transactions'!$D$4:$D$203,$A18,'Transactions'!$B$4:$B$203,">="&G$5,'Transactions'!$B$4:$B$203,"<"&EDATE(G$5,1),'Transactions'!$H$4:$H$203,"<>Annulée") | H18: =SUMIFS('Transactions'!$G$4:$G$203,'Transactions'!$D$4:$D$203,$A18,'Transactions'!$B$4:$B$203,">="&H$5,'Transactions'!$B$4:$B$203,"<"&EDATE(H$5,1),'Transactions'!$H$4:$H$203,"<>Annulée") | I18: =SUMIFS('Transactions'!$G$4:$G$203,'Transactions'!$D$4:$D$203,$A18,'Transactions'!$B$4:$B$203,">="&I$5,'Transactions'!$B$4:$B$203,"<"&EDATE(I$5,1),'Transactions'!$H$4:$H$203,"<>Annulée") | ... M18: =SUMIFS('Transactions'!$G$4:$G$203,'Transactions'!$D$4:$D$203,$A18,'Transactions'!$B$4:$B$203,">="&M$5,'Transactions'!$B$4:$B$203,"<"&EDATE(M$5,1),'Transactions'!$H$4:$H$203,"<>Annulée") | N18: =SUM(B18:M18)
A19: Fournitures de bureau | B19: =SUMIFS('Transactions'!$G$4:$G$203,'Transactions'!$D$4:$D$203,$A19,'Transactions'!$B$4:$B$203,">="&B$5,'Transactions'!$B$4:$B$203,"<"&EDATE(B$5,1),'Transactions'!$H$4:$H$203,"<>Annulée") | C19: =SUMIFS('Transactions'!$G$4:$G$203,'Transactions'!$D$4:$D$203,$A19,'Transactions'!$B$4:$B$203,">="&C$5,'Transactions'!$B$4:$B$203,"<"&EDATE(C$5,1),'Transactions'!$H$4:$H$203,"<>Annulée") | D19: =SUMIFS('Transactions'!$G$4:$G$203,'Transactions'!$D$4:$D$203,$A19,'Transactions'!$B$4:$B$203,">="&D$5,'Transactions'!$B$4:$B$203,"<"&EDATE(D$5,1),'Transactions'!$H$4:$H$203,"<>Annulée") | E19: =SUMIFS('Transactions'!$G$4:$G$203,'Transactions'!$D$4:$D$203,$A19,'Transactions'!$B$4:$B$203,">="&E$5,'Transactions'!$B$4:$B$203,"<"&EDATE(E$5,1),'Transactions'!$H$4:$H$203,"<>Annulée") | F19: =SUMIFS('Transactions'!$G$4:$G$203,'Transactions'!$D$4:$D$203,$A19,'Transactions'!$B$4:$B$203,">="&F$5,'Transactions'!$B$4:$B$203,"<"&EDATE(F$5,1),'Transactions'!$H$4:$H$203,"<>Annulée") | G19: =SUMIFS('Transactions'!$G$4:$G$203,'Transactions'!$D$4:$D$203,$A19,'Transactions'!$B$4:$B$203,">="&G$5,'Transactions'!$B$4:$B$203,"<"&EDATE(G$5,1),'Transactions'!$H$4:$H$203,"<>Annulée") | H19: =SUMIFS('Transactions'!$G$4:$G$203,'Transactions'!$D$4:$D$203,$A19,'Transactions'!$B$4:$B$203,">="&H$5,'Transactions'!$B$4:$B$203,"<"&EDATE(H$5,1),'Transactions'!$H$4:$H$203,"<>Annulée") | I19: =SUMIFS('Transactions'!$G$4:$G$203,'Transactions'!$D$4:$D$203,$A19,'Transactions'!$B$4:$B$203,">="&I$5,'Transactions'!$B$4:$B$203,"<"&EDATE(I$5,1),'Transactions'!$H$4:$H$203,"<>Annulée") | ... M19: =SUMIFS('Transactions'!$G$4:$G$203,'Transactions'!$D$4:$D$203,$A19,'Transactions'!$B$4:$B$203,">="&M$5,'Transactions'!$B$4:$B$203,"<"&EDATE(M$5,1),'Transactions'!$H$4:$H$203,"<>Annulée") | N19: =SUM(B19:M19)
A20: Déplacements | B20: =SUMIFS('Transactions'!$G$4:$G$203,'Transactions'!$D$4:$D$203,$A20,'Transactions'!$B$4:$B$203,">="&B$5,'Transactions'!$B$4:$B$203,"<"&EDATE(B$5,1),'Transactions'!$H$4:$H$203,"<>Annulée") | C20: =SUMIFS('Transactions'!$G$4:$G$203,'Transactions'!$D$4:$D$203,$A20,'Transactions'!$B$4:$B$203,">="&C$5,'Transactions'!$B$4:$B$203,"<"&EDATE(C$5,1),'Transactions'!$H$4:$H$203,"<>Annulée") | D20: =SUMIFS('Transactions'!$G$4:$G$203,'Transactions'!$D$4:$D$203,$A20,'Transactions'!$B$4:$B$203,">="&D$5,'Transactions'!$B$4:$B$203,"<"&EDATE(D$5,1),'Transactions'!$H$4:$H$203,"<>Annulée") | E20: =SUMIFS('Transactions'!$G$4:$G$203,'Transactions'!$D$4:$D$203,$A20,'Transactions'!$B$4:$B$203,">="&E$5,'Transactions'!$B$4:$B$203,"<"&EDATE(E$5,1),'Transactions'!$H$4:$H$203,"<>Annulée") | F20: =SUMIFS('Transactions'!$G$4:$G$203,'Transactions'!$D$4:$D$203,$A20,'Transactions'!$B$4:$B$203,">="&F$5,'Transactions'!$B$4:$B$203,"<"&EDATE(F$5,1),'Transactions'!$H$4:$H$203,"<>Annulée") | G20: =SUMIFS('Transactions'!$G$4:$G$203,'Transactions'!$D$4:$D$203,$A20,'Transactions'!$B$4:$B$203,">="&G$5,'Transactions'!$B$4:$B$203,"<"&EDATE(G$5,1),'Transactions'!$H$4:$H$203,"<>Annulée") | H20: =SUMIFS('Transactions'!$G$4:$G$203,'Transactions'!$D$4:$D$203,$A20,'Transactions'!$B$4:$B$203,">="&H$5,'Transactions'!$B$4:$B$203,"<"&EDATE(H$5,1),'Transactions'!$H$4:$H$203,"<>Annulée") | I20: =SUMIFS('Transactions'!$G$4:$G$203,'Transactions'!$D$4:$D$203,$A20,'Transactions'!$B$4:$B$203,">="&I$5,'Transactions'!$B$4:$B$203,"<"&EDATE(I$5,1),'Transactions'!$H$4:$H$203,"<>Annulée") | ... M20: =SUMIFS('Transactions'!$G$4:$G$203,'Transactions'!$D$4:$D$203,$A20,'Transactions'!$B$4:$B$203,">="&M$5,'Transactions'!$B$4:$B$203,"<"&EDATE(M$5,1),'Transactions'!$H$4:$H$203,"<>Annulée") | N20: =SUM(B20:M20)
A21: Assurances | B21: =SUMIFS('Transactions'!$G$4:$G$203,'Transactions'!$D$4:$D$203,$A21,'Transactions'!$B$4:$B$203,">="&B$5,'Transactions'!$B$4:$B$203,"<"&EDATE(B$5,1),'Transactions'!$H$4:$H$203,"<>Annulée") | C21: =SUMIFS('Transactions'!$G$4:$G$203,'Transactions'!$D$4:$D$203,$A21,'Transactions'!$B$4:$B$203,">="&C$5,'Transactions'!$B$4:$B$203,"<"&EDATE(C$5,1),'Transactions'!$H$4:$H$203,"<>Annulée") | D21: =SUMIFS('Transactions'!$G$4:$G$203,'Transactions'!$D$4:$D$203,$A21,'Transactions'!$B$4:$B$203,">="&D$5,'Transactions'!$B$4:$B$203,"<"&EDATE(D$5,1),'Transactions'!$H$4:$H$203,"<>Annulée") | E21: =SUMIFS('Transactions'!$G$4:$G$203,'Transactions'!$D$4:$D$203,$A21,'Transactions'!$B$4:$B$203,">="&E$5,'Transactions'!$B$4:$B$203,"<"&EDATE(E$5,1),'Transactions'!$H$4:$H$203,"<>Annulée") | F21: =SUMIFS('Transactions'!$G$4:$G$203,'Transactions'!$D$4:$D$203,$A21,'Transactions'!$B$4:$B$203,">="&F$5,'Transactions'!$B$4:$B$203,"<"&EDATE(F$5,1),'Transactions'!$H$4:$H$203,"<>Annulée") | G21: =SUMIFS('Transactions'!$G$4:$G$203,'Transactions'!$D$4:$D$203,$A21,'Transactions'!$B$4:$B$203,">="&G$5,'Transactions'!$B$4:$B$203,"<"&EDATE(G$5,1),'Transactions'!$H$4:$H$203,"<>Annulée") | H21: =SUMIFS('Transactions'!$G$4:$G$203,'Transactions'!$D$4:$D$203,$A21,'Transactions'!$B$4:$B$203,">="&H$5,'Transactions'!$B$4:$B$203,"<"&EDATE(H$5,1),'Transactions'!$H$4:$H$203,"<>Annulée") | I21: =SUMIFS('Transactions'!$G$4:$G$203,'Transactions'!$D$4:$D$203,$A21,'Transactions'!$B$4:$B$203,">="&I$5,'Transactions'!$B$4:$B$203,"<"&EDATE(I$5,1),'Transactions'!$H$4:$H$203,"<>Annulée") | ... M21: =SUMIFS('Transactions'!$G$4:$G$203,'Transactions'!$D$4:$D$203,$A21,'Transactions'!$B$4:$B$203,">="&M$5,'Transactions'!$B$4:$B$203,"<"&EDATE(M$5,1),'Transactions'!$H$4:$H$203,"<>Annulée") | N21: =SUM(B21:M21)
A22: Frais bancaires | B22: =SUMIFS('Transactions'!$G$4:$G$203,'Transactions'!$D$4:$D$203,$A22,'Transactions'!$B$4:$B$203,">="&B$5,'Transactions'!$B$4:$B$203,"<"&EDATE(B$5,1),'Transactions'!$H$4:$H$203,"<>Annulée") | C22: =SUMIFS('Transactions'!$G$4:$G$203,'Transactions'!$D$4:$D$203,$A22,'Transactions'!$B$4:$B$203,">="&C$5,'Transactions'!$B$4:$B$203,"<"&EDATE(C$5,1),'Transactions'!$H$4:$H$203,"<>Annulée") | D22: =SUMIFS('Transactions'!$G$4:$G$203,'Transactions'!$D$4:$D$203,$A22,'Transactions'!$B$4:$B$203,">="&D$5,'Transactions'!$B$4:$B$203,"<"&EDATE(D$5,1),'Transactions'!$H$4:$H$203,"<>Annulée") | E22: =SUMIFS('Transactions'!$G$4:$G$203,'Transactions'!$D$4:$D$203,$A22,'Transactions'!$B$4:$B$203,">="&E$5,'Transactions'!$B$4:$B$203,"<"&EDATE(E$5,1),'Transactions'!$H$4:$H$203,"<>Annulée") | F22: =SUMIFS('Transactions'!$G$4:$G$203,'Transactions'!$D$4:$D$203,$A22,'Transactions'!$B$4:$B$203,">="&F$5,'Transactions'!$B$4:$B$203,"<"&EDATE(F$5,1),'Transactions'!$H$4:$H$203,"<>Annulée") | G22: =SUMIFS('Transactions'!$G$4:$G$203,'Transactions'!$D$4:$D$203,$A22,'Transactions'!$B$4:$B$203,">="&G$5,'Transactions'!$B$4:$B$203,"<"&EDATE(G$5,1),'Transactions'!$H$4:$H$203,"<>Annulée") | H22: =SUMIFS('Transactions'!$G$4:$G$203,'Transactions'!$D$4:$D$203,$A22,'Transactions'!$B$4:$B$203,">="&H$5,'Transactions'!$B$4:$B$203,"<"&EDATE(H$5,1),'Transactions'!$H$4:$H$203,"<>Annulée") | I22: =SUMIFS('Transactions'!$G$4:$G$203,'Transactions'!$D$4:$D$203,$A22,'Transactions'!$B$4:$B$203,">="&I$5,'Transactions'!$B$4:$B$203,"<"&EDATE(I$5,1),'Transactions'!$H$4:$H$203,"<>Annulée") | ... M22: =SUMIFS('Transactions'!$G$4:$G$203,'Transactions'!$D$4:$D$203,$A22,'Transactions'!$B$4:$B$203,">="&M$5,'Transactions'!$B$4:$B$203,"<"&EDATE(M$5,1),'Transactions'!$H$4:$H$203,"<>Annulée") | N22: =SUM(B22:M22)
A23: Amortissement | B23: =SUMIFS('Transactions'!$G$4:$G$203,'Transactions'!$D$4:$D$203,$A23,'Transactions'!$B$4:$B$203,">="&B$5,'Transactions'!$B$4:$B$203,"<"&EDATE(B$5,1),'Transactions'!$H$4:$H$203,"<>Annulée") | C23: =SUMIFS('Transactions'!$G$4:$G$203,'Transactions'!$D$4:$D$203,$A23,'Transactions'!$B$4:$B$203,">="&C$5,'Transactions'!$B$4:$B$203,"<"&EDATE(C$5,1),'Transactions'!$H$4:$H$203,"<>Annulée") | D23: =SUMIFS('Transactions'!$G$4:$G$203,'Transactions'!$D$4:$D$203,$A23,'Transactions'!$B$4:$B$203,">="&D$5,'Transactions'!$B$4:$B$203,"<"&EDATE(D$5,1),'Transactions'!$H$4:$H$203,"<>Annulée") | E23: =SUMIFS('Transactions'!$G$4:$G$203,'Transactions'!$D$4:$D$203,$A23,'Transactions'!$B$4:$B$203,">="&E$5,'Transactions'!$B$4:$B$203,"<"&EDATE(E$5,1),'Transactions'!$H$4:$H$203,"<>Annulée") | F23: =SUMIFS('Transactions'!$G$4:$G$203,'Transactions'!$D$4:$D$203,$A23,'Transactions'!$B$4:$B$203,">="&F$5,'Transactions'!$B$4:$B$203,"<"&EDATE(F$5,1),'Transactions'!$H$4:$H$203,"<>Annulée") | G23: =SUMIFS('Transactions'!$G$4:$G$203,'Transactions'!$D$4:$D$203,$A23,'Transactions'!$B$4:$B$203,">="&G$5,'Transactions'!$B$4:$B$203,"<"&EDATE(G$5,1),'Transactions'!$H$4:$H$203,"<>Annulée") | H23: =SUMIFS('Transactions'!$G$4:$G$203,'Transactions'!$D$4:$D$203,$A23,'Transactions'!$B$4:$B$203,">="&H$5,'Transactions'!$B$4:$B$203,"<"&EDATE(H$5,1),'Transactions'!$H$4:$H$203,"<>Annulée") | I23: =SUMIFS('Transactions'!$G$4:$G$203,'Transactions'!$D$4:$D$203,$A23,'Transactions'!$B$4:$B$203,">="&I$5,'Transactions'!$B$4:$B$203,"<"&EDATE(I$5,1),'Transactions'!$H$4:$H$203,"<>Annulée") | ... M23: =SUMIFS('Transactions'!$G$4:$G$203,'Transactions'!$D$4:$D$203,$A23,'Transactions'!$B$4:$B$203,">="&M$5,'Transactions'!$B$4:$B$203,"<"&EDATE(M$5,1),'Transactions'!$H$4:$H$203,"<>Annulée") | N23: =SUM(B23:M23)
A24: Autres dépenses | B24: =SUMIFS('Transactions'!$G$4:$G$203,'Transactions'!$D$4:$D$203,$A24,'Transactions'!$B$4:$B$203,">="&B$5,'Transactions'!$B$4:$B$203,"<"&EDATE(B$5,1),'Transactions'!$H$4:$H$203,"<>Annulée") | C24: =SUMIFS('Transactions'!$G$4:$G$203,'Transactions'!$D$4:$D$203,$A24,'Transactions'!$B$4:$B$203,">="&C$5,'Transactions'!$B$4:$B$203,"<"&EDATE(C$5,1),'Transactions'!$H$4:$H$203,"<>Annulée") | D24: =SUMIFS('Transactions'!$G$4:$G$203,'Transactions'!$D$4:$D$203,$A24,'Transactions'!$B$4:$B$203,">="&D$5,'Transactions'!$B$4:$B$203,"<"&EDATE(D$5,1),'Transactions'!$H$4:$H$203,"<>Annulée") | E24: =SUMIFS('Transactions'!$G$4:$G$203,'Transactions'!$D$4:$D$203,$A24,'Transactions'!$B$4:$B$203,">="&E$5,'Transactions'!$B$4:$B$203,"<"&EDATE(E$5,1),'Transactions'!$H$4:$H$203,"<>Annulée") | F24: =SUMIFS('Transactions'!$G$4:$G$203,'Transactions'!$D$4:$D$203,$A24,'Transactions'!$B$4:$B$203,">="&F$5,'Transactions'!$B$4:$B$203,"<"&EDATE(F$5,1),'Transactions'!$H$4:$H$203,"<>Annulée") | G24: =SUMIFS('Transactions'!$G$4:$G$203,'Transactions'!$D$4:$D$203,$A24,'Transactions'!$B$4:$B$203,">="&G$5,'Transactions'!$B$4:$B$203,"<"&EDATE(G$5,1),'Transactions'!$H$4:$H$203,"<>Annulée") | H24: =SUMIFS('Transactions'!$G$4:$G$203,'Transactions'!$D$4:$D$203,$A24,'Transactions'!$B$4:$B$203,">="&H$5,'Transactions'!$B$4:$B$203,"<"&EDATE(H$5,1),'Transactions'!$H$4:$H$203,"<>Annulée") | I24: =SUMIFS('Transactions'!$G$4:$G$203,'Transactions'!$D$4:$D$203,$A24,'Transactions'!$B$4:$B$203,">="&I$5,'Transactions'!$B$4:$B$203,"<"&EDATE(I$5,1),'Transactions'!$H$4:$H$203,"<>Annulée") | ... M24: =SUMIFS('Transactions'!$G$4:$G$203,'Transactions'!$D$4:$D$203,$A24,'Transactions'!$B$4:$B$203,">="&M$5,'Transactions'!$B$4:$B$203,"<"&EDATE(M$5,1),'Transactions'!$H$4:$H$203,"<>Annulée") | N24: =SUM(B24:M24)
A25: Total des dépenses | B25: =SUM(B14:B24) | C25: =SUM(C14:C24) | D25: =SUM(D14:D24) | E25: =SUM(E14:E24) | F25: =SUM(F14:F24) | G25: =SUM(G14:G24) | H25: =SUM(H14:H24) | I25: =SUM(I14:I24) | ... M25: =SUM(M14:M24) | N25: =SUM(B25:M25)
A27: Résultat avant impôt | B27: =B11-B25 | C27: =C11-C25 | D27: =D11-D25 | E27: =E11-E25 | F27: =F11-F25 | G27: =G11-G25 | H27: =H11-H25 | I27: =I11-I25 | ... N27: =N11-N25
A28: Marge bénéficiaire avant impôt | B28: =IFERROR(B27/B11,0) | C28: =IFERROR(C27/C11,0) | D28: =IFERROR(D27/D11,0) | E28: =IFERROR(E27/E11,0) | F28: =IFERROR(F27/F11,0) | G28: =IFERROR(G27/G11,0) | H28: =IFERROR(H27/H11,0) | I28: =IFERROR(I27/I11,0) | ... N28: =IFERROR(N27/N11,0)
A31: Contrôles de totalisation
A32: Écart des revenus | B32: =N11-SUMIFS('Transactions'!$G$4:$G$203,'Transactions'!$C$4:$C$203,"Revenu",'Transactions'!$H$4:$H$203,"<>Annulée")
A33: Écart des dépenses | B33: =N25-SUMIFS('Transactions'!$G$4:$G$203,'Transactions'!$C$4:$C$203,"Dépense",'Transactions'!$H$4:$H$203,"<>Annulée")
A34: Écart du résultat avant impôt | B34: =N27-(SUMIFS('Transactions'!$G$4:$G$203,'Transactions'!$C$4:$C$203,"Revenu",'Transactions'!$H$4:$H$203,"<>Annulée")-SUMIFS('Transactions'!$G$4:$G$203,'Transactions'!$C$4:$C$203,"Dépense",'Transactions'!$H$4:$H$203,"<>Annulée"))
B35: ="" | C35: ="" | D35: ="" | E35: ="" | F35: ="" | G35: ="" | H35: ="" | I35: ="" | ... N35: =""
B36: ="" | C36: ="" | D36: ="" | E36: ="" | F36: ="" | G36: ="" | H36: ="" | I36: ="" | ... N36: =""
B37: ="" | C37: ="" | D37: ="" | E37: ="" | F37: ="" | G37: ="" | H37: ="" | I37: ="" | ... N37: =""
B38: ="" | C38: ="" | D38: ="" | E38: ="" | F38: ="" | G38: ="" | H38: ="" | I38: ="" | ... N38: =""
B39: ="" | C39: ="" | D39: ="" | E39: ="" | F39: ="" | G39: ="" | H39: ="" | I39: ="" | ... N39: =""
B40: ="" | C40: ="" | D40: ="" | E40: ="" | F40: ="" | G40: ="" | H40: ="" | I40: ="" | ... N40: =""
B41: ="" | C41: ="" | D41: ="" | E41: ="" | F41: ="" | G41: ="" | H41: ="" | I41: ="" | ... N41: =""
B42: ="" | C42: ="" | D42: ="" | E42: ="" | F42: ="" | G42: ="" | H42: ="" | I42: ="" | ... N42: =""
B43: ="" | C43: ="" | D43: ="" | E43: ="" | F43: ="" | G43: ="" | H43: ="" | I43: ="" | ... N43: =""
B44: ="" | C44: ="" | D44: ="" | E44: ="" | F44: ="" | G44: ="" | H44: ="" | I44: ="" | ... N44: =""
B45: ="" | C45: ="" | D45: ="" | E45: ="" | F45: ="" | G45: ="" | H45: ="" | I45: ="" | ... N45: =""
B46: ="" | C46: ="" | D46: ="" | E46: ="" | F46: ="" | G46: ="" | H46: ="" | I46: ="" | ... N46: =""
...
