Workbook

Sheet Tableau de bord
A1: Tableau de bord — Inventaire physique
A2: Entreprise : | B2: ='Paramètres'!$B$4 | E2: Date d'inventaire : | F2: ='Paramètres'!$B$6
A3: Les indicateurs se mettent à jour automatiquement selon les données de la feuille Inventaire physique.
A5: Articles au total | C5: Articles comptés | E5: Articles à compter | G5: Articles à vérifier
A6: =COUNTA('Inventaire physique'!$A$7:$A$506) | C6: =COUNT('Inventaire physique'!$H$7:$H$506) | E6: =IFERROR(A6-C6,0) | G6: =COUNTIF('Inventaire physique'!$K$7:$K$506,"À vérifier")
A8: Valeur théorique | C8: Valeur comptée | E8: Écart total de valeur | G8: Avancement du comptage
A9: =IFERROR(SUMPRODUCT('Inventaire physique'!$F$7:$F$506,'Inventaire physique'!$G$7:$G$506),0) | C9: =IFERROR(SUMPRODUCT('Inventaire physique'!$F$7:$F$506,'Inventaire physique'!$H$7:$H$506),0) | E9: =IFERROR(SUM('Inventaire physique'!$J$7:$J$506),0) | G9: =IFERROR(C6/A6,0)
A13: Catégorie | B13: Articles au total | C13: Articles comptés | D13: Articles à vérifier | E13: Écart total de valeur
A14: Fournitures de bureau | B14: =COUNTIF('Inventaire physique'!$C$7:$C$506,A14) | C14: =COUNTIFS('Inventaire physique'!$C$7:$C$506,A14,'Inventaire physique'!$H$7:$H$506,">=0") | D14: =COUNTIFS('Inventaire physique'!$C$7:$C$506,A14,'Inventaire physique'!$K$7:$K$506,"À vérifier") | E14: =IFERROR(SUMIFS('Inventaire physique'!$J$7:$J$506,'Inventaire physique'!$C$7:$C$506,A14),0)
A15: Emballage | B15: =COUNTIF('Inventaire physique'!$C$7:$C$506,A15) | C15: =COUNTIFS('Inventaire physique'!$C$7:$C$506,A15,'Inventaire physique'!$H$7:$H$506,">=0") | D15: =COUNTIFS('Inventaire physique'!$C$7:$C$506,A15,'Inventaire physique'!$K$7:$K$506,"À vérifier") | E15: =IFERROR(SUMIFS('Inventaire physique'!$J$7:$J$506,'Inventaire physique'!$C$7:$C$506,A15),0)
A16: Informatique | B16: =COUNTIF('Inventaire physique'!$C$7:$C$506,A16) | C16: =COUNTIFS('Inventaire physique'!$C$7:$C$506,A16,'Inventaire physique'!$H$7:$H$506,">=0") | D16: =COUNTIFS('Inventaire physique'!$C$7:$C$506,A16,'Inventaire physique'!$K$7:$K$506,"À vérifier") | E16: =IFERROR(SUMIFS('Inventaire physique'!$J$7:$J$506,'Inventaire physique'!$C$7:$C$506,A16),0)
A17: Produits d'entretien | B17: =COUNTIF('Inventaire physique'!$C$7:$C$506,A17) | C17: =COUNTIFS('Inventaire physique'!$C$7:$C$506,A17,'Inventaire physique'!$H$7:$H$506,">=0") | D17: =COUNTIFS('Inventaire physique'!$C$7:$C$506,A17,'Inventaire physique'!$K$7:$K$506,"À vérifier") | E17: =IFERROR(SUMIFS('Inventaire physique'!$J$7:$J$506,'Inventaire physique'!$C$7:$C$506,A17),0)
A18: Outillage | B18: =COUNTIF('Inventaire physique'!$C$7:$C$506,A18) | C18: =COUNTIFS('Inventaire physique'!$C$7:$C$506,A18,'Inventaire physique'!$H$7:$H$506,">=0") | D18: =COUNTIFS('Inventaire physique'!$C$7:$C$506,A18,'Inventaire physique'!$K$7:$K$506,"À vérifier") | E18: =IFERROR(SUMIFS('Inventaire physique'!$J$7:$J$506,'Inventaire physique'!$C$7:$C$506,A18),0)
B19: ="" | C19: ="" | D19: =""
B20: ="" | C20: ="" | D20: =""
B21: ="" | C21: ="" | D21: =""
A22: Contrôle final des totaux | B22: ="" | C22: ="" | D22: =""
A23: Écart entre le total détaillé et le sommaire par catégorie : | B23: ="" | C23: ="" | D23: ="" | E23: =IFERROR(SUM('Inventaire physique'!$J$7:$J$506)-SUM($E$14:$E$18),0)
A24: Résultat du contrôle : | B24: ="" | C24: ="" | D24: ="" | E24: =IF(ABS(E23)<='Paramètres'!$B$8,"OK — Totaux concordants","À corriger — Vérifier les données")
B25: ="" | C25: ="" | D25: ="" | E25: =""
B26: ="" | C26: ="" | D26: ="" | E26: =""
B27: ="" | C27: ="" | D27: ="" | E27: =""
B28: ="" | C28: ="" | D28: ="" | E28: =""
B29: ="" | C29: ="" | D29: ="" | E29: =""
B30: ="" | C30: ="" | D30: ="" | E30: =""
B31: ="" | C31: ="" | D31: ="" | E31: =""
B32: ="" | C32: ="" | D32: ="" | E32: =""
B33: ="" | C33: ="" | D33: ="" | E33: =""
B34: ="" | C34: ="" | D34: ="" | E34: =""
B35: ="" | C35: ="" | D35: ="" | E35: =""
B36: ="" | C36: ="" | D36: ="" | E36: =""
... B101: ="" | C101: ="" | D101: ="" | E101: =""

Sheet Inventaire physique
A1: Inventaire physique
A2: Saisissez les quantités comptées dans les cellules bleues. Les écarts et statuts sont calculés automatiquement.
A3: Entreprise : | B3: ='Paramètres'!$B$4 | E3: Date d'inventaire : | F3: ='Paramètres'!$B$6 | I3: Responsable : | J3: ='Paramètres'!$B$5
A4: Utilisez les filtres pour travailler par emplacement, catégorie ou statut. Ajoutez les nouveaux articles à la fin du tableau.
A6: Code article | B6: Description | C6: Catégorie | D6: Emplacement | E6: Unité | F6: Coût unitaire | G6: Quantité théorique | H6: Quantité comptée | I6: Écart quantité | J6: Écart valeur | K6: Statut | L6: Compté par | M6: Date de comptage | N6: Notes | O6: Révision requise
A7: PAP-100 | B7: Papier copie lettre 8,5 x 11 po | C7: Fournitures de bureau | D7: Bureau administratif | E7: Boîte | F7: 7.49 | G7: 24 | H7: 22 | I7: =IF(H7="","",H7-G7) | J7: =IF(H7="","",IFERROR(I7*F7,0)) | K7: =IF(H7="","À compter",IF(ABS(I7)<='Paramètres'!$B$7,"Conforme","À vérifier")) | L7: Marie-Claude Tremblay | M7: 46112 | N7: Deux boîtes manquantes | O7: =IF(K7="","",IF(K7="À vérifier","Oui","Non"))
A8: PAP-120 | B8: Cartouche d'encre noire compatible | C8: Fournitures de bureau | D8: Bureau administratif | E8: Unité | F8: 42.5 | G8: 4 | H8: 4 | I8: =IF(H8="","",H8-G8) | J8: =IF(H8="","",IFERROR(I8*F8,0)) | K8: =IF(H8="","À compter",IF(ABS(I8)<='Paramètres'!$B$7,"Conforme","À vérifier")) | L8: Marie-Claude Tremblay | M8: 46112 | N8: Conforme | O8: =IF(K8="","",IF(K8="À vérifier","Oui","Non"))
A9: EMB-210 | B9: Ruban adhésif transparent 48 mm | C9: Emballage | D9: Entrepôt A | E9: Rouleau | F9: 3.95 | G9: 36 | H9: 36 | I9: =IF(H9="","",H9-G9) | J9: =IF(H9="","",IFERROR(I9*F9,0)) | K9: =IF(H9="","À compter",IF(ABS(I9)<='Paramètres'!$B$7,"Conforme","À vérifier")) | L9: Jean-François Gagnon | M9: 46112 | N9: Conforme | O9: =IF(K9="","",IF(K9="À vérifier","Oui","Non"))
A10: EMB-220 | B10: Boîtes d'expédition format moyen | C10: Emballage | D10: Entrepôt A | E10: Paquet | F10: 19.95 | G10: 15 | H10: 17 | I10: =IF(H10="","",H10-G10) | J10: =IF(H10="","",IFERROR(I10*F10,0)) | K10: =IF(H10="","À compter",IF(ABS(I10)<='Paramètres'!$B$7,"Conforme","À vérifier")) | L10: Jean-François Gagnon | M10: 46112 | N10: Deux paquets reçus non enregistrés | O10: =IF(K10="","",IF(K10="À vérifier","Oui","Non"))
A11: INF-310 | B11: Souris sans fil USB | C11: Informatique | D11: Bureau administratif | E11: Unité | F11: 24.99 | G11: 8 | H11: 7 | I11: =IF(H11="","",H11-G11) | J11: =IF(H11="","",IFERROR(I11*F11,0)) | K11: =IF(H11="","À compter",IF(ABS(I11)<='Paramètres'!$B$7,"Conforme","À vérifier")) | L11: Marie-Claude Tremblay | M11: 46112 | N11: Une unité à localiser | O11: =IF(K11="","",IF(K11="À vérifier","Oui","Non"))
A12: INF-320 | B12: Clavier sans fil bilingue | C12: Informatique | D12: Bureau administratif | E12: Unité | F12: 39.99 | G12: 5 | H12: 5 | I12: =IF(H12="","",H12-G12) | J12: =IF(H12="","",IFERROR(I12*F12,0)) | K12: =IF(H12="","À compter",IF(ABS(I12)<='Paramètres'!$B$7,"Conforme","À vérifier")) | L12: Marie-Claude Tremblay | M12: 46112 | N12: Conforme | O12: =IF(K12="","",IF(K12="À vérifier","Oui","Non"))
A13: ENT-410 | B13: Nettoyant multiusage 4 L | C13: Produits d'entretien | D13: Conciergerie | E13: Bidon | F13: 14.5 | G13: 6 | H13: 6 | I13: =IF(H13="","",H13-G13) | J13: =IF(H13="","",IFERROR(I13*F13,0)) | K13: =IF(H13="","À compter",IF(ABS(I13)<='Paramètres'!$B$7,"Conforme","À vérifier")) | L13: Jean-François Gagnon | M13: 46112 | N13: Conforme | O13: =IF(K13="","",IF(K13="À vérifier","Oui","Non"))
A14: ENT-420 | B14: Gants nitrile moyen | C14: Produits d'entretien | D14: Conciergerie | E14: Boîte | F14: 18.75 | G14: 12 | H14: 10 | I14: =IF(H14="","",H14-G14) | J14: =IF(H14="","",IFERROR(I14*F14,0)) | K14: =IF(H14="","À compter",IF(ABS(I14)<='Paramètres'!$B$7,"Conforme","À vérifier")) | L14: Jean-François Gagnon | M14: 46112 | N14: Écart à confirmer | O14: =IF(K14="","",IF(K14="À vérifier","Oui","Non"))
A15: OUT-510 | B15: Piles alcalines AA paquet de 24 | C15: Outillage | D15: Atelier | E15: Paquet | F15: 16.95 | G15: 10 | H15: 9 | I15: =IF(H15="","",H15-G15) | J15: =IF(H15="","",IFERROR(I15*F15,0)) | K15: =IF(H15="","À compter",IF(ABS(I15)<='Paramètres'!$B$7,"Conforme","À vérifier")) | L15: Sophie Bouchard | M15: 46112 | N15: Un paquet utilisé pour un chantier | O15: =IF(K15="","",IF(K15="À vérifier","Oui","Non"))
A16: OUT-520 | B16: Ruban à mesurer 8 m | C16: Outillage | D16: Atelier | E16: Unité | F16: 22.95 | G16: 7 | H16: 7 | I16: =IF(H16="","",H16-G16) | J16: =IF(H16="","",IFERROR(I16*F16,0)) | K16: =IF(H16="","À compter",IF(ABS(I16)<='Paramètres'!$B$7,"Conforme","À vérifier")) | L16: Sophie Bouchard | M16: 46112 | N16: Conforme | O16: =IF(K16="","",IF(K16="À vérifier","Oui","Non"))
I17: =IF(H17="","",H17-G17) | J17: =IF(H17="","",IFERROR(I17*F17,0)) | K17: =IF(H17="","À compter",IF(ABS(I17)<='Paramètres'!$B$7,"Conforme","À vérifier")) | O17: =IF(K17="","",IF(K17="À vérifier","Oui","Non"))
I18: =IF(H18="","",H18-G18) | J18: =IF(H18="","",IFERROR(I18*F18,0)) | K18: =IF(H18="","À compter",IF(ABS(I18)<='Paramètres'!$B$7,"Conforme","À vérifier")) | O18: =IF(K18="","",IF(K18="À vérifier","Oui","Non"))
I19: =IF(H19="","",H19-G19) | J19: =IF(H19="","",IFERROR(I19*F19,0)) | K19: =IF(H19="","À compter",IF(ABS(I19)<='Paramètres'!$B$7,"Conforme","À vérifier")) | O19: =IF(K19="","",IF(K19="À vérifier","Oui","Non"))
I20: =IF(H20="","",H20-G20) | J20: =IF(H20="","",IFERROR(I20*F20,0)) | K20: =IF(H20="","À compter",IF(ABS(I20)<='Paramètres'!$B$7,"Conforme","À vérifier")) | O20: =IF(K20="","",IF(K20="À vérifier","Oui","Non"))
I21: =IF(H21="","",H21-G21) | J21: =IF(H21="","",IFERROR(I21*F21,0)) | K21: =IF(H21="","À compter",IF(ABS(I21)<='Paramètres'!$B$7,"Conforme","À vérifier")) | O21: =IF(K21="","",IF(K21="À vérifier","Oui","Non"))
I22: =IF(H22="","",H22-G22) | J22: =IF(H22="","",IFERROR(I22*F22,0)) | K22: =IF(H22="","À compter",IF(ABS(I22)<='Paramètres'!$B$7,"Conforme","À vérifier")) | O22: =IF(K22="","",IF(K22="À vérifier","Oui","Non"))
I23: =IF(H23="","",H23-G23) | J23: =IF(H23="","",IFERROR(I23*F23,0)) | K23: =IF(H23="","À compter",IF(ABS(I23)<='Paramètres'!$B$7,"Conforme","À vérifier")) | O23: =IF(K23="","",IF(K23="À vérifier","Oui","Non"))
I24: =IF(H24="","",H24-G24) | J24: =IF(H24="","",IFERROR(I24*F24,0)) | K24: =IF(H24="","À compter",IF(ABS(I24)<='Paramètres'!$B$7,"Conforme","À vérifier")) | O24: =IF(K24="","",IF(K24="À vérifier","Oui","Non"))
I25: =IF(H25="","",H25-G25) | J25: =IF(H25="","",IFERROR(I25*F25,0)) | K25: =IF(H25="","À compter",IF(ABS(I25)<='Paramètres'!$B$7,"Conforme","À vérifier")) | O25: =IF(K25="","",IF(K25="À vérifier","Oui","Non"))
I26: =IF(H26="","",H26-G26) | J26: =IF(H26="","",IFERROR(I26*F26,0)) | K26: =IF(H26="","À compter",IF(ABS(I26)<='Paramètres'!$B$7,"Conforme","À vérifier")) | O26: =IF(K26="","",IF(K26="À vérifier","Oui","Non"))
I27: =IF(H27="","",H27-G27) | J27: =IF(H27="","",IFERROR(I27*F27,0)) | K27: =IF(H27="","À compter",IF(ABS(I27)<='Paramètres'!$B$7,"Conforme","À vérifier")) | O27: =IF(K27="","",IF(K27="À vérifier","Oui","Non"))
I28: =IF(H28="","",H28-G28) | J28: =IF(H28="","",IFERROR(I28*F28,0)) | K28: =IF(H28="","À compter",IF(ABS(I28)<='Paramètres'!$B$7,"Conforme","À vérifier")) | O28: =IF(K28="","",IF(K28="À vérifier","Oui","Non"))
... I506: =IF(H506="","",H506-G506) | J506: =IF(H506="","",IFERROR(I506*F506,0)) | K506: =IF(H506="","À compter",IF(ABS(I506)<='Paramètres'!$B$7,"Conforme","À vérifier")) | O506: =IF(K506="","",IF(K506="À vérifier","Oui","Non"))

Sheet Paramètres
A1: Paramètres et listes de référence
A2: Modifiez uniquement les cellules bleues. Les listes servent aux menus déroulants de la feuille Inventaire physique.
A4: Nom de l'entreprise | B4: Atelier Nordik inc. | D4: Catégorie | E4: Emplacement | F4: Unité | G4: Compteur
A5: Responsable de l'inventaire | B5: Marie-Claude Tremblay | D5: Fournitures de bureau | E5: Bureau administratif | F5: Unité | G5: Marie-Claude Tremblay
A6: Date d'inventaire | B6: 46112 | D6: Emballage | E6: Entrepôt A | F6: Boîte | G6: Jean-François Gagnon
A7: Tolérance d'écart de quantité | B7: 0 | D7: Informatique | E7: Entrepôt B | F7: Paquet | G7: Sophie Bouchard
A8: Tolérance de contrôle des totaux | B8: 0.01 | D8: Produits d'entretien | E8: Atelier | F8: Rouleau | G8: Alexandre Roy
D9: Outillage | E9: Conciergerie | F9: Bidon | G9: Non assigné
