Workbook

Sheet Horaire hebdomadaire
A1: Horaire de travail hebdomadaire
A2: Saisir un quart par ligne. Les heures comptabilisées excluent automatiquement les quarts absents ou annulés.
A3: Semaine du | B3: ='Paramètres'!$B$5 | C3: Au | D3: ='Paramètres'!$B$6
A6: No de quart | B6: Employé | C6: Poste | D6: Date | E6: Jour | F6: Début | G6: Fin | H6: Pause (min) | I6: Heures nettes | J6: Statut | K6: Heures comptabilisées | L6: Lieu / client | M6: Notes | N6: Contrôle
A7: Q-001 | B7: Mélanie Gagnon | C7: Coordonnatrice administrative | D7: 46174 | E7: =IF(D7="","",CHOOSE(WEEKDAY(D7,2),"lundi","mardi","mercredi","jeudi","vendredi","samedi","dimanche")) | F7: 0.33333333 | G7: 0.6875 | H7: 30 | I7: =IF(OR(F7="",G7=""),"",IFERROR(MAX(0,(IF(G7<F7,G7+1,G7)-F7)*24-H7/60),0)) | J7: Terminé | K7: =IF(I7="","",IF(OR(J7="Absent",J7="Annulé"),0,I7)) | L7: Bureau de Québec | M7: Accueil et suivi administratif | N7: =IF(COUNTA(A7:D7,F7:H7,J7)=0,"",IF(OR(B7="",C7="",D7="",F7="",G7="",H7="",J7=""),"À compléter",IF(OR(D7<'Paramètres'!$B$5,D7>'Paramètres'!$B$6),"Hors période","OK")))
A8: Q-002 | B8: Mélanie Gagnon | C8: Coordonnatrice administrative | D8: 46175 | E8: =IF(D8="","",CHOOSE(WEEKDAY(D8,2),"lundi","mardi","mercredi","jeudi","vendredi","samedi","dimanche")) | F8: 0.33333333 | G8: 0.6875 | H8: 30 | I8: =IF(OR(F8="",G8=""),"",IFERROR(MAX(0,(IF(G8<F8,G8+1,G8)-F8)*24-H8/60),0)) | J8: Terminé | K8: =IF(I8="","",IF(OR(J8="Absent",J8="Annulé"),0,I8)) | L8: Bureau de Québec | M8: Préparation des dossiers clients | N8: =IF(COUNTA(A8:D8,F8:H8,J8)=0,"",IF(OR(B8="",C8="",D8="",F8="",G8="",H8="",J8=""),"À compléter",IF(OR(D8<'Paramètres'!$B$5,D8>'Paramètres'!$B$6),"Hors période","OK")))
A9: Q-003 | B9: Mélanie Gagnon | C9: Coordonnatrice administrative | D9: 46176 | E9: =IF(D9="","",CHOOSE(WEEKDAY(D9,2),"lundi","mardi","mercredi","jeudi","vendredi","samedi","dimanche")) | F9: 0.33333333 | G9: 0.6875 | H9: 30 | I9: =IF(OR(F9="",G9=""),"",IFERROR(MAX(0,(IF(G9<F9,G9+1,G9)-F9)*24-H9/60),0)) | J9: Confirmé | K9: =IF(I9="","",IF(OR(J9="Absent",J9="Annulé"),0,I9)) | L9: Bureau de Québec | M9: Réunion d’équipe à 10 h | N9: =IF(COUNTA(A9:D9,F9:H9,J9)=0,"",IF(OR(B9="",C9="",D9="",F9="",G9="",H9="",J9=""),"À compléter",IF(OR(D9<'Paramètres'!$B$5,D9>'Paramètres'!$B$6),"Hors période","OK")))
A10: Q-004 | B10: Mélanie Gagnon | C10: Coordonnatrice administrative | D10: 46177 | E10: =IF(D10="","",CHOOSE(WEEKDAY(D10,2),"lundi","mardi","mercredi","jeudi","vendredi","samedi","dimanche")) | F10: 0.33333333 | G10: 0.6875 | H10: 30 | I10: =IF(OR(F10="",G10=""),"",IFERROR(MAX(0,(IF(G10<F10,G10+1,G10)-F10)*24-H10/60),0)) | J10: Planifié | K10: =IF(I10="","",IF(OR(J10="Absent",J10="Annulé"),0,I10)) | L10: Bureau de Québec | M10: Suivi de facturation | N10: =IF(COUNTA(A10:D10,F10:H10,J10)=0,"",IF(OR(B10="",C10="",D10="",F10="",G10="",H10="",J10=""),"À compléter",IF(OR(D10<'Paramètres'!$B$5,D10>'Paramètres'!$B$6),"Hors période","OK")))
A11: Q-005 | B11: Mélanie Gagnon | C11: Coordonnatrice administrative | D11: 46178 | E11: =IF(D11="","",CHOOSE(WEEKDAY(D11,2),"lundi","mardi","mercredi","jeudi","vendredi","samedi","dimanche")) | F11: 0.33333333 | G11: 0.64583333 | H11: 30 | I11: =IF(OR(F11="",G11=""),"",IFERROR(MAX(0,(IF(G11<F11,G11+1,G11)-F11)*24-H11/60),0)) | J11: Planifié | K11: =IF(I11="","",IF(OR(J11="Absent",J11="Annulé"),0,I11)) | L11: Bureau de Québec | M11: Fermeture hebdomadaire | N11: =IF(COUNTA(A11:D11,F11:H11,J11)=0,"",IF(OR(B11="",C11="",D11="",F11="",G11="",H11="",J11=""),"À compléter",IF(OR(D11<'Paramètres'!$B$5,D11>'Paramètres'!$B$6),"Hors période","OK")))
A12: Q-006 | B12: Olivier Tremblay | C12: Agent au service à la clientèle | D12: 46174 | E12: =IF(D12="","",CHOOSE(WEEKDAY(D12,2),"lundi","mardi","mercredi","jeudi","vendredi","samedi","dimanche")) | F12: 0.375 | G12: 0.70833333 | H12: 30 | I12: =IF(OR(F12="",G12=""),"",IFERROR(MAX(0,(IF(G12<F12,G12+1,G12)-F12)*24-H12/60),0)) | J12: Terminé | K12: =IF(I12="","",IF(OR(J12="Absent",J12="Annulé"),0,I12)) | L12: Télétravail | M12: Réponse aux demandes clients | N12: =IF(COUNTA(A12:D12,F12:H12,J12)=0,"",IF(OR(B12="",C12="",D12="",F12="",G12="",H12="",J12=""),"À compléter",IF(OR(D12<'Paramètres'!$B$5,D12>'Paramètres'!$B$6),"Hors période","OK")))
A13: Q-007 | B13: Olivier Tremblay | C13: Agent au service à la clientèle | D13: 46175 | E13: =IF(D13="","",CHOOSE(WEEKDAY(D13,2),"lundi","mardi","mercredi","jeudi","vendredi","samedi","dimanche")) | F13: 0.375 | G13: 0.70833333 | H13: 30 | I13: =IF(OR(F13="",G13=""),"",IFERROR(MAX(0,(IF(G13<F13,G13+1,G13)-F13)*24-H13/60),0)) | J13: Confirmé | K13: =IF(I13="","",IF(OR(J13="Absent",J13="Annulé"),0,I13)) | L13: Télétravail | M13: Soutien par courriel et téléphone | N13: =IF(COUNTA(A13:D13,F13:H13,J13)=0,"",IF(OR(B13="",C13="",D13="",F13="",G13="",H13="",J13=""),"À compléter",IF(OR(D13<'Paramètres'!$B$5,D13>'Paramètres'!$B$6),"Hors période","OK")))
A14: Q-008 | B14: Karim Benali | C14: Technicien sur la route | D14: 46176 | E14: =IF(D14="","",CHOOSE(WEEKDAY(D14,2),"lundi","mardi","mercredi","jeudi","vendredi","samedi","dimanche")) | F14: 0.3125 | G14: 0.66666667 | H14: 30 | I14: =IF(OR(F14="",G14=""),"",IFERROR(MAX(0,(IF(G14<F14,G14+1,G14)-F14)*24-H14/60),0)) | J14: Terminé | K14: =IF(I14="","",IF(OR(J14="Absent",J14="Annulé"),0,I14)) | L14: Lévis | M14: Visite de service chez un client | N14: =IF(COUNTA(A14:D14,F14:H14,J14)=0,"",IF(OR(B14="",C14="",D14="",F14="",G14="",H14="",J14=""),"À compléter",IF(OR(D14<'Paramètres'!$B$5,D14>'Paramètres'!$B$6),"Hors période","OK")))
A15: Q-009 | B15: Karim Benali | C15: Technicien sur la route | D15: 46177 | E15: =IF(D15="","",CHOOSE(WEEKDAY(D15,2),"lundi","mardi","mercredi","jeudi","vendredi","samedi","dimanche")) | F15: 0.3125 | G15: 0.66666667 | H15: 30 | I15: =IF(OR(F15="",G15=""),"",IFERROR(MAX(0,(IF(G15<F15,G15+1,G15)-F15)*24-H15/60),0)) | J15: Planifié | K15: =IF(I15="","",IF(OR(J15="Absent",J15="Annulé"),0,I15)) | L15: Lévis | M15: Entretien préventif | N15: =IF(COUNTA(A15:D15,F15:H15,J15)=0,"",IF(OR(B15="",C15="",D15="",F15="",G15="",H15="",J15=""),"À compléter",IF(OR(D15<'Paramètres'!$B$5,D15>'Paramètres'!$B$6),"Hors période","OK")))
A16: Q-010 | B16: Sophie Roy | C16: Adjointe administrative | D16: 46178 | E16: =IF(D16="","",CHOOSE(WEEKDAY(D16,2),"lundi","mardi","mercredi","jeudi","vendredi","samedi","dimanche")) | F16: 0.35416667 | G16: 0.6875 | H16: 30 | I16: =IF(OR(F16="",G16=""),"",IFERROR(MAX(0,(IF(G16<F16,G16+1,G16)-F16)*24-H16/60),0)) | J16: Confirmé | K16: =IF(I16="","",IF(OR(J16="Absent",J16="Annulé"),0,I16)) | L16: Bureau de Québec | M16: Classement et réception | N16: =IF(COUNTA(A16:D16,F16:H16,J16)=0,"",IF(OR(B16="",C16="",D16="",F16="",G16="",H16="",J16=""),"À compléter",IF(OR(D16<'Paramètres'!$B$5,D16>'Paramètres'!$B$6),"Hors période","OK")))
E17: =IF(D17="","",CHOOSE(WEEKDAY(D17,2),"lundi","mardi","mercredi","jeudi","vendredi","samedi","dimanche")) | I17: =IF(OR(F17="",G17=""),"",IFERROR(MAX(0,(IF(G17<F17,G17+1,G17)-F17)*24-H17/60),0)) | K17: =IF(I17="","",IF(OR(J17="Absent",J17="Annulé"),0,I17)) | N17: =IF(COUNTA(A17:D17,F17:H17,J17)=0,"",IF(OR(B17="",C17="",D17="",F17="",G17="",H17="",J17=""),"À compléter",IF(OR(D17<'Paramètres'!$B$5,D17>'Paramètres'!$B$6),"Hors période","OK")))
E18: =IF(D18="","",CHOOSE(WEEKDAY(D18,2),"lundi","mardi","mercredi","jeudi","vendredi","samedi","dimanche")) | I18: =IF(OR(F18="",G18=""),"",IFERROR(MAX(0,(IF(G18<F18,G18+1,G18)-F18)*24-H18/60),0)) | K18: =IF(I18="","",IF(OR(J18="Absent",J18="Annulé"),0,I18)) | N18: =IF(COUNTA(A18:D18,F18:H18,J18)=0,"",IF(OR(B18="",C18="",D18="",F18="",G18="",H18="",J18=""),"À compléter",IF(OR(D18<'Paramètres'!$B$5,D18>'Paramètres'!$B$6),"Hors période","OK")))
E19: =IF(D19="","",CHOOSE(WEEKDAY(D19,2),"lundi","mardi","mercredi","jeudi","vendredi","samedi","dimanche")) | I19: =IF(OR(F19="",G19=""),"",IFERROR(MAX(0,(IF(G19<F19,G19+1,G19)-F19)*24-H19/60),0)) | K19: =IF(I19="","",IF(OR(J19="Absent",J19="Annulé"),0,I19)) | N19: =IF(COUNTA(A19:D19,F19:H19,J19)=0,"",IF(OR(B19="",C19="",D19="",F19="",G19="",H19="",J19=""),"À compléter",IF(OR(D19<'Paramètres'!$B$5,D19>'Paramètres'!$B$6),"Hors période","OK")))
E20: =IF(D20="","",CHOOSE(WEEKDAY(D20,2),"lundi","mardi","mercredi","jeudi","vendredi","samedi","dimanche")) | I20: =IF(OR(F20="",G20=""),"",IFERROR(MAX(0,(IF(G20<F20,G20+1,G20)-F20)*24-H20/60),0)) | K20: =IF(I20="","",IF(OR(J20="Absent",J20="Annulé"),0,I20)) | N20: =IF(COUNTA(A20:D20,F20:H20,J20)=0,"",IF(OR(B20="",C20="",D20="",F20="",G20="",H20="",J20=""),"À compléter",IF(OR(D20<'Paramètres'!$B$5,D20>'Paramètres'!$B$6),"Hors période","OK")))
E21: =IF(D21="","",CHOOSE(WEEKDAY(D21,2),"lundi","mardi","mercredi","jeudi","vendredi","samedi","dimanche")) | I21: =IF(OR(F21="",G21=""),"",IFERROR(MAX(0,(IF(G21<F21,G21+1,G21)-F21)*24-H21/60),0)) | K21: =IF(I21="","",IF(OR(J21="Absent",J21="Annulé"),0,I21)) | N21: =IF(COUNTA(A21:D21,F21:H21,J21)=0,"",IF(OR(B21="",C21="",D21="",F21="",G21="",H21="",J21=""),"À compléter",IF(OR(D21<'Paramètres'!$B$5,D21>'Paramètres'!$B$6),"Hors période","OK")))
E22: =IF(D22="","",CHOOSE(WEEKDAY(D22,2),"lundi","mardi","mercredi","jeudi","vendredi","samedi","dimanche")) | I22: =IF(OR(F22="",G22=""),"",IFERROR(MAX(0,(IF(G22<F22,G22+1,G22)-F22)*24-H22/60),0)) | K22: =IF(I22="","",IF(OR(J22="Absent",J22="Annulé"),0,I22)) | N22: =IF(COUNTA(A22:D22,F22:H22,J22)=0,"",IF(OR(B22="",C22="",D22="",F22="",G22="",H22="",J22=""),"À compléter",IF(OR(D22<'Paramètres'!$B$5,D22>'Paramètres'!$B$6),"Hors période","OK")))
E23: =IF(D23="","",CHOOSE(WEEKDAY(D23,2),"lundi","mardi","mercredi","jeudi","vendredi","samedi","dimanche")) | I23: =IF(OR(F23="",G23=""),"",IFERROR(MAX(0,(IF(G23<F23,G23+1,G23)-F23)*24-H23/60),0)) | K23: =IF(I23="","",IF(OR(J23="Absent",J23="Annulé"),0,I23)) | N23: =IF(COUNTA(A23:D23,F23:H23,J23)=0,"",IF(OR(B23="",C23="",D23="",F23="",G23="",H23="",J23=""),"À compléter",IF(OR(D23<'Paramètres'!$B$5,D23>'Paramètres'!$B$6),"Hors période","OK")))
E24: =IF(D24="","",CHOOSE(WEEKDAY(D24,2),"lundi","mardi","mercredi","jeudi","vendredi","samedi","dimanche")) | I24: =IF(OR(F24="",G24=""),"",IFERROR(MAX(0,(IF(G24<F24,G24+1,G24)-F24)*24-H24/60),0)) | K24: =IF(I24="","",IF(OR(J24="Absent",J24="Annulé"),0,I24)) | N24: =IF(COUNTA(A24:D24,F24:H24,J24)=0,"",IF(OR(B24="",C24="",D24="",F24="",G24="",H24="",J24=""),"À compléter",IF(OR(D24<'Paramètres'!$B$5,D24>'Paramètres'!$B$6),"Hors période","OK")))
E25: =IF(D25="","",CHOOSE(WEEKDAY(D25,2),"lundi","mardi","mercredi","jeudi","vendredi","samedi","dimanche")) | I25: =IF(OR(F25="",G25=""),"",IFERROR(MAX(0,(IF(G25<F25,G25+1,G25)-F25)*24-H25/60),0)) | K25: =IF(I25="","",IF(OR(J25="Absent",J25="Annulé"),0,I25)) | N25: =IF(COUNTA(A25:D25,F25:H25,J25)=0,"",IF(OR(B25="",C25="",D25="",F25="",G25="",H25="",J25=""),"À compléter",IF(OR(D25<'Paramètres'!$B$5,D25>'Paramètres'!$B$6),"Hors période","OK")))
E26: =IF(D26="","",CHOOSE(WEEKDAY(D26,2),"lundi","mardi","mercredi","jeudi","vendredi","samedi","dimanche")) | I26: =IF(OR(F26="",G26=""),"",IFERROR(MAX(0,(IF(G26<F26,G26+1,G26)-F26)*24-H26/60),0)) | K26: =IF(I26="","",IF(OR(J26="Absent",J26="Annulé"),0,I26)) | N26: =IF(COUNTA(A26:D26,F26:H26,J26)=0,"",IF(OR(B26="",C26="",D26="",F26="",G26="",H26="",J26=""),"À compléter",IF(OR(D26<'Paramètres'!$B$5,D26>'Paramètres'!$B$6),"Hors période","OK")))
E27: =IF(D27="","",CHOOSE(WEEKDAY(D27,2),"lundi","mardi","mercredi","jeudi","vendredi","samedi","dimanche")) | I27: =IF(OR(F27="",G27=""),"",IFERROR(MAX(0,(IF(G27<F27,G27+1,G27)-F27)*24-H27/60),0)) | K27: =IF(I27="","",IF(OR(J27="Absent",J27="Annulé"),0,I27)) | N27: =IF(COUNTA(A27:D27,F27:H27,J27)=0,"",IF(OR(B27="",C27="",D27="",F27="",G27="",H27="",J27=""),"À compléter",IF(OR(D27<'Paramètres'!$B$5,D27>'Paramètres'!$B$6),"Hors période","OK")))
E28: =IF(D28="","",CHOOSE(WEEKDAY(D28,2),"lundi","mardi","mercredi","jeudi","vendredi","samedi","dimanche")) | I28: =IF(OR(F28="",G28=""),"",IFERROR(MAX(0,(IF(G28<F28,G28+1,G28)-F28)*24-H28/60),0)) | K28: =IF(I28="","",IF(OR(J28="Absent",J28="Annulé"),0,I28)) | N28: =IF(COUNTA(A28:D28,F28:H28,J28)=0,"",IF(OR(B28="",C28="",D28="",F28="",G28="",H28="",J28=""),"À compléter",IF(OR(D28<'Paramètres'!$B$5,D28>'Paramètres'!$B$6),"Hors période","OK")))
... E206: =IF(D206="","",CHOOSE(WEEKDAY(D206,2),"lundi","mardi","mercredi","jeudi","vendredi","samedi","dimanche")) | I206: =IF(OR(F206="",G206=""),"",IFERROR(MAX(0,(IF(G206<F206,G206+1,G206)-F206)*24-H206/60),0)) | K206: =IF(I206="","",IF(OR(J206="Absent",J206="Annulé"),0,I206)) | N206: =IF(COUNTA(A206:D206,F206:H206,J206)=0,"",IF(OR(B206="",C206="",D206="",F206="",G206="",H206="",J206=""),"À compléter",IF(OR(D206<'Paramètres'!$B$5,D206>'Paramètres'!$B$6),"Hors période","OK")))

Sheet Tableau de bord
A1: Tableau de bord — Horaire hebdomadaire
A3: Employé affiché | B3: Tous | C3: Semaine du | D3: ='Paramètres'!$B$5 | E3: Au | F3: ='Paramètres'!$B$6
B6: Heures comptabilisées | D6: Nombre de quarts | F6: Heures selon seuil interne | H6: Heures au-delà du seuil interne
B7: =IFERROR(IF($B$3="Tous",SUM('Horaire hebdomadaire'!$K$7:$K$206),SUMIFS('Horaire hebdomadaire'!$K$7:$K$206,'Horaire hebdomadaire'!$B$7:$B$206,$B$3)),0) | D7: =IFERROR(IF($B$3="Tous",COUNTIFS('Horaire hebdomadaire'!$K$7:$K$206,">0"),COUNTIFS('Horaire hebdomadaire'!$B$7:$B$206,$B$3,'Horaire hebdomadaire'!$K$7:$K$206,">0")),0) | F7: =IF('Paramètres'!$B$7="","",MIN($B$7,'Paramètres'!$B$7)) | H7: =IF('Paramètres'!$B$7="","",MAX(0,$B$7-'Paramètres'!$B$7))
A9: Le seuil hebdomadaire est un repère interne configurable. Confirmer son application selon le contrat de travail, la convention collective ou la politique de l’entreprise.
A10: Jour | B10: Date | C10: Heures comptabilisées | D10: Nombre de quarts | F10: Employé | G10: Heures comptabilisées | H10: Heures selon seuil interne | I10: Heures au-delà du seuil interne | J10: Nombre de quarts
A11: lundi | B11: ='Paramètres'!$B$5 | C11: =IFERROR(IF($B$3="Tous",SUMIFS('Horaire hebdomadaire'!$K$7:$K$206,'Horaire hebdomadaire'!$D$7:$D$206,B11),SUMIFS('Horaire hebdomadaire'!$K$7:$K$206,'Horaire hebdomadaire'!$D$7:$D$206,B11,'Horaire hebdomadaire'!$B$7:$B$206,$B$3)),0) | D11: =IFERROR(IF($B$3="Tous",COUNTIFS('Horaire hebdomadaire'!$D$7:$D$206,B11,'Horaire hebdomadaire'!$K$7:$K$206,">0"),COUNTIFS('Horaire hebdomadaire'!$D$7:$D$206,B11,'Horaire hebdomadaire'!$B$7:$B$206,$B$3,'Horaire hebdomadaire'!$K$7:$K$206,">0")),0) | F11: =IF('Listes'!A6="","",'Listes'!A6) | G11: =IF(F11="","",IFERROR(SUMIFS('Horaire hebdomadaire'!$K$7:$K$206,'Horaire hebdomadaire'!$B$7:$B$206,F11),0)) | H11: =IF(G11="","",IF('Paramètres'!$B$7="","",MIN(G11,'Paramètres'!$B$7))) | I11: =IF(G11="","",IF('Paramètres'!$B$7="","",MAX(0,G11-'Paramètres'!$B$7))) | J11: =IF(F11="","",IFERROR(COUNTIFS('Horaire hebdomadaire'!$B$7:$B$206,F11,'Horaire hebdomadaire'!$K$7:$K$206,">0"),0))
A12: mardi | B12: =B11+1 | C12: =IFERROR(IF($B$3="Tous",SUMIFS('Horaire hebdomadaire'!$K$7:$K$206,'Horaire hebdomadaire'!$D$7:$D$206,B12),SUMIFS('Horaire hebdomadaire'!$K$7:$K$206,'Horaire hebdomadaire'!$D$7:$D$206,B12,'Horaire hebdomadaire'!$B$7:$B$206,$B$3)),0) | D12: =IFERROR(IF($B$3="Tous",COUNTIFS('Horaire hebdomadaire'!$D$7:$D$206,B12,'Horaire hebdomadaire'!$K$7:$K$206,">0"),COUNTIFS('Horaire hebdomadaire'!$D$7:$D$206,B12,'Horaire hebdomadaire'!$B$7:$B$206,$B$3,'Horaire hebdomadaire'!$K$7:$K$206,">0")),0) | F12: =IF('Listes'!A7="","",'Listes'!A7) | G12: =IF(F12="","",IFERROR(SUMIFS('Horaire hebdomadaire'!$K$7:$K$206,'Horaire hebdomadaire'!$B$7:$B$206,F12),0)) | H12: =IF(G12="","",IF('Paramètres'!$B$7="","",MIN(G12,'Paramètres'!$B$7))) | I12: =IF(G12="","",IF('Paramètres'!$B$7="","",MAX(0,G12-'Paramètres'!$B$7))) | J12: =IF(F12="","",IFERROR(COUNTIFS('Horaire hebdomadaire'!$B$7:$B$206,F12,'Horaire hebdomadaire'!$K$7:$K$206,">0"),0))
A13: mercredi | B13: =B12+1 | C13: =IFERROR(IF($B$3="Tous",SUMIFS('Horaire hebdomadaire'!$K$7:$K$206,'Horaire hebdomadaire'!$D$7:$D$206,B13),SUMIFS('Horaire hebdomadaire'!$K$7:$K$206,'Horaire hebdomadaire'!$D$7:$D$206,B13,'Horaire hebdomadaire'!$B$7:$B$206,$B$3)),0) | D13: =IFERROR(IF($B$3="Tous",COUNTIFS('Horaire hebdomadaire'!$D$7:$D$206,B13,'Horaire hebdomadaire'!$K$7:$K$206,">0"),COUNTIFS('Horaire hebdomadaire'!$D$7:$D$206,B13,'Horaire hebdomadaire'!$B$7:$B$206,$B$3,'Horaire hebdomadaire'!$K$7:$K$206,">0")),0) | F13: =IF('Listes'!A8="","",'Listes'!A8) | G13: =IF(F13="","",IFERROR(SUMIFS('Horaire hebdomadaire'!$K$7:$K$206,'Horaire hebdomadaire'!$B$7:$B$206,F13),0)) | H13: =IF(G13="","",IF('Paramètres'!$B$7="","",MIN(G13,'Paramètres'!$B$7))) | I13: =IF(G13="","",IF('Paramètres'!$B$7="","",MAX(0,G13-'Paramètres'!$B$7))) | J13: =IF(F13="","",IFERROR(COUNTIFS('Horaire hebdomadaire'!$B$7:$B$206,F13,'Horaire hebdomadaire'!$K$7:$K$206,">0"),0))
A14: jeudi | B14: =B13+1 | C14: =IFERROR(IF($B$3="Tous",SUMIFS('Horaire hebdomadaire'!$K$7:$K$206,'Horaire hebdomadaire'!$D$7:$D$206,B14),SUMIFS('Horaire hebdomadaire'!$K$7:$K$206,'Horaire hebdomadaire'!$D$7:$D$206,B14,'Horaire hebdomadaire'!$B$7:$B$206,$B$3)),0) | D14: =IFERROR(IF($B$3="Tous",COUNTIFS('Horaire hebdomadaire'!$D$7:$D$206,B14,'Horaire hebdomadaire'!$K$7:$K$206,">0"),COUNTIFS('Horaire hebdomadaire'!$D$7:$D$206,B14,'Horaire hebdomadaire'!$B$7:$B$206,$B$3,'Horaire hebdomadaire'!$K$7:$K$206,">0")),0) | F14: =IF('Listes'!A9="","",'Listes'!A9) | G14: =IF(F14="","",IFERROR(SUMIFS('Horaire hebdomadaire'!$K$7:$K$206,'Horaire hebdomadaire'!$B$7:$B$206,F14),0)) | H14: =IF(G14="","",IF('Paramètres'!$B$7="","",MIN(G14,'Paramètres'!$B$7))) | I14: =IF(G14="","",IF('Paramètres'!$B$7="","",MAX(0,G14-'Paramètres'!$B$7))) | J14: =IF(F14="","",IFERROR(COUNTIFS('Horaire hebdomadaire'!$B$7:$B$206,F14,'Horaire hebdomadaire'!$K$7:$K$206,">0"),0))
A15: vendredi | B15: =B14+1 | C15: =IFERROR(IF($B$3="Tous",SUMIFS('Horaire hebdomadaire'!$K$7:$K$206,'Horaire hebdomadaire'!$D$7:$D$206,B15),SUMIFS('Horaire hebdomadaire'!$K$7:$K$206,'Horaire hebdomadaire'!$D$7:$D$206,B15,'Horaire hebdomadaire'!$B$7:$B$206,$B$3)),0) | D15: =IFERROR(IF($B$3="Tous",COUNTIFS('Horaire hebdomadaire'!$D$7:$D$206,B15,'Horaire hebdomadaire'!$K$7:$K$206,">0"),COUNTIFS('Horaire hebdomadaire'!$D$7:$D$206,B15,'Horaire hebdomadaire'!$B$7:$B$206,$B$3,'Horaire hebdomadaire'!$K$7:$K$206,">0")),0) | F15: =IF('Listes'!A10="","",'Listes'!A10) | G15: =IF(F15="","",IFERROR(SUMIFS('Horaire hebdomadaire'!$K$7:$K$206,'Horaire hebdomadaire'!$B$7:$B$206,F15),0)) | H15: =IF(G15="","",IF('Paramètres'!$B$7="","",MIN(G15,'Paramètres'!$B$7))) | I15: =IF(G15="","",IF('Paramètres'!$B$7="","",MAX(0,G15-'Paramètres'!$B$7))) | J15: =IF(F15="","",IFERROR(COUNTIFS('Horaire hebdomadaire'!$B$7:$B$206,F15,'Horaire hebdomadaire'!$K$7:$K$206,">0"),0))
A16: samedi | B16: =B15+1 | C16: =IFERROR(IF($B$3="Tous",SUMIFS('Horaire hebdomadaire'!$K$7:$K$206,'Horaire hebdomadaire'!$D$7:$D$206,B16),SUMIFS('Horaire hebdomadaire'!$K$7:$K$206,'Horaire hebdomadaire'!$D$7:$D$206,B16,'Horaire hebdomadaire'!$B$7:$B$206,$B$3)),0) | D16: =IFERROR(IF($B$3="Tous",COUNTIFS('Horaire hebdomadaire'!$D$7:$D$206,B16,'Horaire hebdomadaire'!$K$7:$K$206,">0"),COUNTIFS('Horaire hebdomadaire'!$D$7:$D$206,B16,'Horaire hebdomadaire'!$B$7:$B$206,$B$3,'Horaire hebdomadaire'!$K$7:$K$206,">0")),0) | F16: =IF('Listes'!A11="","",'Listes'!A11) | G16: =IF(F16="","",IFERROR(SUMIFS('Horaire hebdomadaire'!$K$7:$K$206,'Horaire hebdomadaire'!$B$7:$B$206,F16),0)) | H16: =IF(G16="","",IF('Paramètres'!$B$7="","",MIN(G16,'Paramètres'!$B$7))) | I16: =IF(G16="","",IF('Paramètres'!$B$7="","",MAX(0,G16-'Paramètres'!$B$7))) | J16: =IF(F16="","",IFERROR(COUNTIFS('Horaire hebdomadaire'!$B$7:$B$206,F16,'Horaire hebdomadaire'!$K$7:$K$206,">0"),0))
A17: dimanche | B17: =B16+1 | C17: =IFERROR(IF($B$3="Tous",SUMIFS('Horaire hebdomadaire'!$K$7:$K$206,'Horaire hebdomadaire'!$D$7:$D$206,B17),SUMIFS('Horaire hebdomadaire'!$K$7:$K$206,'Horaire hebdomadaire'!$D$7:$D$206,B17,'Horaire hebdomadaire'!$B$7:$B$206,$B$3)),0) | D17: =IFERROR(IF($B$3="Tous",COUNTIFS('Horaire hebdomadaire'!$D$7:$D$206,B17,'Horaire hebdomadaire'!$K$7:$K$206,">0"),COUNTIFS('Horaire hebdomadaire'!$D$7:$D$206,B17,'Horaire hebdomadaire'!$B$7:$B$206,$B$3,'Horaire hebdomadaire'!$K$7:$K$206,">0")),0) | F17: =IF('Listes'!A12="","",'Listes'!A12) | G17: =IF(F17="","",IFERROR(SUMIFS('Horaire hebdomadaire'!$K$7:$K$206,'Horaire hebdomadaire'!$B$7:$B$206,F17),0)) | H17: =IF(G17="","",IF('Paramètres'!$B$7="","",MIN(G17,'Paramètres'!$B$7))) | I17: =IF(G17="","",IF('Paramètres'!$B$7="","",MAX(0,G17-'Paramètres'!$B$7))) | J17: =IF(F17="","",IFERROR(COUNTIFS('Horaire hebdomadaire'!$B$7:$B$206,F17,'Horaire hebdomadaire'!$K$7:$K$206,">0"),0))
F18: =IF('Listes'!A13="","",'Listes'!A13) | G18: =IF(F18="","",IFERROR(SUMIFS('Horaire hebdomadaire'!$K$7:$K$206,'Horaire hebdomadaire'!$B$7:$B$206,F18),0)) | H18: =IF(G18="","",IF('Paramètres'!$B$7="","",MIN(G18,'Paramètres'!$B$7))) | I18: =IF(G18="","",IF('Paramètres'!$B$7="","",MAX(0,G18-'Paramètres'!$B$7))) | J18: =IF(F18="","",IFERROR(COUNTIFS('Horaire hebdomadaire'!$B$7:$B$206,F18,'Horaire hebdomadaire'!$K$7:$K$206,">0"),0))
F19: =IF('Listes'!A14="","",'Listes'!A14) | G19: =IF(F19="","",IFERROR(SUMIFS('Horaire hebdomadaire'!$K$7:$K$206,'Horaire hebdomadaire'!$B$7:$B$206,F19),0)) | H19: =IF(G19="","",IF('Paramètres'!$B$7="","",MIN(G19,'Paramètres'!$B$7))) | I19: =IF(G19="","",IF('Paramètres'!$B$7="","",MAX(0,G19-'Paramètres'!$B$7))) | J19: =IF(F19="","",IFERROR(COUNTIFS('Horaire hebdomadaire'!$B$7:$B$206,F19,'Horaire hebdomadaire'!$K$7:$K$206,">0"),0))
F20: =IF('Listes'!A15="","",'Listes'!A15) | G20: =IF(F20="","",IFERROR(SUMIFS('Horaire hebdomadaire'!$K$7:$K$206,'Horaire hebdomadaire'!$B$7:$B$206,F20),0)) | H20: =IF(G20="","",IF('Paramètres'!$B$7="","",MIN(G20,'Paramètres'!$B$7))) | I20: =IF(G20="","",IF('Paramètres'!$B$7="","",MAX(0,G20-'Paramètres'!$B$7))) | J20: =IF(F20="","",IFERROR(COUNTIFS('Horaire hebdomadaire'!$B$7:$B$206,F20,'Horaire hebdomadaire'!$K$7:$K$206,">0"),0))
F21: =IF('Listes'!A16="","",'Listes'!A16) | G21: =IF(F21="","",IFERROR(SUMIFS('Horaire hebdomadaire'!$K$7:$K$206,'Horaire hebdomadaire'!$B$7:$B$206,F21),0)) | H21: =IF(G21="","",IF('Paramètres'!$B$7="","",MIN(G21,'Paramètres'!$B$7))) | I21: =IF(G21="","",IF('Paramètres'!$B$7="","",MAX(0,G21-'Paramètres'!$B$7))) | J21: =IF(F21="","",IFERROR(COUNTIFS('Horaire hebdomadaire'!$B$7:$B$206,F21,'Horaire hebdomadaire'!$K$7:$K$206,">0"),0))
F22: =IF('Listes'!A17="","",'Listes'!A17) | G22: =IF(F22="","",IFERROR(SUMIFS('Horaire hebdomadaire'!$K$7:$K$206,'Horaire hebdomadaire'!$B$7:$B$206,F22),0)) | H22: =IF(G22="","",IF('Paramètres'!$B$7="","",MIN(G22,'Paramètres'!$B$7))) | I22: =IF(G22="","",IF('Paramètres'!$B$7="","",MAX(0,G22-'Paramètres'!$B$7))) | J22: =IF(F22="","",IFERROR(COUNTIFS('Horaire hebdomadaire'!$B$7:$B$206,F22,'Horaire hebdomadaire'!$K$7:$K$206,">0"),0))
F23: =IF('Listes'!A18="","",'Listes'!A18) | G23: =IF(F23="","",IFERROR(SUMIFS('Horaire hebdomadaire'!$K$7:$K$206,'Horaire hebdomadaire'!$B$7:$B$206,F23),0)) | H23: =IF(G23="","",IF('Paramètres'!$B$7="","",MIN(G23,'Paramètres'!$B$7))) | I23: =IF(G23="","",IF('Paramètres'!$B$7="","",MAX(0,G23-'Paramètres'!$B$7))) | J23: =IF(F23="","",IFERROR(COUNTIFS('Horaire hebdomadaire'!$B$7:$B$206,F23,'Horaire hebdomadaire'!$K$7:$K$206,">0"),0))
F24: =IF('Listes'!A19="","",'Listes'!A19) | G24: =IF(F24="","",IFERROR(SUMIFS('Horaire hebdomadaire'!$K$7:$K$206,'Horaire hebdomadaire'!$B$7:$B$206,F24),0)) | H24: =IF(G24="","",IF('Paramètres'!$B$7="","",MIN(G24,'Paramètres'!$B$7))) | I24: =IF(G24="","",IF('Paramètres'!$B$7="","",MAX(0,G24-'Paramètres'!$B$7))) | J24: =IF(F24="","",IFERROR(COUNTIFS('Horaire hebdomadaire'!$B$7:$B$206,F24,'Horaire hebdomadaire'!$K$7:$K$206,">0"),0))
F25: =IF('Listes'!A20="","",'Listes'!A20) | G25: =IF(F25="","",IFERROR(SUMIFS('Horaire hebdomadaire'!$K$7:$K$206,'Horaire hebdomadaire'!$B$7:$B$206,F25),0)) | H25: =IF(G25="","",IF('Paramètres'!$B$7="","",MIN(G25,'Paramètres'!$B$7))) | I25: =IF(G25="","",IF('Paramètres'!$B$7="","",MAX(0,G25-'Paramètres'!$B$7))) | J25: =IF(F25="","",IFERROR(COUNTIFS('Horaire hebdomadaire'!$B$7:$B$206,F25,'Horaire hebdomadaire'!$K$7:$K$206,">0"),0))
F26: =IF('Listes'!A21="","",'Listes'!A21) | G26: =IF(F26="","",IFERROR(SUMIFS('Horaire hebdomadaire'!$K$7:$K$206,'Horaire hebdomadaire'!$B$7:$B$206,F26),0)) | H26: =IF(G26="","",IF('Paramètres'!$B$7="","",MIN(G26,'Paramètres'!$B$7))) | I26: =IF(G26="","",IF('Paramètres'!$B$7="","",MAX(0,G26-'Paramètres'!$B$7))) | J26: =IF(F26="","",IFERROR(COUNTIFS('Horaire hebdomadaire'!$B$7:$B$206,F26,'Horaire hebdomadaire'!$K$7:$K$206,">0"),0))
F27: =IF('Listes'!A22="","",'Listes'!A22) | G27: =IF(F27="","",IFERROR(SUMIFS('Horaire hebdomadaire'!$K$7:$K$206,'Horaire hebdomadaire'!$B$7:$B$206,F27),0)) | H27: =IF(G27="","",IF('Paramètres'!$B$7="","",MIN(G27,'Paramètres'!$B$7))) | I27: =IF(G27="","",IF('Paramètres'!$B$7="","",MAX(0,G27-'Paramètres'!$B$7))) | J27: =IF(F27="","",IFERROR(COUNTIFS('Horaire hebdomadaire'!$B$7:$B$206,F27,'Horaire hebdomadaire'!$K$7:$K$206,">0"),0))
F28: =IF('Listes'!A23="","",'Listes'!A23) | G28: =IF(F28="","",IFERROR(SUMIFS('Horaire hebdomadaire'!$K$7:$K$206,'Horaire hebdomadaire'!$B$7:$B$206,F28),0)) | H28: =IF(G28="","",IF('Paramètres'!$B$7="","",MIN(G28,'Paramètres'!$B$7))) | I28: =IF(G28="","",IF('Paramètres'!$B$7="","",MAX(0,G28-'Paramètres'!$B$7))) | J28: =IF(F28="","",IFERROR(COUNTIFS('Horaire hebdomadaire'!$B$7:$B$206,F28,'Horaire hebdomadaire'!$K$7:$K$206,">0"),0))
A29: Contrôles de concordance | F29: =IF('Listes'!A24="","",'Listes'!A24) | G29: =IF(F29="","",IFERROR(SUMIFS('Horaire hebdomadaire'!$K$7:$K$206,'Horaire hebdomadaire'!$B$7:$B$206,F29),0)) | H29: =IF(G29="","",IF('Paramètres'!$B$7="","",MIN(G29,'Paramètres'!$B$7))) | I29: =IF(G29="","",IF('Paramètres'!$B$7="","",MAX(0,G29-'Paramètres'!$B$7))) | J29: =IF(F29="","",IFERROR(COUNTIFS('Horaire hebdomadaire'!$B$7:$B$206,F29,'Horaire hebdomadaire'!$K$7:$K$206,">0"),0))
A30: Total de l’horaire détaillé | B30: =IFERROR(SUM('Horaire hebdomadaire'!$K$7:$K$206),0) | F30: =IF('Listes'!A25="","",'Listes'!A25) | G30: =IF(F30="","",IFERROR(SUMIFS('Horaire hebdomadaire'!$K$7:$K$206,'Horaire hebdomadaire'!$B$7:$B$206,F30),0)) | H30: =IF(G30="","",IF('Paramètres'!$B$7="","",MIN(G30,'Paramètres'!$B$7))) | I30: =IF(G30="","",IF('Paramètres'!$B$7="","",MAX(0,G30-'Paramètres'!$B$7))) | J30: =IF(F30="","",IFERROR(COUNTIFS('Horaire hebdomadaire'!$B$7:$B$206,F30,'Horaire hebdomadaire'!$K$7:$K$206,">0"),0))
A31: Total du sommaire par employé | B31: =IFERROR(SUM($G$11:$G$101),0) | F31: =IF('Listes'!A26="","",'Listes'!A26) | G31: =IF(F31="","",IFERROR(SUMIFS('Horaire hebdomadaire'!$K$7:$K$206,'Horaire hebdomadaire'!$B$7:$B$206,F31),0)) | H31: =IF(G31="","",IF('Paramètres'!$B$7="","",MIN(G31,'Paramètres'!$B$7))) | I31: =IF(G31="","",IF('Paramètres'!$B$7="","",MAX(0,G31-'Paramètres'!$B$7))) | J31: =IF(F31="","",IFERROR(COUNTIFS('Horaire hebdomadaire'!$B$7:$B$206,F31,'Horaire hebdomadaire'!$K$7:$K$206,">0"),0))
A32: Écart de contrôle | B32: =IFERROR(B30-B31,0) | F32: =IF('Listes'!A27="","",'Listes'!A27) | G32: =IF(F32="","",IFERROR(SUMIFS('Horaire hebdomadaire'!$K$7:$K$206,'Horaire hebdomadaire'!$B$7:$B$206,F32),0)) | H32: =IF(G32="","",IF('Paramètres'!$B$7="","",MIN(G32,'Paramètres'!$B$7))) | I32: =IF(G32="","",IF('Paramètres'!$B$7="","",MAX(0,G32-'Paramètres'!$B$7))) | J32: =IF(F32="","",IFERROR(COUNTIFS('Horaire hebdomadaire'!$B$7:$B$206,F32,'Horaire hebdomadaire'!$K$7:$K$206,">0"),0))
A33: Lignes à compléter | B33: =IFERROR(COUNTIF('Horaire hebdomadaire'!$N$7:$N$206,"À compléter"),0) | F33: =IF('Listes'!A28="","",'Listes'!A28) | G33: =IF(F33="","",IFERROR(SUMIFS('Horaire hebdomadaire'!$K$7:$K$206,'Horaire hebdomadaire'!$B$7:$B$206,F33),0)) | H33: =IF(G33="","",IF('Paramètres'!$B$7="","",MIN(G33,'Paramètres'!$B$7))) | I33: =IF(G33="","",IF('Paramètres'!$B$7="","",MAX(0,G33-'Paramètres'!$B$7))) | J33: =IF(F33="","",IFERROR(COUNTIFS('Horaire hebdomadaire'!$B$7:$B$206,F33,'Horaire hebdomadaire'!$K$7:$K$206,">0"),0))
A34: Lignes hors période | B34: =IFERROR(COUNTIF('Horaire hebdomadaire'!$N$7:$N$206,"Hors période"),0) | F34: =IF('Listes'!A29="","",'Listes'!A29) | G34: =IF(F34="","",IFERROR(SUMIFS('Horaire hebdomadaire'!$K$7:$K$206,'Horaire hebdomadaire'!$B$7:$B$206,F34),0)) | H34: =IF(G34="","",IF('Paramètres'!$B$7="","",MIN(G34,'Paramètres'!$B$7))) | I34: =IF(G34="","",IF('Paramètres'!$B$7="","",MAX(0,G34-'Paramètres'!$B$7))) | J34: =IF(F34="","",IFERROR(COUNTIFS('Horaire hebdomadaire'!$B$7:$B$206,F34,'Horaire hebdomadaire'!$K$7:$K$206,">0"),0))
F35: =IF('Listes'!A30="","",'Listes'!A30) | G35: =IF(F35="","",IFERROR(SUMIFS('Horaire hebdomadaire'!$K$7:$K$206,'Horaire hebdomadaire'!$B$7:$B$206,F35),0)) | H35: =IF(G35="","",IF('Paramètres'!$B$7="","",MIN(G35,'Paramètres'!$B$7))) | I35: =IF(G35="","",IF('Paramètres'!$B$7="","",MAX(0,G35-'Paramètres'!$B$7))) | J35: =IF(F35="","",IFERROR(COUNTIFS('Horaire hebdomadaire'!$B$7:$B$206,F35,'Horaire hebdomadaire'!$K$7:$K$206,">0"),0))
A36: Un écart de contrôle différent de 0 indique que le sommaire ne concorde pas avec l’horaire détaillé. | F36: =IF('Listes'!A31="","",'Listes'!A31) | G36: =IF(F36="","",IFERROR(SUMIFS('Horaire hebdomadaire'!$K$7:$K$206,'Horaire hebdomadaire'!$B$7:$B$206,F36),0)) | H36: =IF(G36="","",IF('Paramètres'!$B$7="","",MIN(G36,'Paramètres'!$B$7))) | I36: =IF(G36="","",IF('Paramètres'!$B$7="","",MAX(0,G36-'Paramètres'!$B$7))) | J36: =IF(F36="","",IFERROR(COUNTIFS('Horaire hebdomadaire'!$B$7:$B$206,F36,'Horaire hebdomadaire'!$K$7:$K$206,">0"),0))
F37: =IF('Listes'!A32="","",'Listes'!A32) | G37: =IF(F37="","",IFERROR(SUMIFS('Horaire hebdomadaire'!$K$7:$K$206,'Horaire hebdomadaire'!$B$7:$B$206,F37),0)) | H37: =IF(G37="","",IF('Paramètres'!$B$7="","",MIN(G37,'Paramètres'!$B$7))) | I37: =IF(G37="","",IF('Paramètres'!$B$7="","",MAX(0,G37-'Paramètres'!$B$7))) | J37: =IF(F37="","",IFERROR(COUNTIFS('Horaire hebdomadaire'!$B$7:$B$206,F37,'Horaire hebdomadaire'!$K$7:$K$206,">0"),0))
F38: =IF('Listes'!A33="","",'Listes'!A33) | G38: =IF(F38="","",IFERROR(SUMIFS('Horaire hebdomadaire'!$K$7:$K$206,'Horaire hebdomadaire'!$B$7:$B$206,F38),0)) | H38: =IF(G38="","",IF('Paramètres'!$B$7="","",MIN(G38,'Paramètres'!$B$7))) | I38: =IF(G38="","",IF('Paramètres'!$B$7="","",MAX(0,G38-'Paramètres'!$B$7))) | J38: =IF(F38="","",IFERROR(COUNTIFS('Horaire hebdomadaire'!$B$7:$B$206,F38,'Horaire hebdomadaire'!$K$7:$K$206,">0"),0))
F39: =IF('Listes'!A34="","",'Listes'!A34) | G39: =IF(F39="","",IFERROR(SUMIFS('Horaire hebdomadaire'!$K$7:$K$206,'Horaire hebdomadaire'!$B$7:$B$206,F39),0)) | H39: =IF(G39="","",IF('Paramètres'!$B$7="","",MIN(G39,'Paramètres'!$B$7))) | I39: =IF(G39="","",IF('Paramètres'!$B$7="","",MAX(0,G39-'Paramètres'!$B$7))) | J39: =IF(F39="","",IFERROR(COUNTIFS('Horaire hebdomadaire'!$B$7:$B$206,F39,'Horaire hebdomadaire'!$K$7:$K$206,">0"),0))
F40: =IF('Listes'!A35="","",'Listes'!A35) | G40: =IF(F40="","",IFERROR(SUMIFS('Horaire hebdomadaire'!$K$7:$K$206,'Horaire hebdomadaire'!$B$7:$B$206,F40),0)) | H40: =IF(G40="","",IF('Paramètres'!$B$7="","",MIN(G40,'Paramètres'!$B$7))) | I40: =IF(G40="","",IF('Paramètres'!$B$7="","",MAX(0,G40-'Paramètres'!$B$7))) | J40: =IF(F40="","",IFERROR(COUNTIFS('Horaire hebdomadaire'!$B$7:$B$206,F40,'Horaire hebdomadaire'!$K$7:$K$206,">0"),0))
F41: =IF('Listes'!A36="","",'Listes'!A36) | G41: =IF(F41="","",IFERROR(SUMIFS('Horaire hebdomadaire'!$K$7:$K$206,'Horaire hebdomadaire'!$B$7:$B$206,F41),0)) | H41: =IF(G41="","",IF('Paramètres'!$B$7="","",MIN(G41,'Paramètres'!$B$7))) | I41: =IF(G41="","",IF('Paramètres'!$B$7="","",MAX(0,G41-'Paramètres'!$B$7))) | J41: =IF(F41="","",IFERROR(COUNTIFS('Horaire hebdomadaire'!$B$7:$B$206,F41,'Horaire hebdomadaire'!$K$7:$K$206,">0"),0))
F42: =IF('Listes'!A37="","",'Listes'!A37) | G42: =IF(F42="","",IFERROR(SUMIFS('Horaire hebdomadaire'!$K$7:$K$206,'Horaire hebdomadaire'!$B$7:$B$206,F42),0)) | H42: =IF(G42="","",IF('Paramètres'!$B$7="","",MIN(G42,'Paramètres'!$B$7))) | I42: =IF(G42="","",IF('Paramètres'!$B$7="","",MAX(0,G42-'Paramètres'!$B$7))) | J42: =IF(F42="","",IFERROR(COUNTIFS('Horaire hebdomadaire'!$B$7:$B$206,F42,'Horaire hebdomadaire'!$K$7:$K$206,">0"),0))
F43: =IF('Listes'!A38="","",'Listes'!A38) | G43: =IF(F43="","",IFERROR(SUMIFS('Horaire hebdomadaire'!$K$7:$K$206,'Horaire hebdomadaire'!$B$7:$B$206,F43),0)) | H43: =IF(G43="","",IF('Paramètres'!$B$7="","",MIN(G43,'Paramètres'!$B$7))) | I43: =IF(G43="","",IF('Paramètres'!$B$7="","",MAX(0,G43-'Paramètres'!$B$7))) | J43: =IF(F43="","",IFERROR(COUNTIFS('Horaire hebdomadaire'!$B$7:$B$206,F43,'Horaire hebdomadaire'!$K$7:$K$206,">0"),0))
F44: =IF('Listes'!A39="","",'Listes'!A39) | G44: =IF(F44="","",IFERROR(SUMIFS('Horaire hebdomadaire'!$K$7:$K$206,'Horaire hebdomadaire'!$B$7:$B$206,F44),0)) | H44: =IF(G44="","",IF('Paramètres'!$B$7="","",MIN(G44,'Paramètres'!$B$7))) | I44: =IF(G44="","",IF('Paramètres'!$B$7="","",MAX(0,G44-'Paramètres'!$B$7))) | J44: =IF(F44="","",IFERROR(COUNTIFS('Horaire hebdomadaire'!$B$7:$B$206,F44,'Horaire hebdomadaire'!$K$7:$K$206,">0"),0))
F45: =IF('Listes'!A40="","",'Listes'!A40) | G45: =IF(F45="","",IFERROR(SUMIFS('Horaire hebdomadaire'!$K$7:$K$206,'Horaire hebdomadaire'!$B$7:$B$206,F45),0)) | H45: =IF(G45="","",IF('Paramètres'!$B$7="","",MIN(G45,'Paramètres'!$B$7))) | I45: =IF(G45="","",IF('Paramètres'!$B$7="","",MAX(0,G45-'Paramètres'!$B$7))) | J45: =IF(F45="","",IFERROR(COUNTIFS('Horaire hebdomadaire'!$B$7:$B$206,F45,'Horaire hebdomadaire'!$K$7:$K$206,">0"),0))
F46: =IF('Listes'!A41="","",'Listes'!A41) | G46: =IF(F46="","",IFERROR(SUMIFS('Horaire hebdomadaire'!$K$7:$K$206,'Horaire hebdomadaire'!$B$7:$B$206,F46),0)) | H46: =IF(G46="","",IF('Paramètres'!$B$7="","",MIN(G46,'Paramètres'!$B$7))) | I46: =IF(G46="","",IF('Paramètres'!$B$7="","",MAX(0,G46-'Paramètres'!$B$7))) | J46: =IF(F46="","",IFERROR(COUNTIFS('Horaire hebdomadaire'!$B$7:$B$206,F46,'Horaire hebdomadaire'!$K$7:$K$206,">0"),0))
F47: =IF('Listes'!A42="","",'Listes'!A42) | G47: =IF(F47="","",IFERROR(SUMIFS('Horaire hebdomadaire'!$K$7:$K$206,'Horaire hebdomadaire'!$B$7:$B$206,F47),0)) | H47: =IF(G47="","",IF('Paramètres'!$B$7="","",MIN(G47,'Paramètres'!$B$7))) | I47: =IF(G47="","",IF('Paramètres'!$B$7="","",MAX(0,G47-'Paramètres'!$B$7))) | J47: =IF(F47="","",IFERROR(COUNTIFS('Horaire hebdomadaire'!$B$7:$B$206,F47,'Horaire hebdomadaire'!$K$7:$K$206,">0"),0))
F48: =IF('Listes'!A43="","",'Listes'!A43) | G48: =IF(F48="","",IFERROR(SUMIFS('Horaire hebdomadaire'!$K$7:$K$206,'Horaire hebdomadaire'!$B$7:$B$206,F48),0)) | H48: =IF(G48="","",IF('Paramètres'!$B$7="","",MIN(G48,'Paramètres'!$B$7))) | I48: =IF(G48="","",IF('Paramètres'!$B$7="","",MAX(0,G48-'Paramètres'!$B$7))) | J48: =IF(F48="","",IFERROR(COUNTIFS('Horaire hebdomadaire'!$B$7:$B$206,F48,'Horaire hebdomadaire'!$K$7:$K$206,">0"),0))
... F100: =IF('Listes'!A95="","",'Listes'!A95) | G100: =IF(F100="","",IFERROR(SUMIFS('Horaire hebdomadaire'!$K$7:$K$206,'Horaire hebdomadaire'!$B$7:$B$206,F100),0)) | H100: =IF(G100="","",IF('Paramètres'!$B$7="","",MIN(G100,'Paramètres'!$B$7))) | I100: =IF(G100="","",IF('Paramètres'!$B$7="","",MAX(0,G100-'Paramètres'!$B$7))) | J100: =IF(F100="","",IFERROR(COUNTIFS('Horaire hebdomadaire'!$B$7:$B$206,F100,'Horaire hebdomadaire'!$K$7:$K$206,">0"),0))
B101: ="" | C101: ="" | D101: ="" | F101: =IF('Listes'!A96="","",'Listes'!A96) | G101: =IF(F101="","",IFERROR(SUMIFS('Horaire hebdomadaire'!$K$7:$K$206,'Horaire hebdomadaire'!$B$7:$B$206,F101),0)) | H101: =IF(G101="","",IF('Paramètres'!$B$7="","",MIN(G101,'Paramètres'!$B$7))) | I101: =IF(G101="","",IF('Paramètres'!$B$7="","",MAX(0,G101-'Paramètres'!$B$7))) | J101: =IF(F101="","",IFERROR(COUNTIFS('Horaire hebdomadaire'!$B$7:$B$206,F101,'Horaire hebdomadaire'!$K$7:$K$206,">0"),0))

Sheet Paramètres
A1: Paramètres de l’horaire hebdomadaire
A2: Modifier uniquement les cellules de saisie identifiées. Les paramètres doivent être confirmés selon les pratiques internes de l’entreprise.
A4: Nom de l’entreprise | B4: Entreprise Exemple Québec inc.
A5: Premier jour de la semaine | B5: 46174
A6: Dernier jour de la semaine | B6: =IF(B5="","",B5+6)
A7: Seuil hebdomadaire interne (h)
A8: Note sur le seuil | B8: Facultatif. Inscrire uniquement un seuil confirmé par l’employeur, le contrat de travail, la convention collective ou une politique interne. Ce modèle ne détermine pas les règles de paie ou les heures supplémentaires applicables.

Sheet Listes
A1: Listes de référence
A2: Ajouter ou modifier les employés, les postes et les statuts au besoin. Les listes servent aux menus déroulants de l’horaire.
A5: Employés | C5: Employés — Tableau de bord | E5: Postes | G5: Statuts
A6: Mélanie Gagnon | C6: Tous | E6: Coordonnatrice administrative | G6: Planifié
A7: Olivier Tremblay | C7: Mélanie Gagnon | E7: Agent au service à la clientèle | G7: Confirmé
A8: Karim Benali | C8: Olivier Tremblay | E8: Technicien sur la route | G8: Terminé
A9: Sophie Roy | C9: Karim Benali | E9: Adjointe administrative | G9: Absent
A10: Audrey Lavoie | C10: Sophie Roy | E10: Gestionnaire | G10: Annulé
C11: Audrey Lavoie | E11: Préposé(e) à l’entretien
