Workbook

Sheet Tableau de bord
A1: Tableau de bord — Inventaire
A2: Les indicateurs sont calculés à partir de la feuille Inventaire.
A3: Date de consultation : | B3: =TODAY()
A5: Nombre d’articles | C5: Unités en stock | E5: Valeur totale en stock | G5: Articles en rupture
A6: =COUNTA('Inventaire'!$A$6:$A$500) | C6: =SUM('Inventaire'!$H$6:$H$500) | E6: =SUM('Inventaire'!$N$6:$N$500) | G6: =COUNTIF('Inventaire'!$P$6:$P$500,"Rupture")
A8: Articles à commander | C8: Montant estimatif à commander
A9: =COUNTIF('Inventaire'!$P$6:$P$500,"À commander") | C9: =SUMPRODUCT('Inventaire'!$M$6:$M$500,'Inventaire'!$G$6:$G$500)
A12: Statut | B12: Nombre d’articles
A13: En stock | B13: =COUNTIF('Inventaire'!$P$6:$P$500,$A$13)
A14: À commander | B14: =COUNTIF('Inventaire'!$P$6:$P$500,$A$14)
A15: Commande en cours | B15: =COUNTIF('Inventaire'!$P$6:$P$500,$A$15)
A16: Rupture | B16: =COUNTIF('Inventaire'!$P$6:$P$500,$A$16)
A20: Catégorie | B20: Valeur en stock
A21: Fournitures de bureau | B21: =IFERROR(SUMIF('Inventaire'!$C$6:$C$500,$A$21,'Inventaire'!$N$6:$N$500),0)
A22: Emballage | B22: =IFERROR(SUMIF('Inventaire'!$C$6:$C$500,$A$22,'Inventaire'!$N$6:$N$500),0)
A23: Produits d’entretien | B23: =IFERROR(SUMIF('Inventaire'!$C$6:$C$500,$A$23,'Inventaire'!$N$6:$N$500),0)
A24: Équipement de protection | B24: =IFERROR(SUMIF('Inventaire'!$C$6:$C$500,$A$24,'Inventaire'!$N$6:$N$500),0)
A25: Électronique | B25: =IFERROR(SUMIF('Inventaire'!$C$6:$C$500,$A$25,'Inventaire'!$N$6:$N$500),0)
A26: Alimentation | B26: =IFERROR(SUMIF('Inventaire'!$C$6:$C$500,$A$26,'Inventaire'!$N$6:$N$500),0)
A29: Contrôles de qualité des données
A30: Codes article en double | B30: =IFERROR(COUNTA('Inventaire'!$A$6:$A$500)-SUMPRODUCT(('Inventaire'!$A$6:$A$500<>"")/COUNTIF('Inventaire'!$A$6:$A$500,'Inventaire'!$A$6:$A$500&"")),0)
A31: Articles sans description | B31: =COUNTIFS('Inventaire'!$A$6:$A$500,"<>",'Inventaire'!$B$6:$B$500,"")
A32: Stock cible inférieur au seuil | B32: =IFERROR(SUMPRODUCT(--('Inventaire'!$A$6:$A$500<>""),--('Inventaire'!$J$6:$J$500<'Inventaire'!$I$6:$I$500)),0)
A33: Articles sans coût unitaire | B33: =COUNTIFS('Inventaire'!$A$6:$A$500,"<>",'Inventaire'!$G$6:$G$500,0)
A34: Valeur de l’inventaire concorde | B34: =IF(ROUND($E$6,2)=ROUND(SUM('Inventaire'!$N$6:$N$500),2),"Conforme","À vérifier")
B35: =IF($A$35="","",0)
B36: =IF($A$36="","",0)
B37: =IF($A$37="","",0)
B38: =IF($A$38="","",0)
B39: =IF($A$39="","",0)
B40: =IF($A$40="","",0)
B41: =IF($A$41="","",0)
B42: =IF($A$42="","",0)
B43: =IF($A$43="","",0)
B44: =IF($A$44="","",0)
B45: =IF($A$45="","",0)
B46: =IF($A$46="","",0)
B47: =IF($A$47="","",0)
B48: =IF($A$48="","",0)
B49: =IF($A$49="","",0)
B50: =IF($A$50="","",0)
B51: =IF($A$51="","",0)
B52: =IF($A$52="","",0)
B53: =IF($A$53="","",0)
B54: =IF($A$54="","",0)
B55: =IF($A$55="","",0)
B56: =IF($A$56="","",0)
B57: =IF($A$57="","",0)
B58: =IF($A$58="","",0)
B59: =IF($A$59="","",0)
B60: =IF($A$60="","",0)
B61: =IF($A$61="","",0)
B62: =IF($A$62="","",0)
B63: =IF($A$63="","",0)
B64: =IF($A$64="","",0)
B65: =IF($A$65="","",0)
B66: =IF($A$66="","",0)
B67: =IF($A$67="","",0)
B68: =IF($A$68="","",0)
B69: =IF($A$69="","",0)
B70: =IF($A$70="","",0)
B71: =IF($A$71="","",0)
B72: =IF($A$72="","",0)
B73: =IF($A$73="","",0)
B74: =IF($A$74="","",0)
B75: =IF($A$75="","",0)
B76: =IF($A$76="","",0)
B77: =IF($A$77="","",0)
B78: =IF($A$78="","",0)
B79: =IF($A$79="","",0)
B80: =IF($A$80="","",0)
B81: =IF($A$81="","",0)
B82: =IF($A$82="","",0)
B83: =IF($A$83="","",0)
B84: =IF($A$84="","",0)
B85: =IF($A$85="","",0)
B86: =IF($A$86="","",0)
B87: =IF($A$87="","",0)
B88: =IF($A$88="","",0)
B89: =IF($A$89="","",0)
B90: =IF($A$90="","",0)
B91: =IF($A$91="","",0)
B92: =IF($A$92="","",0)
B93: =IF($A$93="","",0)
B94: =IF($A$94="","",0)
B95: =IF($A$95="","",0)
B96: =IF($A$96="","",0)
B97: =IF($A$97="","",0)
B98: =IF($A$98="","",0)
B99: =IF($A$99="","",0)
B100: =IF($A$100="","",0)
B101: =IF($A$101="","",0)

Sheet Inventaire
A1: Inventaire avec seuil de réapprovisionnement
A2: Saisissez ou mettez à jour les cellules jaunes. Les colonnes grisées sont calculées automatiquement. Ajoutez de nouveaux articles directement à la suite du tableau.
A3: Un article est signalé lorsque son stock actuel est égal ou inférieur à son seuil de réapprovisionnement.
A5: Code article | B5: Description | C5: Catégorie | D5: Fournisseur | E5: Unité de mesure | F5: Emplacement | G5: Coût unitaire | H5: Stock actuel | I5: Seuil de réapprovisionnement | J5: Stock cible | K5: Quantité en commande | L5: Stock projeté | M5: Quantité suggérée | N5: Valeur en stock | O5: Dernière mise à jour | P5: Statut | Q5: Commentaires
A6: ART-001 | B6: Papier d’impression blanc 8,5 x 11 po | C6: Fournitures de bureau | D6: Bureau Plus Québec | E6: paquet | F6: A-01 | G6: 6.49 | H6: 18 | I6: 20 | J6: 60 | K6: 0 | L6: =IF($A6="","",IFERROR($H6+$K6,0)) | M6: =IF($A6="","",IFERROR(MAX(0,IF($H6<=$I6,$J6-$L6,0)),0)) | N6: =IF($A6="","",IFERROR($G6*$H6,0)) | O6: 46237 | P6: =IF($A6="","",IF($H6<=0,"Rupture",IF($H6<=$I6,IF($M6>0,"À commander","Commande en cours"),"En stock"))) | Q6: Format lettre, 500 feuilles
A7: ART-002 | B7: Cartouche d’encre noire HP 206A | C7: Fournitures de bureau | D7: Bureau Plus Québec | E7: unité | F7: A-02 | G7: 94.99 | H7: 2 | I7: 4 | J7: 12 | K7: 0 | L7: =IF($A7="","",IFERROR($H7+$K7,0)) | M7: =IF($A7="","",IFERROR(MAX(0,IF($H7<=$I7,$J7-$L7,0)),0)) | N7: =IF($A7="","",IFERROR($G7*$H7,0)) | O7: 46244 | P7: =IF($A7="","",IF($H7<=0,"Rupture",IF($H7<=$I7,IF($M7>0,"À commander","Commande en cours"),"En stock"))) | Q7: Imprimante administrative
A8: ART-003 | B8: Boîte d’expédition 12 x 9 x 6 po | C8: Emballage | D8: Emballages Montréal | E8: unité | F8: B-03 | G8: 1.25 | H8: 120 | I8: 80 | J8: 250 | K8: 0 | L8: =IF($A8="","",IFERROR($H8+$K8,0)) | M8: =IF($A8="","",IFERROR(MAX(0,IF($H8<=$I8,$J8-$L8,0)),0)) | N8: =IF($A8="","",IFERROR($G8*$H8,0)) | O8: 46248 | P8: =IF($A8="","",IF($H8<=0,"Rupture",IF($H8<=$I8,IF($M8>0,"À commander","Commande en cours"),"En stock"))) | Q8: Boîte standard d’expédition
A9: ART-004 | B9: Ruban adhésif transparent 48 mm | C9: Emballage | D9: Emballages Montréal | E9: rouleau | F9: B-04 | G9: 4.75 | H9: 10 | I9: 15 | J9: 48 | K9: 24 | L9: =IF($A9="","",IFERROR($H9+$K9,0)) | M9: =IF($A9="","",IFERROR(MAX(0,IF($H9<=$I9,$J9-$L9,0)),0)) | N9: =IF($A9="","",IFERROR($G9*$H9,0)) | O9: 46246 | P9: =IF($A9="","",IF($H9<=0,"Rupture",IF($H9<=$I9,IF($M9>0,"À commander","Commande en cours"),"En stock"))) | Q9: Commande fournisseur partiellement reçue
A10: ART-005 | B10: Café moulu régulier 930 g | C10: Alimentation | D10: Café & Cie Québec | E10: sac | F10: Bureau | G10: 16.99 | H10: 3 | I10: 5 | J10: 15 | K10: 0 | L10: =IF($A10="","",IFERROR($H10+$K10,0)) | M10: =IF($A10="","",IFERROR(MAX(0,IF($H10<=$I10,$J10-$L10,0)),0)) | N10: =IF($A10="","",IFERROR($G10*$H10,0)) | O10: 46242 | P10: =IF($A10="","",IF($H10<=0,"Rupture",IF($H10<=$I10,IF($M10>0,"À commander","Commande en cours"),"En stock"))) | Q10: Cuisine du bureau
A11: ART-006 | B11: Gants nitrile jetables, boîte de 100 | C11: Équipement de protection | D11: Solutions Santé Québec | E11: boîte | F11: C-01 | G11: 19.95 | H11: 0 | I11: 6 | J11: 24 | K11: 0 | L11: =IF($A11="","",IFERROR($H11+$K11,0)) | M11: =IF($A11="","",IFERROR(MAX(0,IF($H11<=$I11,$J11-$L11,0)),0)) | N11: =IF($A11="","",IFERROR($G11*$H11,0)) | O11: 46249 | P11: =IF($A11="","",IF($H11<=0,"Rupture",IF($H11<=$I11,IF($M11>0,"À commander","Commande en cours"),"En stock"))) | Q11: Taille moyenne
A12: ART-007 | B12: Câble USB-C de 2 m | C12: Électronique | D12: Techno Distribution Canada | E12: unité | F12: A-02 | G12: 12.5 | H12: 35 | I12: 10 | J12: 40 | K12: 0 | L12: =IF($A12="","",IFERROR($H12+$K12,0)) | M12: =IF($A12="","",IFERROR(MAX(0,IF($H12<=$I12,$J12-$L12,0)),0)) | N12: =IF($A12="","",IFERROR($G12*$H12,0)) | O12: 46238 | P12: =IF($A12="","",IF($H12<=0,"Rupture",IF($H12<=$I12,IF($M12>0,"À commander","Commande en cours"),"En stock"))) | Q12: Accessoire pour postes mobiles
A13: ART-008 | B13: Étiquettes thermiques 4 x 6 po | C13: Emballage | D13: Emballages Montréal | E13: rouleau | F13: B-03 | G13: 28.5 | H13: 8 | I13: 12 | J13: 30 | K13: 20 | L13: =IF($A13="","",IFERROR($H13+$K13,0)) | M13: =IF($A13="","",IFERROR(MAX(0,IF($H13<=$I13,$J13-$L13,0)),0)) | N13: =IF($A13="","",IFERROR($G13*$H13,0)) | O13: 46247 | P13: =IF($A13="","",IF($H13<=0,"Rupture",IF($H13<=$I13,IF($M13>0,"À commander","Commande en cours"),"En stock"))) | Q13: Pour imprimante d’étiquettes
A14: ART-009 | B14: Cartouche d’encre couleur Epson 502 | C14: Fournitures de bureau | D14: Bureau Plus Québec | E14: unité | F14: A-02 | G14: 31.99 | H14: 12 | I14: 8 | J14: 20 | K14: 0 | L14: =IF($A14="","",IFERROR($H14+$K14,0)) | M14: =IF($A14="","",IFERROR(MAX(0,IF($H14<=$I14,$J14-$L14,0)),0)) | N14: =IF($A14="","",IFERROR($G14*$H14,0)) | O14: 46245 | P14: =IF($A14="","",IF($H14<=0,"Rupture",IF($H14<=$I14,IF($M14>0,"À commander","Commande en cours"),"En stock"))) | Q14: Imprimante de la réception
L15: =IF($A15="","",IFERROR($H15+$K15,0)) | M15: =IF($A15="","",IFERROR(MAX(0,IF($H15<=$I15,$J15-$L15,0)),0)) | N15: =IF($A15="","",IFERROR($G15*$H15,0)) | P15: =IF($A15="","",IF($H15<=0,"Rupture",IF($H15<=$I15,IF($M15>0,"À commander","Commande en cours"),"En stock")))
L16: =IF($A16="","",IFERROR($H16+$K16,0)) | M16: =IF($A16="","",IFERROR(MAX(0,IF($H16<=$I16,$J16-$L16,0)),0)) | N16: =IF($A16="","",IFERROR($G16*$H16,0)) | P16: =IF($A16="","",IF($H16<=0,"Rupture",IF($H16<=$I16,IF($M16>0,"À commander","Commande en cours"),"En stock")))
L17: =IF($A17="","",IFERROR($H17+$K17,0)) | M17: =IF($A17="","",IFERROR(MAX(0,IF($H17<=$I17,$J17-$L17,0)),0)) | N17: =IF($A17="","",IFERROR($G17*$H17,0)) | P17: =IF($A17="","",IF($H17<=0,"Rupture",IF($H17<=$I17,IF($M17>0,"À commander","Commande en cours"),"En stock")))
L18: =IF($A18="","",IFERROR($H18+$K18,0)) | M18: =IF($A18="","",IFERROR(MAX(0,IF($H18<=$I18,$J18-$L18,0)),0)) | N18: =IF($A18="","",IFERROR($G18*$H18,0)) | P18: =IF($A18="","",IF($H18<=0,"Rupture",IF($H18<=$I18,IF($M18>0,"À commander","Commande en cours"),"En stock")))
L19: =IF($A19="","",IFERROR($H19+$K19,0)) | M19: =IF($A19="","",IFERROR(MAX(0,IF($H19<=$I19,$J19-$L19,0)),0)) | N19: =IF($A19="","",IFERROR($G19*$H19,0)) | P19: =IF($A19="","",IF($H19<=0,"Rupture",IF($H19<=$I19,IF($M19>0,"À commander","Commande en cours"),"En stock")))
L20: =IF($A20="","",IFERROR($H20+$K20,0)) | M20: =IF($A20="","",IFERROR(MAX(0,IF($H20<=$I20,$J20-$L20,0)),0)) | N20: =IF($A20="","",IFERROR($G20*$H20,0)) | P20: =IF($A20="","",IF($H20<=0,"Rupture",IF($H20<=$I20,IF($M20>0,"À commander","Commande en cours"),"En stock")))
L21: =IF($A21="","",IFERROR($H21+$K21,0)) | M21: =IF($A21="","",IFERROR(MAX(0,IF($H21<=$I21,$J21-$L21,0)),0)) | N21: =IF($A21="","",IFERROR($G21*$H21,0)) | P21: =IF($A21="","",IF($H21<=0,"Rupture",IF($H21<=$I21,IF($M21>0,"À commander","Commande en cours"),"En stock")))
L22: =IF($A22="","",IFERROR($H22+$K22,0)) | M22: =IF($A22="","",IFERROR(MAX(0,IF($H22<=$I22,$J22-$L22,0)),0)) | N22: =IF($A22="","",IFERROR($G22*$H22,0)) | P22: =IF($A22="","",IF($H22<=0,"Rupture",IF($H22<=$I22,IF($M22>0,"À commander","Commande en cours"),"En stock")))
L23: =IF($A23="","",IFERROR($H23+$K23,0)) | M23: =IF($A23="","",IFERROR(MAX(0,IF($H23<=$I23,$J23-$L23,0)),0)) | N23: =IF($A23="","",IFERROR($G23*$H23,0)) | P23: =IF($A23="","",IF($H23<=0,"Rupture",IF($H23<=$I23,IF($M23>0,"À commander","Commande en cours"),"En stock")))
L24: =IF($A24="","",IFERROR($H24+$K24,0)) | M24: =IF($A24="","",IFERROR(MAX(0,IF($H24<=$I24,$J24-$L24,0)),0)) | N24: =IF($A24="","",IFERROR($G24*$H24,0)) | P24: =IF($A24="","",IF($H24<=0,"Rupture",IF($H24<=$I24,IF($M24>0,"À commander","Commande en cours"),"En stock")))
L25: =IF($A25="","",IFERROR($H25+$K25,0)) | M25: =IF($A25="","",IFERROR(MAX(0,IF($H25<=$I25,$J25-$L25,0)),0)) | N25: =IF($A25="","",IFERROR($G25*$H25,0)) | P25: =IF($A25="","",IF($H25<=0,"Rupture",IF($H25<=$I25,IF($M25>0,"À commander","Commande en cours"),"En stock")))
L26: =IF($A26="","",IFERROR($H26+$K26,0)) | M26: =IF($A26="","",IFERROR(MAX(0,IF($H26<=$I26,$J26-$L26,0)),0)) | N26: =IF($A26="","",IFERROR($G26*$H26,0)) | P26: =IF($A26="","",IF($H26<=0,"Rupture",IF($H26<=$I26,IF($M26>0,"À commander","Commande en cours"),"En stock")))
... L500: =IF($A500="","",IFERROR($H500+$K500,0)) | M500: =IF($A500="","",IFERROR(MAX(0,IF($H500<=$I500,$J500-$L500,0)),0)) | N500: =IF($A500="","",IFERROR($G500*$H500,0)) | P500: =IF($A500="","",IF($H500<=0,"Rupture",IF($H500<=$I500,IF($M500>0,"À commander","Commande en cours"),"En stock")))

Sheet Paramètres
A1: Paramètres et listes de validation
A2: Modifiez les listes ci-dessous au besoin. Les listes servent aux menus déroulants de la feuille Inventaire.
A4: Catégorie | C4: Fournisseur | E4: Unité de mesure | G4: Emplacement
A5: Fournitures de bureau | C5: Bureau Plus Québec | E5: unité | G5: A-01
A6: Emballage | C6: Emballages Montréal | E6: paquet | G6: A-02
A7: Produits d’entretien | C7: Solutions Santé Québec | E7: boîte | G7: B-03
A8: Équipement de protection | C8: Techno Distribution Canada | E8: rouleau | G8: B-04
A9: Électronique | C9: Café & Cie Québec | E9: caisse | G9: C-01
A10: Alimentation | C10: Fournitures Nordik | E10: sac | G10: Entrepôt
G11: Bureau
A14: Légende des statuts
A15: Statut | B15: Signification | C15: Couleur suggérée
A16: En stock | B16: Quantité actuelle supérieure au seuil de réapprovisionnement. | C16: Vert pâle
A17: À commander | B17: Quantité actuelle au seuil ou sous le seuil et une commande additionnelle est requise. | C17: Orange pâle
A18: Commande en cours | B18: Quantité actuelle au seuil ou sous le seuil, mais les quantités déjà commandées suffisent à atteindre le stock cible. | C18: Jaune pâle
A19: Rupture | B19: Stock actuel égal ou inférieur à zéro. | C19: Rouge pâle
