Workbook

Sheet Tableau de bord
A1: Tableau de bord — Inventaire matières premières
A2: Sommaire opérationnel fondé sur le registre d’inventaire et les mouvements saisis. | H2: =TODAY()
A4: Valeur totale en stock | C4: Articles actifs | E4: Articles à commander | G4: Stocks négatifs | J4: Catégorie | K4: Valeur en stock
A5: =IFERROR(SUM('Inventaire'!$N$6:$N$500),0) | C5: =IFERROR(COUNTIF('Inventaire'!$A$6:$A$500,"<>"),0) | E5: =IFERROR(COUNTIF('Inventaire'!$O$6:$O$500,"À commander"),0) | G5: =IFERROR(COUNTIF('Inventaire'!$O$6:$O$500,"Stock négatif"),0) | J5: Bois et panneaux | K5: =IFERROR(SUMIFS('Inventaire'!$N$6:$N$500,'Inventaire'!$C$6:$C$500,J5),0)
J6: Métal et quincaillerie | K6: =IFERROR(SUMIFS('Inventaire'!$N$6:$N$500,'Inventaire'!$C$6:$C$500,J6),0)
J7: Emballage | K7: =IFERROR(SUMIFS('Inventaire'!$N$6:$N$500,'Inventaire'!$C$6:$C$500,J7),0)
J8: Produits d’entretien | K8: =IFERROR(SUMIFS('Inventaire'!$N$6:$N$500,'Inventaire'!$C$6:$C$500,J8),0)
A9: Articles nécessitant une intervention | J9: Textile et fibres | K9: =IFERROR(SUMIFS('Inventaire'!$N$6:$N$500,'Inventaire'!$C$6:$C$500,J9),0)
A10: Code article | B10: Description | C10: Emplacement | D10: Quantité en stock | E10: Seuil | F10: Statut | K10: =""
A11: =IF(OR('Inventaire'!$O$6="À commander",'Inventaire'!$O$6="Stock négatif"),'Inventaire'!$A$6,"") | B11: =IF(A11="","",IFERROR(VLOOKUP(A11,'Inventaire'!$A$6:$O$500,2,0),"")) | C11: =IF(A11="","",IFERROR(VLOOKUP(A11,'Inventaire'!$A$6:$O$500,5,0),"")) | D11: =IF(A11="","",IFERROR(VLOOKUP(A11,'Inventaire'!$A$6:$O$500,13,0),0)) | E11: =IF(A11="","",IFERROR(VLOOKUP(A11,'Inventaire'!$A$6:$O$500,8,0),0)) | F11: =IF(A11="","",IFERROR(VLOOKUP(A11,'Inventaire'!$A$6:$O$500,15,0),"")) | K11: =""
A12: =IF(OR('Inventaire'!$O$7="À commander",'Inventaire'!$O$7="Stock négatif"),'Inventaire'!$A$7,"") | B12: =IF(A12="","",IFERROR(VLOOKUP(A12,'Inventaire'!$A$6:$O$500,2,0),"")) | C12: =IF(A12="","",IFERROR(VLOOKUP(A12,'Inventaire'!$A$6:$O$500,5,0),"")) | D12: =IF(A12="","",IFERROR(VLOOKUP(A12,'Inventaire'!$A$6:$O$500,13,0),0)) | E12: =IF(A12="","",IFERROR(VLOOKUP(A12,'Inventaire'!$A$6:$O$500,8,0),0)) | F12: =IF(A12="","",IFERROR(VLOOKUP(A12,'Inventaire'!$A$6:$O$500,15,0),"")) | K12: =""
A13: =IF(OR('Inventaire'!$O$8="À commander",'Inventaire'!$O$8="Stock négatif"),'Inventaire'!$A$8,"") | B13: =IF(A13="","",IFERROR(VLOOKUP(A13,'Inventaire'!$A$6:$O$500,2,0),"")) | C13: =IF(A13="","",IFERROR(VLOOKUP(A13,'Inventaire'!$A$6:$O$500,5,0),"")) | D13: =IF(A13="","",IFERROR(VLOOKUP(A13,'Inventaire'!$A$6:$O$500,13,0),0)) | E13: =IF(A13="","",IFERROR(VLOOKUP(A13,'Inventaire'!$A$6:$O$500,8,0),0)) | F13: =IF(A13="","",IFERROR(VLOOKUP(A13,'Inventaire'!$A$6:$O$500,15,0),"")) | K13: =""
A14: =IF(OR('Inventaire'!$O$9="À commander",'Inventaire'!$O$9="Stock négatif"),'Inventaire'!$A$9,"") | B14: =IF(A14="","",IFERROR(VLOOKUP(A14,'Inventaire'!$A$6:$O$500,2,0),"")) | C14: =IF(A14="","",IFERROR(VLOOKUP(A14,'Inventaire'!$A$6:$O$500,5,0),"")) | D14: =IF(A14="","",IFERROR(VLOOKUP(A14,'Inventaire'!$A$6:$O$500,13,0),0)) | E14: =IF(A14="","",IFERROR(VLOOKUP(A14,'Inventaire'!$A$6:$O$500,8,0),0)) | F14: =IF(A14="","",IFERROR(VLOOKUP(A14,'Inventaire'!$A$6:$O$500,15,0),"")) | K14: =""
A15: =IF(OR('Inventaire'!$O$10="À commander",'Inventaire'!$O$10="Stock négatif"),'Inventaire'!$A$10,"") | B15: =IF(A15="","",IFERROR(VLOOKUP(A15,'Inventaire'!$A$6:$O$500,2,0),"")) | C15: =IF(A15="","",IFERROR(VLOOKUP(A15,'Inventaire'!$A$6:$O$500,5,0),"")) | D15: =IF(A15="","",IFERROR(VLOOKUP(A15,'Inventaire'!$A$6:$O$500,13,0),0)) | E15: =IF(A15="","",IFERROR(VLOOKUP(A15,'Inventaire'!$A$6:$O$500,8,0),0)) | F15: =IF(A15="","",IFERROR(VLOOKUP(A15,'Inventaire'!$A$6:$O$500,15,0),"")) | K15: =""
A16: =IF(OR('Inventaire'!$O$11="À commander",'Inventaire'!$O$11="Stock négatif"),'Inventaire'!$A$11,"") | B16: =IF(A16="","",IFERROR(VLOOKUP(A16,'Inventaire'!$A$6:$O$500,2,0),"")) | C16: =IF(A16="","",IFERROR(VLOOKUP(A16,'Inventaire'!$A$6:$O$500,5,0),"")) | D16: =IF(A16="","",IFERROR(VLOOKUP(A16,'Inventaire'!$A$6:$O$500,13,0),0)) | E16: =IF(A16="","",IFERROR(VLOOKUP(A16,'Inventaire'!$A$6:$O$500,8,0),0)) | F16: =IF(A16="","",IFERROR(VLOOKUP(A16,'Inventaire'!$A$6:$O$500,15,0),"")) | K16: =""
A17: =IF(OR('Inventaire'!$O$12="À commander",'Inventaire'!$O$12="Stock négatif"),'Inventaire'!$A$12,"") | B17: =IF(A17="","",IFERROR(VLOOKUP(A17,'Inventaire'!$A$6:$O$500,2,0),"")) | C17: =IF(A17="","",IFERROR(VLOOKUP(A17,'Inventaire'!$A$6:$O$500,5,0),"")) | D17: =IF(A17="","",IFERROR(VLOOKUP(A17,'Inventaire'!$A$6:$O$500,13,0),0)) | E17: =IF(A17="","",IFERROR(VLOOKUP(A17,'Inventaire'!$A$6:$O$500,8,0),0)) | F17: =IF(A17="","",IFERROR(VLOOKUP(A17,'Inventaire'!$A$6:$O$500,15,0),"")) | K17: =""
A18: =IF(OR('Inventaire'!$O$13="À commander",'Inventaire'!$O$13="Stock négatif"),'Inventaire'!$A$13,"") | B18: =IF(A18="","",IFERROR(VLOOKUP(A18,'Inventaire'!$A$6:$O$500,2,0),"")) | C18: =IF(A18="","",IFERROR(VLOOKUP(A18,'Inventaire'!$A$6:$O$500,5,0),"")) | D18: =IF(A18="","",IFERROR(VLOOKUP(A18,'Inventaire'!$A$6:$O$500,13,0),0)) | E18: =IF(A18="","",IFERROR(VLOOKUP(A18,'Inventaire'!$A$6:$O$500,8,0),0)) | F18: =IF(A18="","",IFERROR(VLOOKUP(A18,'Inventaire'!$A$6:$O$500,15,0),"")) | K18: =""
A19: ="" | B19: ="" | C19: ="" | D19: ="" | E19: ="" | F19: ="" | K19: =""
A20: ="" | B20: ="" | C20: ="" | D20: ="" | E20: ="" | F20: ="" | K20: =""
A21: ="" | B21: ="" | C21: ="" | D21: ="" | E21: ="" | F21: ="" | K21: =""
A22: ="" | B22: ="" | C22: ="" | D22: ="" | E22: ="" | F22: ="" | K22: =""
A23: ="" | B23: ="" | C23: ="" | D23: ="" | E23: ="" | F23: ="" | K23: =""
A24: ="" | B24: ="" | C24: ="" | D24: ="" | E24: ="" | F24: ="" | K24: =""
A25: ="" | B25: ="" | C25: ="" | D25: ="" | E25: ="" | F25: ="" | K25: =""
A26: ="" | B26: ="" | C26: ="" | D26: ="" | E26: ="" | F26: ="" | K26: =""
A27: ="" | B27: ="" | C27: ="" | D27: ="" | E27: ="" | F27: ="" | K27: =""
A28: ="" | B28: ="" | C28: ="" | D28: ="" | E28: ="" | F28: ="" | K28: =""
A29: ="" | B29: ="" | C29: ="" | D29: ="" | E29: ="" | F29: ="" | K29: =""
A30: ="" | B30: ="" | C30: ="" | D30: ="" | E30: ="" | F30: ="" | K30: =""
... A101: ="" | B101: ="" | C101: ="" | D101: ="" | E101: ="" | F101: ="" | K101: =""

Sheet Inventaire
A1: Registre des matières premières
A2: Saisissez les articles dans les colonnes jaunes. Les quantités en stock sont calculées à partir des mouvements enregistrés.
A3: Les coûts unitaires sont en dollars canadiens avant TPS et TVQ récupérables.
A5: Code article | B5: Description | C5: Catégorie | D5: Unité | E5: Emplacement | F5: Fournisseur principal | G5: Coût unitaire moyen | H5: Seuil de réapprovisionnement | I5: Quantité initiale | J5: Entrées cumulées | K5: Sorties cumulées | L5: Ajustements nets | M5: Quantité en stock | N5: Valeur en stock | O5: Statut
A6: MP-001 | B6: Contreplaqué merisier 3/4 po | C6: Bois et panneaux | D6: feuille | E6: Entrepôt principal | F6: Matériaux BMR Québec | G6: 68.5 | H6: 10 | I6: 18 | J6: =IF(A6="","",IFERROR(SUMIFS('Mouvements'!$F$6:$F$500,'Mouvements'!$C$6:$C$500,A6,'Mouvements'!$E$6:$E$500,"Entrée - achat")+SUMIFS('Mouvements'!$F$6:$F$500,'Mouvements'!$C$6:$C$500,A6,'Mouvements'!$E$6:$E$500,"Entrée - retour"),0)) | K6: =IF(A6="","",IFERROR(SUMIFS('Mouvements'!$F$6:$F$500,'Mouvements'!$C$6:$C$500,A6,'Mouvements'!$E$6:$E$500,"Sortie - production")+SUMIFS('Mouvements'!$F$6:$F$500,'Mouvements'!$C$6:$C$500,A6,'Mouvements'!$E$6:$E$500,"Sortie - perte"),0)) | L6: =IF(A6="","",IFERROR(SUMIFS('Mouvements'!$F$6:$F$500,'Mouvements'!$C$6:$C$500,A6,'Mouvements'!$E$6:$E$500,"Ajustement positif")-SUMIFS('Mouvements'!$F$6:$F$500,'Mouvements'!$C$6:$C$500,A6,'Mouvements'!$E$6:$E$500,"Ajustement négatif"),0)) | M6: =IF(A6="","",IFERROR(I6+J6-K6+L6,0)) | N6: =IF(A6="","",IFERROR(M6*G6,0)) | O6: =IF(A6="","",IF(M6<0,"Stock négatif",IF(M6<=H6,"À commander","Normal")))
A7: MP-002 | B7: Vis à bois no 8, 2 po | C7: Métal et quincaillerie | D7: boîte | E7: Atelier | F7: Quincaillerie Richelieu | G7: 24.95 | H7: 5 | I7: 8 | J7: =IF(A7="","",IFERROR(SUMIFS('Mouvements'!$F$6:$F$500,'Mouvements'!$C$6:$C$500,A7,'Mouvements'!$E$6:$E$500,"Entrée - achat")+SUMIFS('Mouvements'!$F$6:$F$500,'Mouvements'!$C$6:$C$500,A7,'Mouvements'!$E$6:$E$500,"Entrée - retour"),0)) | K7: =IF(A7="","",IFERROR(SUMIFS('Mouvements'!$F$6:$F$500,'Mouvements'!$C$6:$C$500,A7,'Mouvements'!$E$6:$E$500,"Sortie - production")+SUMIFS('Mouvements'!$F$6:$F$500,'Mouvements'!$C$6:$C$500,A7,'Mouvements'!$E$6:$E$500,"Sortie - perte"),0)) | L7: =IF(A7="","",IFERROR(SUMIFS('Mouvements'!$F$6:$F$500,'Mouvements'!$C$6:$C$500,A7,'Mouvements'!$E$6:$E$500,"Ajustement positif")-SUMIFS('Mouvements'!$F$6:$F$500,'Mouvements'!$C$6:$C$500,A7,'Mouvements'!$E$6:$E$500,"Ajustement négatif"),0)) | M7: =IF(A7="","",IFERROR(I7+J7-K7+L7,0)) | N7: =IF(A7="","",IFERROR(M7*G7,0)) | O7: =IF(A7="","",IF(M7<0,"Stock négatif",IF(M7<=H7,"À commander","Normal")))
A8: MP-003 | B8: Boîtes d’expédition 12 x 10 x 8 po | C8: Emballage | D8: caisse | E8: Réserve | F8: Emballages Carrousel | G8: 42 | H8: 4 | I8: 6 | J8: =IF(A8="","",IFERROR(SUMIFS('Mouvements'!$F$6:$F$500,'Mouvements'!$C$6:$C$500,A8,'Mouvements'!$E$6:$E$500,"Entrée - achat")+SUMIFS('Mouvements'!$F$6:$F$500,'Mouvements'!$C$6:$C$500,A8,'Mouvements'!$E$6:$E$500,"Entrée - retour"),0)) | K8: =IF(A8="","",IFERROR(SUMIFS('Mouvements'!$F$6:$F$500,'Mouvements'!$C$6:$C$500,A8,'Mouvements'!$E$6:$E$500,"Sortie - production")+SUMIFS('Mouvements'!$F$6:$F$500,'Mouvements'!$C$6:$C$500,A8,'Mouvements'!$E$6:$E$500,"Sortie - perte"),0)) | L8: =IF(A8="","",IFERROR(SUMIFS('Mouvements'!$F$6:$F$500,'Mouvements'!$C$6:$C$500,A8,'Mouvements'!$E$6:$E$500,"Ajustement positif")-SUMIFS('Mouvements'!$F$6:$F$500,'Mouvements'!$C$6:$C$500,A8,'Mouvements'!$E$6:$E$500,"Ajustement négatif"),0)) | M8: =IF(A8="","",IFERROR(I8+J8-K8+L8,0)) | N8: =IF(A8="","",IFERROR(M8*G8,0)) | O8: =IF(A8="","",IF(M8<0,"Stock négatif",IF(M8<=H8,"À commander","Normal")))
A9: MP-004 | B9: Huile de finition naturelle 1 L | C9: Produits d’entretien | D9: L | E9: Atelier | F9: Distribution A. Bouchard | G9: 31.75 | H9: 6 | I9: 12 | J9: =IF(A9="","",IFERROR(SUMIFS('Mouvements'!$F$6:$F$500,'Mouvements'!$C$6:$C$500,A9,'Mouvements'!$E$6:$E$500,"Entrée - achat")+SUMIFS('Mouvements'!$F$6:$F$500,'Mouvements'!$C$6:$C$500,A9,'Mouvements'!$E$6:$E$500,"Entrée - retour"),0)) | K9: =IF(A9="","",IFERROR(SUMIFS('Mouvements'!$F$6:$F$500,'Mouvements'!$C$6:$C$500,A9,'Mouvements'!$E$6:$E$500,"Sortie - production")+SUMIFS('Mouvements'!$F$6:$F$500,'Mouvements'!$C$6:$C$500,A9,'Mouvements'!$E$6:$E$500,"Sortie - perte"),0)) | L9: =IF(A9="","",IFERROR(SUMIFS('Mouvements'!$F$6:$F$500,'Mouvements'!$C$6:$C$500,A9,'Mouvements'!$E$6:$E$500,"Ajustement positif")-SUMIFS('Mouvements'!$F$6:$F$500,'Mouvements'!$C$6:$C$500,A9,'Mouvements'!$E$6:$E$500,"Ajustement négatif"),0)) | M9: =IF(A9="","",IFERROR(I9+J9-K9+L9,0)) | N9: =IF(A9="","",IFERROR(M9*G9,0)) | O9: =IF(A9="","",IF(M9<0,"Stock négatif",IF(M9<=H9,"À commander","Normal")))
A10: MP-005 | B10: Papier abrasif grain 120 | C10: Produits d’entretien | D10: rouleau | E10: Atelier | F10: Centre de l’outil Montréal | G10: 18.4 | H10: 3 | I10: 5 | J10: =IF(A10="","",IFERROR(SUMIFS('Mouvements'!$F$6:$F$500,'Mouvements'!$C$6:$C$500,A10,'Mouvements'!$E$6:$E$500,"Entrée - achat")+SUMIFS('Mouvements'!$F$6:$F$500,'Mouvements'!$C$6:$C$500,A10,'Mouvements'!$E$6:$E$500,"Entrée - retour"),0)) | K10: =IF(A10="","",IFERROR(SUMIFS('Mouvements'!$F$6:$F$500,'Mouvements'!$C$6:$C$500,A10,'Mouvements'!$E$6:$E$500,"Sortie - production")+SUMIFS('Mouvements'!$F$6:$F$500,'Mouvements'!$C$6:$C$500,A10,'Mouvements'!$E$6:$E$500,"Sortie - perte"),0)) | L10: =IF(A10="","",IFERROR(SUMIFS('Mouvements'!$F$6:$F$500,'Mouvements'!$C$6:$C$500,A10,'Mouvements'!$E$6:$E$500,"Ajustement positif")-SUMIFS('Mouvements'!$F$6:$F$500,'Mouvements'!$C$6:$C$500,A10,'Mouvements'!$E$6:$E$500,"Ajustement négatif"),0)) | M10: =IF(A10="","",IFERROR(I10+J10-K10+L10,0)) | N10: =IF(A10="","",IFERROR(M10*G10,0)) | O10: =IF(A10="","",IF(M10<0,"Stock négatif",IF(M10<=H10,"À commander","Normal")))
A11: MP-006 | B11: Colle à bois professionnelle 4 L | C11: Produits d’entretien | D11: L | E11: Entrepôt principal | F11: Colle et adhésifs Canada | G11: 47.9 | H11: 4 | I11: 7 | J11: =IF(A11="","",IFERROR(SUMIFS('Mouvements'!$F$6:$F$500,'Mouvements'!$C$6:$C$500,A11,'Mouvements'!$E$6:$E$500,"Entrée - achat")+SUMIFS('Mouvements'!$F$6:$F$500,'Mouvements'!$C$6:$C$500,A11,'Mouvements'!$E$6:$E$500,"Entrée - retour"),0)) | K11: =IF(A11="","",IFERROR(SUMIFS('Mouvements'!$F$6:$F$500,'Mouvements'!$C$6:$C$500,A11,'Mouvements'!$E$6:$E$500,"Sortie - production")+SUMIFS('Mouvements'!$F$6:$F$500,'Mouvements'!$C$6:$C$500,A11,'Mouvements'!$E$6:$E$500,"Sortie - perte"),0)) | L11: =IF(A11="","",IFERROR(SUMIFS('Mouvements'!$F$6:$F$500,'Mouvements'!$C$6:$C$500,A11,'Mouvements'!$E$6:$E$500,"Ajustement positif")-SUMIFS('Mouvements'!$F$6:$F$500,'Mouvements'!$C$6:$C$500,A11,'Mouvements'!$E$6:$E$500,"Ajustement négatif"),0)) | M11: =IF(A11="","",IFERROR(I11+J11-K11+L11,0)) | N11: =IF(A11="","",IFERROR(M11*G11,0)) | O11: =IF(A11="","",IF(M11<0,"Stock négatif",IF(M11<=H11,"À commander","Normal")))
A12: MP-007 | B12: Étiquettes autocollantes 4 x 6 po | C12: Emballage | D12: rouleau | E12: Réserve | F12: Uline Canada | G12: 19.85 | H12: 3 | I12: 4 | J12: =IF(A12="","",IFERROR(SUMIFS('Mouvements'!$F$6:$F$500,'Mouvements'!$C$6:$C$500,A12,'Mouvements'!$E$6:$E$500,"Entrée - achat")+SUMIFS('Mouvements'!$F$6:$F$500,'Mouvements'!$C$6:$C$500,A12,'Mouvements'!$E$6:$E$500,"Entrée - retour"),0)) | K12: =IF(A12="","",IFERROR(SUMIFS('Mouvements'!$F$6:$F$500,'Mouvements'!$C$6:$C$500,A12,'Mouvements'!$E$6:$E$500,"Sortie - production")+SUMIFS('Mouvements'!$F$6:$F$500,'Mouvements'!$C$6:$C$500,A12,'Mouvements'!$E$6:$E$500,"Sortie - perte"),0)) | L12: =IF(A12="","",IFERROR(SUMIFS('Mouvements'!$F$6:$F$500,'Mouvements'!$C$6:$C$500,A12,'Mouvements'!$E$6:$E$500,"Ajustement positif")-SUMIFS('Mouvements'!$F$6:$F$500,'Mouvements'!$C$6:$C$500,A12,'Mouvements'!$E$6:$E$500,"Ajustement négatif"),0)) | M12: =IF(A12="","",IFERROR(I12+J12-K12+L12,0)) | N12: =IF(A12="","",IFERROR(M12*G12,0)) | O12: =IF(A12="","",IF(M12<0,"Stock négatif",IF(M12<=H12,"À commander","Normal")))
A13: MP-008 | B13: Tissu de coton naturel | C13: Textile et fibres | D13: m | E13: Entrepôt principal | F13: Textiles du Québec | G13: 8.75 | H13: 25 | I13: 40 | J13: =IF(A13="","",IFERROR(SUMIFS('Mouvements'!$F$6:$F$500,'Mouvements'!$C$6:$C$500,A13,'Mouvements'!$E$6:$E$500,"Entrée - achat")+SUMIFS('Mouvements'!$F$6:$F$500,'Mouvements'!$C$6:$C$500,A13,'Mouvements'!$E$6:$E$500,"Entrée - retour"),0)) | K13: =IF(A13="","",IFERROR(SUMIFS('Mouvements'!$F$6:$F$500,'Mouvements'!$C$6:$C$500,A13,'Mouvements'!$E$6:$E$500,"Sortie - production")+SUMIFS('Mouvements'!$F$6:$F$500,'Mouvements'!$C$6:$C$500,A13,'Mouvements'!$E$6:$E$500,"Sortie - perte"),0)) | L13: =IF(A13="","",IFERROR(SUMIFS('Mouvements'!$F$6:$F$500,'Mouvements'!$C$6:$C$500,A13,'Mouvements'!$E$6:$E$500,"Ajustement positif")-SUMIFS('Mouvements'!$F$6:$F$500,'Mouvements'!$C$6:$C$500,A13,'Mouvements'!$E$6:$E$500,"Ajustement négatif"),0)) | M13: =IF(A13="","",IFERROR(I13+J13-K13+L13,0)) | N13: =IF(A13="","",IFERROR(M13*G13,0)) | O13: =IF(A13="","",IF(M13<0,"Stock négatif",IF(M13<=H13,"À commander","Normal")))
J14: =IF(A14="","",IFERROR(SUMIFS('Mouvements'!$F$6:$F$500,'Mouvements'!$C$6:$C$500,A14,'Mouvements'!$E$6:$E$500,"Entrée - achat")+SUMIFS('Mouvements'!$F$6:$F$500,'Mouvements'!$C$6:$C$500,A14,'Mouvements'!$E$6:$E$500,"Entrée - retour"),0)) | K14: =IF(A14="","",IFERROR(SUMIFS('Mouvements'!$F$6:$F$500,'Mouvements'!$C$6:$C$500,A14,'Mouvements'!$E$6:$E$500,"Sortie - production")+SUMIFS('Mouvements'!$F$6:$F$500,'Mouvements'!$C$6:$C$500,A14,'Mouvements'!$E$6:$E$500,"Sortie - perte"),0)) | L14: =IF(A14="","",IFERROR(SUMIFS('Mouvements'!$F$6:$F$500,'Mouvements'!$C$6:$C$500,A14,'Mouvements'!$E$6:$E$500,"Ajustement positif")-SUMIFS('Mouvements'!$F$6:$F$500,'Mouvements'!$C$6:$C$500,A14,'Mouvements'!$E$6:$E$500,"Ajustement négatif"),0)) | M14: =IF(A14="","",IFERROR(I14+J14-K14+L14,0)) | N14: =IF(A14="","",IFERROR(M14*G14,0)) | O14: =IF(A14="","",IF(M14<0,"Stock négatif",IF(M14<=H14,"À commander","Normal")))
J15: =IF(A15="","",IFERROR(SUMIFS('Mouvements'!$F$6:$F$500,'Mouvements'!$C$6:$C$500,A15,'Mouvements'!$E$6:$E$500,"Entrée - achat")+SUMIFS('Mouvements'!$F$6:$F$500,'Mouvements'!$C$6:$C$500,A15,'Mouvements'!$E$6:$E$500,"Entrée - retour"),0)) | K15: =IF(A15="","",IFERROR(SUMIFS('Mouvements'!$F$6:$F$500,'Mouvements'!$C$6:$C$500,A15,'Mouvements'!$E$6:$E$500,"Sortie - production")+SUMIFS('Mouvements'!$F$6:$F$500,'Mouvements'!$C$6:$C$500,A15,'Mouvements'!$E$6:$E$500,"Sortie - perte"),0)) | L15: =IF(A15="","",IFERROR(SUMIFS('Mouvements'!$F$6:$F$500,'Mouvements'!$C$6:$C$500,A15,'Mouvements'!$E$6:$E$500,"Ajustement positif")-SUMIFS('Mouvements'!$F$6:$F$500,'Mouvements'!$C$6:$C$500,A15,'Mouvements'!$E$6:$E$500,"Ajustement négatif"),0)) | M15: =IF(A15="","",IFERROR(I15+J15-K15+L15,0)) | N15: =IF(A15="","",IFERROR(M15*G15,0)) | O15: =IF(A15="","",IF(M15<0,"Stock négatif",IF(M15<=H15,"À commander","Normal")))
J16: =IF(A16="","",IFERROR(SUMIFS('Mouvements'!$F$6:$F$500,'Mouvements'!$C$6:$C$500,A16,'Mouvements'!$E$6:$E$500,"Entrée - achat")+SUMIFS('Mouvements'!$F$6:$F$500,'Mouvements'!$C$6:$C$500,A16,'Mouvements'!$E$6:$E$500,"Entrée - retour"),0)) | K16: =IF(A16="","",IFERROR(SUMIFS('Mouvements'!$F$6:$F$500,'Mouvements'!$C$6:$C$500,A16,'Mouvements'!$E$6:$E$500,"Sortie - production")+SUMIFS('Mouvements'!$F$6:$F$500,'Mouvements'!$C$6:$C$500,A16,'Mouvements'!$E$6:$E$500,"Sortie - perte"),0)) | L16: =IF(A16="","",IFERROR(SUMIFS('Mouvements'!$F$6:$F$500,'Mouvements'!$C$6:$C$500,A16,'Mouvements'!$E$6:$E$500,"Ajustement positif")-SUMIFS('Mouvements'!$F$6:$F$500,'Mouvements'!$C$6:$C$500,A16,'Mouvements'!$E$6:$E$500,"Ajustement négatif"),0)) | M16: =IF(A16="","",IFERROR(I16+J16-K16+L16,0)) | N16: =IF(A16="","",IFERROR(M16*G16,0)) | O16: =IF(A16="","",IF(M16<0,"Stock négatif",IF(M16<=H16,"À commander","Normal")))
J17: =IF(A17="","",IFERROR(SUMIFS('Mouvements'!$F$6:$F$500,'Mouvements'!$C$6:$C$500,A17,'Mouvements'!$E$6:$E$500,"Entrée - achat")+SUMIFS('Mouvements'!$F$6:$F$500,'Mouvements'!$C$6:$C$500,A17,'Mouvements'!$E$6:$E$500,"Entrée - retour"),0)) | K17: =IF(A17="","",IFERROR(SUMIFS('Mouvements'!$F$6:$F$500,'Mouvements'!$C$6:$C$500,A17,'Mouvements'!$E$6:$E$500,"Sortie - production")+SUMIFS('Mouvements'!$F$6:$F$500,'Mouvements'!$C$6:$C$500,A17,'Mouvements'!$E$6:$E$500,"Sortie - perte"),0)) | L17: =IF(A17="","",IFERROR(SUMIFS('Mouvements'!$F$6:$F$500,'Mouvements'!$C$6:$C$500,A17,'Mouvements'!$E$6:$E$500,"Ajustement positif")-SUMIFS('Mouvements'!$F$6:$F$500,'Mouvements'!$C$6:$C$500,A17,'Mouvements'!$E$6:$E$500,"Ajustement négatif"),0)) | M17: =IF(A17="","",IFERROR(I17+J17-K17+L17,0)) | N17: =IF(A17="","",IFERROR(M17*G17,0)) | O17: =IF(A17="","",IF(M17<0,"Stock négatif",IF(M17<=H17,"À commander","Normal")))
J18: =IF(A18="","",IFERROR(SUMIFS('Mouvements'!$F$6:$F$500,'Mouvements'!$C$6:$C$500,A18,'Mouvements'!$E$6:$E$500,"Entrée - achat")+SUMIFS('Mouvements'!$F$6:$F$500,'Mouvements'!$C$6:$C$500,A18,'Mouvements'!$E$6:$E$500,"Entrée - retour"),0)) | K18: =IF(A18="","",IFERROR(SUMIFS('Mouvements'!$F$6:$F$500,'Mouvements'!$C$6:$C$500,A18,'Mouvements'!$E$6:$E$500,"Sortie - production")+SUMIFS('Mouvements'!$F$6:$F$500,'Mouvements'!$C$6:$C$500,A18,'Mouvements'!$E$6:$E$500,"Sortie - perte"),0)) | L18: =IF(A18="","",IFERROR(SUMIFS('Mouvements'!$F$6:$F$500,'Mouvements'!$C$6:$C$500,A18,'Mouvements'!$E$6:$E$500,"Ajustement positif")-SUMIFS('Mouvements'!$F$6:$F$500,'Mouvements'!$C$6:$C$500,A18,'Mouvements'!$E$6:$E$500,"Ajustement négatif"),0)) | M18: =IF(A18="","",IFERROR(I18+J18-K18+L18,0)) | N18: =IF(A18="","",IFERROR(M18*G18,0)) | O18: =IF(A18="","",IF(M18<0,"Stock négatif",IF(M18<=H18,"À commander","Normal")))
J19: =IF(A19="","",IFERROR(SUMIFS('Mouvements'!$F$6:$F$500,'Mouvements'!$C$6:$C$500,A19,'Mouvements'!$E$6:$E$500,"Entrée - achat")+SUMIFS('Mouvements'!$F$6:$F$500,'Mouvements'!$C$6:$C$500,A19,'Mouvements'!$E$6:$E$500,"Entrée - retour"),0)) | K19: =IF(A19="","",IFERROR(SUMIFS('Mouvements'!$F$6:$F$500,'Mouvements'!$C$6:$C$500,A19,'Mouvements'!$E$6:$E$500,"Sortie - production")+SUMIFS('Mouvements'!$F$6:$F$500,'Mouvements'!$C$6:$C$500,A19,'Mouvements'!$E$6:$E$500,"Sortie - perte"),0)) | L19: =IF(A19="","",IFERROR(SUMIFS('Mouvements'!$F$6:$F$500,'Mouvements'!$C$6:$C$500,A19,'Mouvements'!$E$6:$E$500,"Ajustement positif")-SUMIFS('Mouvements'!$F$6:$F$500,'Mouvements'!$C$6:$C$500,A19,'Mouvements'!$E$6:$E$500,"Ajustement négatif"),0)) | M19: =IF(A19="","",IFERROR(I19+J19-K19+L19,0)) | N19: =IF(A19="","",IFERROR(M19*G19,0)) | O19: =IF(A19="","",IF(M19<0,"Stock négatif",IF(M19<=H19,"À commander","Normal")))
J20: =IF(A20="","",IFERROR(SUMIFS('Mouvements'!$F$6:$F$500,'Mouvements'!$C$6:$C$500,A20,'Mouvements'!$E$6:$E$500,"Entrée - achat")+SUMIFS('Mouvements'!$F$6:$F$500,'Mouvements'!$C$6:$C$500,A20,'Mouvements'!$E$6:$E$500,"Entrée - retour"),0)) | K20: =IF(A20="","",IFERROR(SUMIFS('Mouvements'!$F$6:$F$500,'Mouvements'!$C$6:$C$500,A20,'Mouvements'!$E$6:$E$500,"Sortie - production")+SUMIFS('Mouvements'!$F$6:$F$500,'Mouvements'!$C$6:$C$500,A20,'Mouvements'!$E$6:$E$500,"Sortie - perte"),0)) | L20: =IF(A20="","",IFERROR(SUMIFS('Mouvements'!$F$6:$F$500,'Mouvements'!$C$6:$C$500,A20,'Mouvements'!$E$6:$E$500,"Ajustement positif")-SUMIFS('Mouvements'!$F$6:$F$500,'Mouvements'!$C$6:$C$500,A20,'Mouvements'!$E$6:$E$500,"Ajustement négatif"),0)) | M20: =IF(A20="","",IFERROR(I20+J20-K20+L20,0)) | N20: =IF(A20="","",IFERROR(M20*G20,0)) | O20: =IF(A20="","",IF(M20<0,"Stock négatif",IF(M20<=H20,"À commander","Normal")))
J21: =IF(A21="","",IFERROR(SUMIFS('Mouvements'!$F$6:$F$500,'Mouvements'!$C$6:$C$500,A21,'Mouvements'!$E$6:$E$500,"Entrée - achat")+SUMIFS('Mouvements'!$F$6:$F$500,'Mouvements'!$C$6:$C$500,A21,'Mouvements'!$E$6:$E$500,"Entrée - retour"),0)) | K21: =IF(A21="","",IFERROR(SUMIFS('Mouvements'!$F$6:$F$500,'Mouvements'!$C$6:$C$500,A21,'Mouvements'!$E$6:$E$500,"Sortie - production")+SUMIFS('Mouvements'!$F$6:$F$500,'Mouvements'!$C$6:$C$500,A21,'Mouvements'!$E$6:$E$500,"Sortie - perte"),0)) | L21: =IF(A21="","",IFERROR(SUMIFS('Mouvements'!$F$6:$F$500,'Mouvements'!$C$6:$C$500,A21,'Mouvements'!$E$6:$E$500,"Ajustement positif")-SUMIFS('Mouvements'!$F$6:$F$500,'Mouvements'!$C$6:$C$500,A21,'Mouvements'!$E$6:$E$500,"Ajustement négatif"),0)) | M21: =IF(A21="","",IFERROR(I21+J21-K21+L21,0)) | N21: =IF(A21="","",IFERROR(M21*G21,0)) | O21: =IF(A21="","",IF(M21<0,"Stock négatif",IF(M21<=H21,"À commander","Normal")))
J22: =IF(A22="","",IFERROR(SUMIFS('Mouvements'!$F$6:$F$500,'Mouvements'!$C$6:$C$500,A22,'Mouvements'!$E$6:$E$500,"Entrée - achat")+SUMIFS('Mouvements'!$F$6:$F$500,'Mouvements'!$C$6:$C$500,A22,'Mouvements'!$E$6:$E$500,"Entrée - retour"),0)) | K22: =IF(A22="","",IFERROR(SUMIFS('Mouvements'!$F$6:$F$500,'Mouvements'!$C$6:$C$500,A22,'Mouvements'!$E$6:$E$500,"Sortie - production")+SUMIFS('Mouvements'!$F$6:$F$500,'Mouvements'!$C$6:$C$500,A22,'Mouvements'!$E$6:$E$500,"Sortie - perte"),0)) | L22: =IF(A22="","",IFERROR(SUMIFS('Mouvements'!$F$6:$F$500,'Mouvements'!$C$6:$C$500,A22,'Mouvements'!$E$6:$E$500,"Ajustement positif")-SUMIFS('Mouvements'!$F$6:$F$500,'Mouvements'!$C$6:$C$500,A22,'Mouvements'!$E$6:$E$500,"Ajustement négatif"),0)) | M22: =IF(A22="","",IFERROR(I22+J22-K22+L22,0)) | N22: =IF(A22="","",IFERROR(M22*G22,0)) | O22: =IF(A22="","",IF(M22<0,"Stock négatif",IF(M22<=H22,"À commander","Normal")))
J23: =IF(A23="","",IFERROR(SUMIFS('Mouvements'!$F$6:$F$500,'Mouvements'!$C$6:$C$500,A23,'Mouvements'!$E$6:$E$500,"Entrée - achat")+SUMIFS('Mouvements'!$F$6:$F$500,'Mouvements'!$C$6:$C$500,A23,'Mouvements'!$E$6:$E$500,"Entrée - retour"),0)) | K23: =IF(A23="","",IFERROR(SUMIFS('Mouvements'!$F$6:$F$500,'Mouvements'!$C$6:$C$500,A23,'Mouvements'!$E$6:$E$500,"Sortie - production")+SUMIFS('Mouvements'!$F$6:$F$500,'Mouvements'!$C$6:$C$500,A23,'Mouvements'!$E$6:$E$500,"Sortie - perte"),0)) | L23: =IF(A23="","",IFERROR(SUMIFS('Mouvements'!$F$6:$F$500,'Mouvements'!$C$6:$C$500,A23,'Mouvements'!$E$6:$E$500,"Ajustement positif")-SUMIFS('Mouvements'!$F$6:$F$500,'Mouvements'!$C$6:$C$500,A23,'Mouvements'!$E$6:$E$500,"Ajustement négatif"),0)) | M23: =IF(A23="","",IFERROR(I23+J23-K23+L23,0)) | N23: =IF(A23="","",IFERROR(M23*G23,0)) | O23: =IF(A23="","",IF(M23<0,"Stock négatif",IF(M23<=H23,"À commander","Normal")))
J24: =IF(A24="","",IFERROR(SUMIFS('Mouvements'!$F$6:$F$500,'Mouvements'!$C$6:$C$500,A24,'Mouvements'!$E$6:$E$500,"Entrée - achat")+SUMIFS('Mouvements'!$F$6:$F$500,'Mouvements'!$C$6:$C$500,A24,'Mouvements'!$E$6:$E$500,"Entrée - retour"),0)) | K24: =IF(A24="","",IFERROR(SUMIFS('Mouvements'!$F$6:$F$500,'Mouvements'!$C$6:$C$500,A24,'Mouvements'!$E$6:$E$500,"Sortie - production")+SUMIFS('Mouvements'!$F$6:$F$500,'Mouvements'!$C$6:$C$500,A24,'Mouvements'!$E$6:$E$500,"Sortie - perte"),0)) | L24: =IF(A24="","",IFERROR(SUMIFS('Mouvements'!$F$6:$F$500,'Mouvements'!$C$6:$C$500,A24,'Mouvements'!$E$6:$E$500,"Ajustement positif")-SUMIFS('Mouvements'!$F$6:$F$500,'Mouvements'!$C$6:$C$500,A24,'Mouvements'!$E$6:$E$500,"Ajustement négatif"),0)) | M24: =IF(A24="","",IFERROR(I24+J24-K24+L24,0)) | N24: =IF(A24="","",IFERROR(M24*G24,0)) | O24: =IF(A24="","",IF(M24<0,"Stock négatif",IF(M24<=H24,"À commander","Normal")))
J25: =IF(A25="","",IFERROR(SUMIFS('Mouvements'!$F$6:$F$500,'Mouvements'!$C$6:$C$500,A25,'Mouvements'!$E$6:$E$500,"Entrée - achat")+SUMIFS('Mouvements'!$F$6:$F$500,'Mouvements'!$C$6:$C$500,A25,'Mouvements'!$E$6:$E$500,"Entrée - retour"),0)) | K25: =IF(A25="","",IFERROR(SUMIFS('Mouvements'!$F$6:$F$500,'Mouvements'!$C$6:$C$500,A25,'Mouvements'!$E$6:$E$500,"Sortie - production")+SUMIFS('Mouvements'!$F$6:$F$500,'Mouvements'!$C$6:$C$500,A25,'Mouvements'!$E$6:$E$500,"Sortie - perte"),0)) | L25: =IF(A25="","",IFERROR(SUMIFS('Mouvements'!$F$6:$F$500,'Mouvements'!$C$6:$C$500,A25,'Mouvements'!$E$6:$E$500,"Ajustement positif")-SUMIFS('Mouvements'!$F$6:$F$500,'Mouvements'!$C$6:$C$500,A25,'Mouvements'!$E$6:$E$500,"Ajustement négatif"),0)) | M25: =IF(A25="","",IFERROR(I25+J25-K25+L25,0)) | N25: =IF(A25="","",IFERROR(M25*G25,0)) | O25: =IF(A25="","",IF(M25<0,"Stock négatif",IF(M25<=H25,"À commander","Normal")))
... J500: =IF(A500="","",IFERROR(SUMIFS('Mouvements'!$F$6:$F$500,'Mouvements'!$C$6:$C$500,A500,'Mouvements'!$E$6:$E$500,"Entrée - achat")+SUMIFS('Mouvements'!$F$6:$F$500,'Mouvements'!$C$6:$C$500,A500,'Mouvements'!$E$6:$E$500,"Entrée - retour"),0)) | K500: =IF(A500="","",IFERROR(SUMIFS('Mouvements'!$F$6:$F$500,'Mouvements'!$C$6:$C$500,A500,'Mouvements'!$E$6:$E$500,"Sortie - production")+SUMIFS('Mouvements'!$F$6:$F$500,'Mouvements'!$C$6:$C$500,A500,'Mouvements'!$E$6:$E$500,"Sortie - perte"),0)) | L500: =IF(A500="","",IFERROR(SUMIFS('Mouvements'!$F$6:$F$500,'Mouvements'!$C$6:$C$500,A500,'Mouvements'!$E$6:$E$500,"Ajustement positif")-SUMIFS('Mouvements'!$F$6:$F$500,'Mouvements'!$C$6:$C$500,A500,'Mouvements'!$E$6:$E$500,"Ajustement négatif"),0)) | M500: =IF(A500="","",IFERROR(I500+J500-K500+L500,0)) | N500: =IF(A500="","",IFERROR(M500*G500,0)) | O500: =IF(A500="","",IF(M500<0,"Stock négatif",IF(M500<=H500,"À commander","Normal")))
A503: Contrôle des totaux | B503: Valeur totale calculée | C503: =IFERROR(SUM(N6:N500),0) | D503: Valeur affichée au tableau de bord | E503: =IFERROR('Tableau de bord'!A5,0) | F503: Écart | G503: =IFERROR(C503-E503,0) | H503: Statut du contrôle | I503: =IF(G503=0,"Conforme","À vérifier")

Sheet Mouvements
A1: Journal des mouvements d’inventaire
A2: Saisissez une quantité positive. Le type de mouvement détermine si la quantité augmente ou réduit le stock.
A3: Ne modifiez pas les codes d’articles existants sans mettre à jour les mouvements associés.
A5: Date | B5: No mouvement | C5: Code article | D5: Description article | E5: Type de mouvement | F5: Quantité | G5: Unité | H5: Référence | I5: Responsable | J5: Commentaire
A6: 46249 | B6: MOUV-2026-001 | C6: MP-001 | D6: =IF(C6="","",IFERROR(VLOOKUP(C6,'Inventaire'!$A$6:$D$500,2,0),"")) | E6: Entrée - achat | F6: 12 | G6: =IF(C6="","",IFERROR(VLOOKUP(C6,'Inventaire'!$A$6:$D$500,4,0),"")) | H6: FAC-4587 | I6: Marie Tremblay | J6: Réception fournisseur
A7: 46250 | B7: MOUV-2026-002 | C7: MP-002 | D7: =IF(C7="","",IFERROR(VLOOKUP(C7,'Inventaire'!$A$6:$D$500,2,0),"")) | E7: Sortie - production | F7: 4 | G7: =IF(C7="","",IFERROR(VLOOKUP(C7,'Inventaire'!$A$6:$D$500,4,0),"")) | H7: OF-1024 | I7: Louis Gagnon | J7: Fabrication de mobilier
A8: 46251 | B8: MOUV-2026-003 | C8: MP-003 | D8: =IF(C8="","",IFERROR(VLOOKUP(C8,'Inventaire'!$A$6:$D$500,2,0),"")) | E8: Entrée - achat | F8: 5 | G8: =IF(C8="","",IFERROR(VLOOKUP(C8,'Inventaire'!$A$6:$D$500,4,0),"")) | H8: FAC-4591 | I8: Marie Tremblay | J8: Réception fournisseur
A9: 46252 | B9: MOUV-2026-004 | C9: MP-004 | D9: =IF(C9="","",IFERROR(VLOOKUP(C9,'Inventaire'!$A$6:$D$500,2,0),"")) | E9: Sortie - production | F9: 7 | G9: =IF(C9="","",IFERROR(VLOOKUP(C9,'Inventaire'!$A$6:$D$500,4,0),"")) | H9: OF-1025 | I9: Louis Gagnon | J9: Finition de tables
A10: 46253 | B10: MOUV-2026-005 | C10: MP-005 | D10: =IF(C10="","",IFERROR(VLOOKUP(C10,'Inventaire'!$A$6:$D$500,2,0),"")) | E10: Sortie - perte | F10: 1 | G10: =IF(C10="","",IFERROR(VLOOKUP(C10,'Inventaire'!$A$6:$D$500,4,0),"")) | H10: INV-2026-01 | I10: Marie Tremblay | J10: Rouleau endommagé
A11: 46256 | B11: MOUV-2026-006 | C11: MP-006 | D11: =IF(C11="","",IFERROR(VLOOKUP(C11,'Inventaire'!$A$6:$D$500,2,0),"")) | E11: Entrée - achat | F11: 8 | G11: =IF(C11="","",IFERROR(VLOOKUP(C11,'Inventaire'!$A$6:$D$500,4,0),"")) | H11: FAC-4603 | I11: Marie Tremblay | J11: Réception fournisseur
A12: 46257 | B12: MOUV-2026-007 | C12: MP-007 | D12: =IF(C12="","",IFERROR(VLOOKUP(C12,'Inventaire'!$A$6:$D$500,2,0),"")) | E12: Sortie - production | F12: 2 | G12: =IF(C12="","",IFERROR(VLOOKUP(C12,'Inventaire'!$A$6:$D$500,4,0),"")) | H12: OF-1026 | I12: Louis Gagnon | J12: Préparation des expéditions
A13: 46258 | B13: MOUV-2026-008 | C13: MP-008 | D13: =IF(C13="","",IFERROR(VLOOKUP(C13,'Inventaire'!$A$6:$D$500,2,0),"")) | E13: Sortie - production | F13: 20 | G13: =IF(C13="","",IFERROR(VLOOKUP(C13,'Inventaire'!$A$6:$D$500,4,0),"")) | H13: OF-1027 | I13: Louis Gagnon | J13: Confection de housses
A14: 46259 | B14: MOUV-2026-009 | C14: MP-001 | D14: =IF(C14="","",IFERROR(VLOOKUP(C14,'Inventaire'!$A$6:$D$500,2,0),"")) | E14: Ajustement négatif | F14: 1 | G14: =IF(C14="","",IFERROR(VLOOKUP(C14,'Inventaire'!$A$6:$D$500,4,0),"")) | H14: INV-2026-01 | I14: Marie Tremblay | J14: Écart au décompte physique
A15: 46260 | B15: MOUV-2026-010 | C15: MP-004 | D15: =IF(C15="","",IFERROR(VLOOKUP(C15,'Inventaire'!$A$6:$D$500,2,0),"")) | E15: Entrée - retour | F15: 2 | G15: =IF(C15="","",IFERROR(VLOOKUP(C15,'Inventaire'!$A$6:$D$500,4,0),"")) | H15: RET-2026-003 | I15: Marie Tremblay | J15: Retour de production non utilisé
D16: =IF(C16="","",IFERROR(VLOOKUP(C16,'Inventaire'!$A$6:$D$500,2,0),"")) | G16: =IF(C16="","",IFERROR(VLOOKUP(C16,'Inventaire'!$A$6:$D$500,4,0),""))
D17: =IF(C17="","",IFERROR(VLOOKUP(C17,'Inventaire'!$A$6:$D$500,2,0),"")) | G17: =IF(C17="","",IFERROR(VLOOKUP(C17,'Inventaire'!$A$6:$D$500,4,0),""))
D18: =IF(C18="","",IFERROR(VLOOKUP(C18,'Inventaire'!$A$6:$D$500,2,0),"")) | G18: =IF(C18="","",IFERROR(VLOOKUP(C18,'Inventaire'!$A$6:$D$500,4,0),""))
D19: =IF(C19="","",IFERROR(VLOOKUP(C19,'Inventaire'!$A$6:$D$500,2,0),"")) | G19: =IF(C19="","",IFERROR(VLOOKUP(C19,'Inventaire'!$A$6:$D$500,4,0),""))
D20: =IF(C20="","",IFERROR(VLOOKUP(C20,'Inventaire'!$A$6:$D$500,2,0),"")) | G20: =IF(C20="","",IFERROR(VLOOKUP(C20,'Inventaire'!$A$6:$D$500,4,0),""))
D21: =IF(C21="","",IFERROR(VLOOKUP(C21,'Inventaire'!$A$6:$D$500,2,0),"")) | G21: =IF(C21="","",IFERROR(VLOOKUP(C21,'Inventaire'!$A$6:$D$500,4,0),""))
D22: =IF(C22="","",IFERROR(VLOOKUP(C22,'Inventaire'!$A$6:$D$500,2,0),"")) | G22: =IF(C22="","",IFERROR(VLOOKUP(C22,'Inventaire'!$A$6:$D$500,4,0),""))
D23: =IF(C23="","",IFERROR(VLOOKUP(C23,'Inventaire'!$A$6:$D$500,2,0),"")) | G23: =IF(C23="","",IFERROR(VLOOKUP(C23,'Inventaire'!$A$6:$D$500,4,0),""))
D24: =IF(C24="","",IFERROR(VLOOKUP(C24,'Inventaire'!$A$6:$D$500,2,0),"")) | G24: =IF(C24="","",IFERROR(VLOOKUP(C24,'Inventaire'!$A$6:$D$500,4,0),""))
D25: =IF(C25="","",IFERROR(VLOOKUP(C25,'Inventaire'!$A$6:$D$500,2,0),"")) | G25: =IF(C25="","",IFERROR(VLOOKUP(C25,'Inventaire'!$A$6:$D$500,4,0),""))
D26: =IF(C26="","",IFERROR(VLOOKUP(C26,'Inventaire'!$A$6:$D$500,2,0),"")) | G26: =IF(C26="","",IFERROR(VLOOKUP(C26,'Inventaire'!$A$6:$D$500,4,0),""))
D27: =IF(C27="","",IFERROR(VLOOKUP(C27,'Inventaire'!$A$6:$D$500,2,0),"")) | G27: =IF(C27="","",IFERROR(VLOOKUP(C27,'Inventaire'!$A$6:$D$500,4,0),""))
... D500: =IF(C500="","",IFERROR(VLOOKUP(C500,'Inventaire'!$A$6:$D$500,2,0),"")) | G500: =IF(C500="","",IFERROR(VLOOKUP(C500,'Inventaire'!$A$6:$D$500,4,0),""))
A503: Contrôle des mouvements
A504: Mouvements sans article reconnu | B504: =IFERROR(COUNTIFS(C6:C500,"<>",D6:D500,""),0)
A505: Mouvements sans quantité valide | B505: =IFERROR(COUNTIF(F6:F500,0),0)
A506: Statut | B506: =IF(AND(B504=0,B505=0),"Conforme","À vérifier")

Sheet Paramètres
A1: Paramètres et listes de référence
A2: Modifiez uniquement les cellules jaunes. Les coûts sont exprimés en dollars canadiens avant taxes récupérables.
A4: Paramètre | B4: Valeur | D4: Catégories de matières premières | G4: Unités de mesure
A5: Devise | B5: CAD | D5: Bois et panneaux | G5: unité
A6: Format de coût | B6: Coût avant TPS et TVQ récupérables | D6: Métal et quincaillerie | G6: kg
A7: Seuil critique par défaut | B7: 0 | D7: Emballage | G7: g
A8: Date de dernière mise à jour | B8: =TODAY() | D8: Produits alimentaires | G8: L
D9: Produits d’entretien | G9: m
D10: Textile et fibres | G10: m²
D11: Plastique et composites | G11: boîte
D12: Autre | G12: sac
G13: rouleau
G14: caisse
D15: Types de mouvements | G15: feuille
D16: Entrée - achat | G16: Emplacements
D17: Entrée - retour | G17: Entrepôt principal
D18: Sortie - production | G18: Atelier
D19: Sortie - perte | G19: Réserve
D20: Ajustement positif | G20: Chambre froide
D21: Ajustement négatif | G21: Chez fournisseur
