Workbook

Sheet Tableau de bord
A1: Tableau de bord — Inventaire multi-entrepôts
A2: ="Entreprise : "&'Paramètres'!$B$3&" | Mise à jour : "&TEXT('Paramètres'!$B$4,"yyyy-mm-dd")
A4: Unités totales en stock | C4: Valeur estimée de l’inventaire | E4: Articles à commander | G4: Articles en stock négatif
A5: =SUM('Articles'!$J$5:$J$104) | C5: =SUM('Articles'!$K$5:$K$104) | E5: =COUNTIF('Articles'!$L$5:$L$104,"À commander") | G5: =COUNTIF('Articles'!$L$5:$L$104,"Stock négatif")
A8: Mouvements à corriger | C8: Mouvements à compléter | E8: Contrôle des unités
A9: =COUNTIF('Mouvements'!$K$5:$K$104,"À corriger") | C9: =COUNTIF('Mouvements'!$K$5:$K$104,"À compléter") | E9: =IF(SUM('Articles'!$J$5:$J$104)=SUM(G14:G16),"Concordant","À vérifier")
A12: Articles nécessitant une attention | F12: Sommaire par entrepôt
A13: SKU | B13: Description | C13: Stock total | D13: État | F13: Entrepôt | G13: Unités en stock | H13: Valeur estimée | I13: État
A14: =IFERROR('Articles'!A5,"") | B14: =IFERROR('Articles'!B5,"") | C14: =IFERROR('Articles'!J5,0) | D14: =IFERROR('Articles'!L5,"") | F14: ='Paramètres'!$B$9 | G14: =SUMIFS('Mouvements'!$G$5:$G$104,'Mouvements'!$E$5:$E$104,F14,'Mouvements'!$K$5:$K$104,"Valide")-SUMIFS('Mouvements'!$G$5:$G$104,'Mouvements'!$D$5:$D$104,F14,'Mouvements'!$K$5:$K$104,"Valide") | H14: =IFERROR(SUMPRODUCT(('Articles'!$G$5:$G$104)*((F14='Paramètres'!$B$9))*'Articles'!$E$5:$E$104)+SUMPRODUCT(('Articles'!$H$5:$H$104)*((F14='Paramètres'!$B$10))*'Articles'!$E$5:$E$104)+SUMPRODUCT(('Articles'!$I$5:$I$104)*((F14='Paramètres'!$B$11))*'Articles'!$E$5:$E$104),0) | I14: =IF(G14<0,"À vérifier","OK")
A15: =IFERROR('Articles'!A6,"") | B15: =IFERROR('Articles'!B6,"") | C15: =IFERROR('Articles'!J6,0) | D15: =IFERROR('Articles'!L6,"") | F15: ='Paramètres'!$B$10 | G15: =SUMIFS('Mouvements'!$G$5:$G$104,'Mouvements'!$E$5:$E$104,F15,'Mouvements'!$K$5:$K$104,"Valide")-SUMIFS('Mouvements'!$G$5:$G$104,'Mouvements'!$D$5:$D$104,F15,'Mouvements'!$K$5:$K$104,"Valide") | H15: =IFERROR(SUMPRODUCT(('Articles'!$G$5:$G$104)*((F15='Paramètres'!$B$9))*'Articles'!$E$5:$E$104)+SUMPRODUCT(('Articles'!$H$5:$H$104)*((F15='Paramètres'!$B$10))*'Articles'!$E$5:$E$104)+SUMPRODUCT(('Articles'!$I$5:$I$104)*((F15='Paramètres'!$B$11))*'Articles'!$E$5:$E$104),0) | I15: =IF(G15<0,"À vérifier","OK")
A16: =IFERROR('Articles'!A7,"") | B16: =IFERROR('Articles'!B7,"") | C16: =IFERROR('Articles'!J7,0) | D16: =IFERROR('Articles'!L7,"") | F16: ='Paramètres'!$B$11 | G16: =SUMIFS('Mouvements'!$G$5:$G$104,'Mouvements'!$E$5:$E$104,F16,'Mouvements'!$K$5:$K$104,"Valide")-SUMIFS('Mouvements'!$G$5:$G$104,'Mouvements'!$D$5:$D$104,F16,'Mouvements'!$K$5:$K$104,"Valide") | H16: =IFERROR(SUMPRODUCT(('Articles'!$G$5:$G$104)*((F16='Paramètres'!$B$9))*'Articles'!$E$5:$E$104)+SUMPRODUCT(('Articles'!$H$5:$H$104)*((F16='Paramètres'!$B$10))*'Articles'!$E$5:$E$104)+SUMPRODUCT(('Articles'!$I$5:$I$104)*((F16='Paramètres'!$B$11))*'Articles'!$E$5:$E$104),0) | I16: =IF(G16<0,"À vérifier","OK")
A17: =IFERROR('Articles'!A8,"") | B17: =IFERROR('Articles'!B8,"") | C17: =IFERROR('Articles'!J8,0) | D17: =IFERROR('Articles'!L8,"") | F17: ="" | G17: ="" | H17: ="" | I17: =""
A18: =IFERROR('Articles'!A9,"") | B18: =IFERROR('Articles'!B9,"") | C18: =IFERROR('Articles'!J9,0) | D18: =IFERROR('Articles'!L9,"") | F18: ="" | G18: ="" | H18: ="" | I18: =""
A19: =IFERROR('Articles'!A10,"") | B19: =IFERROR('Articles'!B10,"") | C19: =IFERROR('Articles'!J10,0) | D19: =IFERROR('Articles'!L10,"") | F19: ="" | G19: ="" | H19: ="" | I19: =""
A20: =IFERROR('Articles'!A11,"") | B20: =IFERROR('Articles'!B11,"") | C20: =IFERROR('Articles'!J11,0) | D20: =IFERROR('Articles'!L11,"") | F20: ="" | G20: ="" | H20: ="" | I20: =""
A21: =IFERROR('Articles'!A12,"") | B21: =IFERROR('Articles'!B12,"") | C21: =IFERROR('Articles'!J12,0) | D21: =IFERROR('Articles'!L12,"") | F21: ="" | G21: ="" | H21: ="" | I21: =""
A22: =IFERROR('Articles'!A13,"") | B22: =IFERROR('Articles'!B13,"") | C22: =IFERROR('Articles'!J13,0) | D22: =IFERROR('Articles'!L13,"") | F22: ="" | G22: ="" | H22: ="" | I22: =""
A23: ="" | B23: ="" | C23: ="" | D23: ="" | F23: ="" | G23: ="" | H23: ="" | I23: =""
A24: ="" | B24: ="" | C24: ="" | D24: ="" | F24: ="" | G24: ="" | H24: ="" | I24: =""
A25: ="" | B25: ="" | C25: ="" | D25: ="" | F25: ="" | G25: ="" | H25: ="" | I25: =""
A26: ="" | B26: ="" | C26: ="" | D26: ="" | F26: ="" | G26: ="" | H26: ="" | I26: =""
A27: ="" | B27: ="" | C27: ="" | D27: ="" | F27: ="" | G27: ="" | H27: ="" | I27: =""
A28: ="" | B28: ="" | C28: ="" | D28: ="" | F28: ="" | G28: ="" | H28: ="" | I28: =""
A29: ="" | B29: ="" | C29: ="" | D29: ="" | F29: ="" | G29: ="" | H29: ="" | I29: =""
A30: ="" | B30: ="" | C30: ="" | D30: ="" | F30: ="" | G30: ="" | H30: ="" | I30: =""
A31: ="" | B31: ="" | C31: ="" | D31: ="" | F31: ="" | G31: ="" | H31: ="" | I31: =""
A32: ="" | B32: ="" | C32: ="" | D32: ="" | F32: ="" | G32: ="" | H32: ="" | I32: =""
A33: ="" | B33: ="" | C33: ="" | D33: ="" | F33: ="" | G33: ="" | H33: ="" | I33: =""
A34: ="" | B34: ="" | C34: ="" | D34: ="" | F34: ="" | G34: ="" | H34: ="" | I34: =""
... A101: ="" | B101: ="" | C101: ="" | D101: ="" | F101: ="" | G101: ="" | H101: ="" | I101: =""

Sheet Paramètres
A1: Paramètres de l’inventaire multi-entrepôts
A3: Nom de l’entreprise | B3: Atelier Nordik inc.
A4: Date de mise à jour | B4: =TODAY()
A5: Seuil minimal par défaut | B5: 10
A8: Entrepôts configurés | D8: Types de mouvements | G8: Catégories d’articles
A9: Entrepôt 1 | B9: Montréal | D9: Réception | E9: Entrée de stock dans un entrepôt | G9: Fournitures de bureau
A10: Entrepôt 2 | B10: Laval | D10: Expédition | E10: Sortie de stock d’un entrepôt | G10: Technologie
A11: Entrepôt 3 | B11: Québec | D11: Transfert | E11: Déplacement entre deux entrepôts | G11: Emballage
D12: Ajustement | E12: Correction positive ou négative dans un entrepôt | G12: Entretien
G13: Équipement de sécurité
A14: Consignes d’utilisation
A15: • Saisir tous les mouvements dans la feuille « Mouvements ».
A16: • Un mouvement marqué « À corriger » ou « À compléter » n’est pas inclus dans les stocks calculés.
A17: • Pour une réception, remplir seulement l’entrepôt de destination.
A18: • Pour une expédition, remplir seulement l’entrepôt source.
A19: • Pour un transfert, remplir les deux entrepôts; ils doivent être différents.
A20: • Pour un ajustement, utiliser une quantité positive ou négative et remplir l’entrepôt de destination.
A21: • Les seuils minimaux sont déterminés article par article dans la feuille « Articles ».
A22: • Les coûts unitaires sont des coûts standards servant à estimer la valeur de l’inventaire.

Sheet Articles
A1: Registre des articles
A2: Les stocks sont calculés à partir des mouvements valides seulement.
A4: SKU | B4: Description de l’article | C4: Catégorie | D4: Unité | E4: Coût unitaire standard | F4: Seuil minimal | G4: Stock — Montréal | H4: Stock — Laval | I4: Stock — Québec | J4: Stock total | K4: Valeur estimée | L4: État de réapprovisionnement
A5: ART-1001 | B5: Câble USB-C tressé 1 m | C5: Technologie | D5: unité | E5: 8.5 | F5: 20 | G5: =IF($A5="","",SUMIFS('Mouvements'!$G$5:$G$104,'Mouvements'!$F$5:$F$104,$A5,'Mouvements'!$E$5:$E$104,'Paramètres'!$B$9,'Mouvements'!$K$5:$K$104,"Valide")-SUMIFS('Mouvements'!$G$5:$G$104,'Mouvements'!$F$5:$F$104,$A5,'Mouvements'!$D$5:$D$104,'Paramètres'!$B$9,'Mouvements'!$K$5:$K$104,"Valide")) | H5: =IF($A5="","",SUMIFS('Mouvements'!$G$5:$G$104,'Mouvements'!$F$5:$F$104,$A5,'Mouvements'!$E$5:$E$104,'Paramètres'!$B$10,'Mouvements'!$K$5:$K$104,"Valide")-SUMIFS('Mouvements'!$G$5:$G$104,'Mouvements'!$F$5:$F$104,$A5,'Mouvements'!$D$5:$D$104,'Paramètres'!$B$10,'Mouvements'!$K$5:$K$104,"Valide")) | I5: =IF($A5="","",SUMIFS('Mouvements'!$G$5:$G$104,'Mouvements'!$F$5:$F$104,$A5,'Mouvements'!$E$5:$E$104,'Paramètres'!$B$11,'Mouvements'!$K$5:$K$104,"Valide")-SUMIFS('Mouvements'!$G$5:$G$104,'Mouvements'!$F$5:$F$104,$A5,'Mouvements'!$D$5:$D$104,'Paramètres'!$B$11,'Mouvements'!$K$5:$K$104,"Valide")) | J5: =IF($A5="","",SUM($G5:$I5)) | K5: =IF($A5="","",IFERROR($J5*$E5,0)) | L5: =IF($A5="","",IF($J5<0,"Stock négatif",IF($J5<=$F5,"À commander","OK")))
A6: ART-1002 | B6: Papier blanc 8,5 x 11 po | C6: Fournitures de bureau | D6: boîte | E6: 7.99 | F6: 15 | G6: =IF($A6="","",SUMIFS('Mouvements'!$G$5:$G$104,'Mouvements'!$F$5:$F$104,$A6,'Mouvements'!$E$5:$E$104,'Paramètres'!$B$9,'Mouvements'!$K$5:$K$104,"Valide")-SUMIFS('Mouvements'!$G$5:$G$104,'Mouvements'!$F$5:$F$104,$A6,'Mouvements'!$D$5:$D$104,'Paramètres'!$B$9,'Mouvements'!$K$5:$K$104,"Valide")) | H6: =IF($A6="","",SUMIFS('Mouvements'!$G$5:$G$104,'Mouvements'!$F$5:$F$104,$A6,'Mouvements'!$E$5:$E$104,'Paramètres'!$B$10,'Mouvements'!$K$5:$K$104,"Valide")-SUMIFS('Mouvements'!$G$5:$G$104,'Mouvements'!$F$5:$F$104,$A6,'Mouvements'!$D$5:$D$104,'Paramètres'!$B$10,'Mouvements'!$K$5:$K$104,"Valide")) | I6: =IF($A6="","",SUMIFS('Mouvements'!$G$5:$G$104,'Mouvements'!$F$5:$F$104,$A6,'Mouvements'!$E$5:$E$104,'Paramètres'!$B$11,'Mouvements'!$K$5:$K$104,"Valide")-SUMIFS('Mouvements'!$G$5:$G$104,'Mouvements'!$F$5:$F$104,$A6,'Mouvements'!$D$5:$D$104,'Paramètres'!$B$11,'Mouvements'!$K$5:$K$104,"Valide")) | J6: =IF($A6="","",SUM($G6:$I6)) | K6: =IF($A6="","",IFERROR($J6*$E6,0)) | L6: =IF($A6="","",IF($J6<0,"Stock négatif",IF($J6<=$F6,"À commander","OK")))
A7: ART-1003 | B7: Cartouche d’encre noire compatible | C7: Fournitures de bureau | D7: cartouche | E7: 34.95 | F7: 8 | G7: =IF($A7="","",SUMIFS('Mouvements'!$G$5:$G$104,'Mouvements'!$F$5:$F$104,$A7,'Mouvements'!$E$5:$E$104,'Paramètres'!$B$9,'Mouvements'!$K$5:$K$104,"Valide")-SUMIFS('Mouvements'!$G$5:$G$104,'Mouvements'!$F$5:$F$104,$A7,'Mouvements'!$D$5:$D$104,'Paramètres'!$B$9,'Mouvements'!$K$5:$K$104,"Valide")) | H7: =IF($A7="","",SUMIFS('Mouvements'!$G$5:$G$104,'Mouvements'!$F$5:$F$104,$A7,'Mouvements'!$E$5:$E$104,'Paramètres'!$B$10,'Mouvements'!$K$5:$K$104,"Valide")-SUMIFS('Mouvements'!$G$5:$G$104,'Mouvements'!$F$5:$F$104,$A7,'Mouvements'!$D$5:$D$104,'Paramètres'!$B$10,'Mouvements'!$K$5:$K$104,"Valide")) | I7: =IF($A7="","",SUMIFS('Mouvements'!$G$5:$G$104,'Mouvements'!$F$5:$F$104,$A7,'Mouvements'!$E$5:$E$104,'Paramètres'!$B$11,'Mouvements'!$K$5:$K$104,"Valide")-SUMIFS('Mouvements'!$G$5:$G$104,'Mouvements'!$F$5:$F$104,$A7,'Mouvements'!$D$5:$D$104,'Paramètres'!$B$11,'Mouvements'!$K$5:$K$104,"Valide")) | J7: =IF($A7="","",SUM($G7:$I7)) | K7: =IF($A7="","",IFERROR($J7*$E7,0)) | L7: =IF($A7="","",IF($J7<0,"Stock négatif",IF($J7<=$F7,"À commander","OK")))
A8: ART-1004 | B8: Ruban d’emballage transparent 48 mm | C8: Emballage | D8: rouleau | E8: 4.25 | F8: 12 | G8: =IF($A8="","",SUMIFS('Mouvements'!$G$5:$G$104,'Mouvements'!$F$5:$F$104,$A8,'Mouvements'!$E$5:$E$104,'Paramètres'!$B$9,'Mouvements'!$K$5:$K$104,"Valide")-SUMIFS('Mouvements'!$G$5:$G$104,'Mouvements'!$F$5:$F$104,$A8,'Mouvements'!$D$5:$D$104,'Paramètres'!$B$9,'Mouvements'!$K$5:$K$104,"Valide")) | H8: =IF($A8="","",SUMIFS('Mouvements'!$G$5:$G$104,'Mouvements'!$F$5:$F$104,$A8,'Mouvements'!$E$5:$E$104,'Paramètres'!$B$10,'Mouvements'!$K$5:$K$104,"Valide")-SUMIFS('Mouvements'!$G$5:$G$104,'Mouvements'!$F$5:$F$104,$A8,'Mouvements'!$D$5:$D$104,'Paramètres'!$B$10,'Mouvements'!$K$5:$K$104,"Valide")) | I8: =IF($A8="","",SUMIFS('Mouvements'!$G$5:$G$104,'Mouvements'!$F$5:$F$104,$A8,'Mouvements'!$E$5:$E$104,'Paramètres'!$B$11,'Mouvements'!$K$5:$K$104,"Valide")-SUMIFS('Mouvements'!$G$5:$G$104,'Mouvements'!$F$5:$F$104,$A8,'Mouvements'!$D$5:$D$104,'Paramètres'!$B$11,'Mouvements'!$K$5:$K$104,"Valide")) | J8: =IF($A8="","",SUM($G8:$I8)) | K8: =IF($A8="","",IFERROR($J8*$E8,0)) | L8: =IF($A8="","",IF($J8<0,"Stock négatif",IF($J8<=$F8,"À commander","OK")))
A9: ART-1005 | B9: Boîte d’expédition format moyen | C9: Emballage | D9: unité | E9: 1.85 | F9: 30 | G9: =IF($A9="","",SUMIFS('Mouvements'!$G$5:$G$104,'Mouvements'!$F$5:$F$104,$A9,'Mouvements'!$E$5:$E$104,'Paramètres'!$B$9,'Mouvements'!$K$5:$K$104,"Valide")-SUMIFS('Mouvements'!$G$5:$G$104,'Mouvements'!$F$5:$F$104,$A9,'Mouvements'!$D$5:$D$104,'Paramètres'!$B$9,'Mouvements'!$K$5:$K$104,"Valide")) | H9: =IF($A9="","",SUMIFS('Mouvements'!$G$5:$G$104,'Mouvements'!$F$5:$F$104,$A9,'Mouvements'!$E$5:$E$104,'Paramètres'!$B$10,'Mouvements'!$K$5:$K$104,"Valide")-SUMIFS('Mouvements'!$G$5:$G$104,'Mouvements'!$F$5:$F$104,$A9,'Mouvements'!$D$5:$D$104,'Paramètres'!$B$10,'Mouvements'!$K$5:$K$104,"Valide")) | I9: =IF($A9="","",SUMIFS('Mouvements'!$G$5:$G$104,'Mouvements'!$F$5:$F$104,$A9,'Mouvements'!$E$5:$E$104,'Paramètres'!$B$11,'Mouvements'!$K$5:$K$104,"Valide")-SUMIFS('Mouvements'!$G$5:$G$104,'Mouvements'!$F$5:$F$104,$A9,'Mouvements'!$D$5:$D$104,'Paramètres'!$B$11,'Mouvements'!$K$5:$K$104,"Valide")) | J9: =IF($A9="","",SUM($G9:$I9)) | K9: =IF($A9="","",IFERROR($J9*$E9,0)) | L9: =IF($A9="","",IF($J9<0,"Stock négatif",IF($J9<=$F9,"À commander","OK")))
A10: ART-1006 | B10: Désinfectant pour surfaces 4 L | C10: Entretien | D10: contenant | E10: 18.75 | F10: 6 | G10: =IF($A10="","",SUMIFS('Mouvements'!$G$5:$G$104,'Mouvements'!$F$5:$F$104,$A10,'Mouvements'!$E$5:$E$104,'Paramètres'!$B$9,'Mouvements'!$K$5:$K$104,"Valide")-SUMIFS('Mouvements'!$G$5:$G$104,'Mouvements'!$F$5:$F$104,$A10,'Mouvements'!$D$5:$D$104,'Paramètres'!$B$9,'Mouvements'!$K$5:$K$104,"Valide")) | H10: =IF($A10="","",SUMIFS('Mouvements'!$G$5:$G$104,'Mouvements'!$F$5:$F$104,$A10,'Mouvements'!$E$5:$E$104,'Paramètres'!$B$10,'Mouvements'!$K$5:$K$104,"Valide")-SUMIFS('Mouvements'!$G$5:$G$104,'Mouvements'!$F$5:$F$104,$A10,'Mouvements'!$D$5:$D$104,'Paramètres'!$B$10,'Mouvements'!$K$5:$K$104,"Valide")) | I10: =IF($A10="","",SUMIFS('Mouvements'!$G$5:$G$104,'Mouvements'!$F$5:$F$104,$A10,'Mouvements'!$E$5:$E$104,'Paramètres'!$B$11,'Mouvements'!$K$5:$K$104,"Valide")-SUMIFS('Mouvements'!$G$5:$G$104,'Mouvements'!$F$5:$F$104,$A10,'Mouvements'!$D$5:$D$104,'Paramètres'!$B$11,'Mouvements'!$K$5:$K$104,"Valide")) | J10: =IF($A10="","",SUM($G10:$I10)) | K10: =IF($A10="","",IFERROR($J10*$E10,0)) | L10: =IF($A10="","",IF($J10<0,"Stock négatif",IF($J10<=$F10,"À commander","OK")))
A11: ART-1007 | B11: Gants de nitrile moyen, boîte de 100 | C11: Équipement de sécurité | D11: boîte | E11: 12.4 | F11: 10 | G11: =IF($A11="","",SUMIFS('Mouvements'!$G$5:$G$104,'Mouvements'!$F$5:$F$104,$A11,'Mouvements'!$E$5:$E$104,'Paramètres'!$B$9,'Mouvements'!$K$5:$K$104,"Valide")-SUMIFS('Mouvements'!$G$5:$G$104,'Mouvements'!$F$5:$F$104,$A11,'Mouvements'!$D$5:$D$104,'Paramètres'!$B$9,'Mouvements'!$K$5:$K$104,"Valide")) | H11: =IF($A11="","",SUMIFS('Mouvements'!$G$5:$G$104,'Mouvements'!$F$5:$F$104,$A11,'Mouvements'!$E$5:$E$104,'Paramètres'!$B$10,'Mouvements'!$K$5:$K$104,"Valide")-SUMIFS('Mouvements'!$G$5:$G$104,'Mouvements'!$F$5:$F$104,$A11,'Mouvements'!$D$5:$D$104,'Paramètres'!$B$10,'Mouvements'!$K$5:$K$104,"Valide")) | I11: =IF($A11="","",SUMIFS('Mouvements'!$G$5:$G$104,'Mouvements'!$F$5:$F$104,$A11,'Mouvements'!$E$5:$E$104,'Paramètres'!$B$11,'Mouvements'!$K$5:$K$104,"Valide")-SUMIFS('Mouvements'!$G$5:$G$104,'Mouvements'!$F$5:$F$104,$A11,'Mouvements'!$D$5:$D$104,'Paramètres'!$B$11,'Mouvements'!$K$5:$K$104,"Valide")) | J11: =IF($A11="","",SUM($G11:$I11)) | K11: =IF($A11="","",IFERROR($J11*$E11,0)) | L11: =IF($A11="","",IF($J11<0,"Stock négatif",IF($J11<=$F11,"À commander","OK")))
A12: ART-1008 | B12: Clavier sans fil compact | C12: Technologie | D12: unité | E12: 39.99 | F12: 5 | G12: =IF($A12="","",SUMIFS('Mouvements'!$G$5:$G$104,'Mouvements'!$F$5:$F$104,$A12,'Mouvements'!$E$5:$E$104,'Paramètres'!$B$9,'Mouvements'!$K$5:$K$104,"Valide")-SUMIFS('Mouvements'!$G$5:$G$104,'Mouvements'!$F$5:$F$104,$A12,'Mouvements'!$D$5:$D$104,'Paramètres'!$B$9,'Mouvements'!$K$5:$K$104,"Valide")) | H12: =IF($A12="","",SUMIFS('Mouvements'!$G$5:$G$104,'Mouvements'!$F$5:$F$104,$A12,'Mouvements'!$E$5:$E$104,'Paramètres'!$B$10,'Mouvements'!$K$5:$K$104,"Valide")-SUMIFS('Mouvements'!$G$5:$G$104,'Mouvements'!$F$5:$F$104,$A12,'Mouvements'!$D$5:$D$104,'Paramètres'!$B$10,'Mouvements'!$K$5:$K$104,"Valide")) | I12: =IF($A12="","",SUMIFS('Mouvements'!$G$5:$G$104,'Mouvements'!$F$5:$F$104,$A12,'Mouvements'!$E$5:$E$104,'Paramètres'!$B$11,'Mouvements'!$K$5:$K$104,"Valide")-SUMIFS('Mouvements'!$G$5:$G$104,'Mouvements'!$F$5:$F$104,$A12,'Mouvements'!$D$5:$D$104,'Paramètres'!$B$11,'Mouvements'!$K$5:$K$104,"Valide")) | J12: =IF($A12="","",SUM($G12:$I12)) | K12: =IF($A12="","",IFERROR($J12*$E12,0)) | L12: =IF($A12="","",IF($J12<0,"Stock négatif",IF($J12<=$F12,"À commander","OK")))
A13: ART-1009 | B13: Étiquettes thermiques 4 x 6 po | C13: Consommables | D13: rouleau | E13: 16.5 | F13: 10 | G13: =IF($A13="","",SUMIFS('Mouvements'!$G$5:$G$104,'Mouvements'!$F$5:$F$104,$A13,'Mouvements'!$E$5:$E$104,'Paramètres'!$B$9,'Mouvements'!$K$5:$K$104,"Valide")-SUMIFS('Mouvements'!$G$5:$G$104,'Mouvements'!$F$5:$F$104,$A13,'Mouvements'!$D$5:$D$104,'Paramètres'!$B$9,'Mouvements'!$K$5:$K$104,"Valide")) | H13: =IF($A13="","",SUMIFS('Mouvements'!$G$5:$G$104,'Mouvements'!$F$5:$F$104,$A13,'Mouvements'!$E$5:$E$104,'Paramètres'!$B$10,'Mouvements'!$K$5:$K$104,"Valide")-SUMIFS('Mouvements'!$G$5:$G$104,'Mouvements'!$F$5:$F$104,$A13,'Mouvements'!$D$5:$D$104,'Paramètres'!$B$10,'Mouvements'!$K$5:$K$104,"Valide")) | I13: =IF($A13="","",SUMIFS('Mouvements'!$G$5:$G$104,'Mouvements'!$F$5:$F$104,$A13,'Mouvements'!$E$5:$E$104,'Paramètres'!$B$11,'Mouvements'!$K$5:$K$104,"Valide")-SUMIFS('Mouvements'!$G$5:$G$104,'Mouvements'!$F$5:$F$104,$A13,'Mouvements'!$D$5:$D$104,'Paramètres'!$B$11,'Mouvements'!$K$5:$K$104,"Valide")) | J13: =IF($A13="","",SUM($G13:$I13)) | K13: =IF($A13="","",IFERROR($J13*$E13,0)) | L13: =IF($A13="","",IF($J13<0,"Stock négatif",IF($J13<=$F13,"À commander","OK")))
G14: =IF($A14="","",SUMIFS('Mouvements'!$G$5:$G$104,'Mouvements'!$F$5:$F$104,$A14,'Mouvements'!$E$5:$E$104,'Paramètres'!$B$9,'Mouvements'!$K$5:$K$104,"Valide")-SUMIFS('Mouvements'!$G$5:$G$104,'Mouvements'!$F$5:$F$104,$A14,'Mouvements'!$D$5:$D$104,'Paramètres'!$B$9,'Mouvements'!$K$5:$K$104,"Valide")) | H14: =IF($A14="","",SUMIFS('Mouvements'!$G$5:$G$104,'Mouvements'!$F$5:$F$104,$A14,'Mouvements'!$E$5:$E$104,'Paramètres'!$B$10,'Mouvements'!$K$5:$K$104,"Valide")-SUMIFS('Mouvements'!$G$5:$G$104,'Mouvements'!$F$5:$F$104,$A14,'Mouvements'!$D$5:$D$104,'Paramètres'!$B$10,'Mouvements'!$K$5:$K$104,"Valide")) | I14: =IF($A14="","",SUMIFS('Mouvements'!$G$5:$G$104,'Mouvements'!$F$5:$F$104,$A14,'Mouvements'!$E$5:$E$104,'Paramètres'!$B$11,'Mouvements'!$K$5:$K$104,"Valide")-SUMIFS('Mouvements'!$G$5:$G$104,'Mouvements'!$F$5:$F$104,$A14,'Mouvements'!$D$5:$D$104,'Paramètres'!$B$11,'Mouvements'!$K$5:$K$104,"Valide")) | J14: =IF($A14="","",SUM($G14:$I14)) | K14: =IF($A14="","",IFERROR($J14*$E14,0)) | L14: =IF($A14="","",IF($J14<0,"Stock négatif",IF($J14<=$F14,"À commander","OK")))
G15: =IF($A15="","",SUMIFS('Mouvements'!$G$5:$G$104,'Mouvements'!$F$5:$F$104,$A15,'Mouvements'!$E$5:$E$104,'Paramètres'!$B$9,'Mouvements'!$K$5:$K$104,"Valide")-SUMIFS('Mouvements'!$G$5:$G$104,'Mouvements'!$F$5:$F$104,$A15,'Mouvements'!$D$5:$D$104,'Paramètres'!$B$9,'Mouvements'!$K$5:$K$104,"Valide")) | H15: =IF($A15="","",SUMIFS('Mouvements'!$G$5:$G$104,'Mouvements'!$F$5:$F$104,$A15,'Mouvements'!$E$5:$E$104,'Paramètres'!$B$10,'Mouvements'!$K$5:$K$104,"Valide")-SUMIFS('Mouvements'!$G$5:$G$104,'Mouvements'!$F$5:$F$104,$A15,'Mouvements'!$D$5:$D$104,'Paramètres'!$B$10,'Mouvements'!$K$5:$K$104,"Valide")) | I15: =IF($A15="","",SUMIFS('Mouvements'!$G$5:$G$104,'Mouvements'!$F$5:$F$104,$A15,'Mouvements'!$E$5:$E$104,'Paramètres'!$B$11,'Mouvements'!$K$5:$K$104,"Valide")-SUMIFS('Mouvements'!$G$5:$G$104,'Mouvements'!$F$5:$F$104,$A15,'Mouvements'!$D$5:$D$104,'Paramètres'!$B$11,'Mouvements'!$K$5:$K$104,"Valide")) | J15: =IF($A15="","",SUM($G15:$I15)) | K15: =IF($A15="","",IFERROR($J15*$E15,0)) | L15: =IF($A15="","",IF($J15<0,"Stock négatif",IF($J15<=$F15,"À commander","OK")))
G16: =IF($A16="","",SUMIFS('Mouvements'!$G$5:$G$104,'Mouvements'!$F$5:$F$104,$A16,'Mouvements'!$E$5:$E$104,'Paramètres'!$B$9,'Mouvements'!$K$5:$K$104,"Valide")-SUMIFS('Mouvements'!$G$5:$G$104,'Mouvements'!$F$5:$F$104,$A16,'Mouvements'!$D$5:$D$104,'Paramètres'!$B$9,'Mouvements'!$K$5:$K$104,"Valide")) | H16: =IF($A16="","",SUMIFS('Mouvements'!$G$5:$G$104,'Mouvements'!$F$5:$F$104,$A16,'Mouvements'!$E$5:$E$104,'Paramètres'!$B$10,'Mouvements'!$K$5:$K$104,"Valide")-SUMIFS('Mouvements'!$G$5:$G$104,'Mouvements'!$F$5:$F$104,$A16,'Mouvements'!$D$5:$D$104,'Paramètres'!$B$10,'Mouvements'!$K$5:$K$104,"Valide")) | I16: =IF($A16="","",SUMIFS('Mouvements'!$G$5:$G$104,'Mouvements'!$F$5:$F$104,$A16,'Mouvements'!$E$5:$E$104,'Paramètres'!$B$11,'Mouvements'!$K$5:$K$104,"Valide")-SUMIFS('Mouvements'!$G$5:$G$104,'Mouvements'!$F$5:$F$104,$A16,'Mouvements'!$D$5:$D$104,'Paramètres'!$B$11,'Mouvements'!$K$5:$K$104,"Valide")) | J16: =IF($A16="","",SUM($G16:$I16)) | K16: =IF($A16="","",IFERROR($J16*$E16,0)) | L16: =IF($A16="","",IF($J16<0,"Stock négatif",IF($J16<=$F16,"À commander","OK")))
G17: =IF($A17="","",SUMIFS('Mouvements'!$G$5:$G$104,'Mouvements'!$F$5:$F$104,$A17,'Mouvements'!$E$5:$E$104,'Paramètres'!$B$9,'Mouvements'!$K$5:$K$104,"Valide")-SUMIFS('Mouvements'!$G$5:$G$104,'Mouvements'!$F$5:$F$104,$A17,'Mouvements'!$D$5:$D$104,'Paramètres'!$B$9,'Mouvements'!$K$5:$K$104,"Valide")) | H17: =IF($A17="","",SUMIFS('Mouvements'!$G$5:$G$104,'Mouvements'!$F$5:$F$104,$A17,'Mouvements'!$E$5:$E$104,'Paramètres'!$B$10,'Mouvements'!$K$5:$K$104,"Valide")-SUMIFS('Mouvements'!$G$5:$G$104,'Mouvements'!$F$5:$F$104,$A17,'Mouvements'!$D$5:$D$104,'Paramètres'!$B$10,'Mouvements'!$K$5:$K$104,"Valide")) | I17: =IF($A17="","",SUMIFS('Mouvements'!$G$5:$G$104,'Mouvements'!$F$5:$F$104,$A17,'Mouvements'!$E$5:$E$104,'Paramètres'!$B$11,'Mouvements'!$K$5:$K$104,"Valide")-SUMIFS('Mouvements'!$G$5:$G$104,'Mouvements'!$F$5:$F$104,$A17,'Mouvements'!$D$5:$D$104,'Paramètres'!$B$11,'Mouvements'!$K$5:$K$104,"Valide")) | J17: =IF($A17="","",SUM($G17:$I17)) | K17: =IF($A17="","",IFERROR($J17*$E17,0)) | L17: =IF($A17="","",IF($J17<0,"Stock négatif",IF($J17<=$F17,"À commander","OK")))
G18: =IF($A18="","",SUMIFS('Mouvements'!$G$5:$G$104,'Mouvements'!$F$5:$F$104,$A18,'Mouvements'!$E$5:$E$104,'Paramètres'!$B$9,'Mouvements'!$K$5:$K$104,"Valide")-SUMIFS('Mouvements'!$G$5:$G$104,'Mouvements'!$F$5:$F$104,$A18,'Mouvements'!$D$5:$D$104,'Paramètres'!$B$9,'Mouvements'!$K$5:$K$104,"Valide")) | H18: =IF($A18="","",SUMIFS('Mouvements'!$G$5:$G$104,'Mouvements'!$F$5:$F$104,$A18,'Mouvements'!$E$5:$E$104,'Paramètres'!$B$10,'Mouvements'!$K$5:$K$104,"Valide")-SUMIFS('Mouvements'!$G$5:$G$104,'Mouvements'!$F$5:$F$104,$A18,'Mouvements'!$D$5:$D$104,'Paramètres'!$B$10,'Mouvements'!$K$5:$K$104,"Valide")) | I18: =IF($A18="","",SUMIFS('Mouvements'!$G$5:$G$104,'Mouvements'!$F$5:$F$104,$A18,'Mouvements'!$E$5:$E$104,'Paramètres'!$B$11,'Mouvements'!$K$5:$K$104,"Valide")-SUMIFS('Mouvements'!$G$5:$G$104,'Mouvements'!$F$5:$F$104,$A18,'Mouvements'!$D$5:$D$104,'Paramètres'!$B$11,'Mouvements'!$K$5:$K$104,"Valide")) | J18: =IF($A18="","",SUM($G18:$I18)) | K18: =IF($A18="","",IFERROR($J18*$E18,0)) | L18: =IF($A18="","",IF($J18<0,"Stock négatif",IF($J18<=$F18,"À commander","OK")))
G19: =IF($A19="","",SUMIFS('Mouvements'!$G$5:$G$104,'Mouvements'!$F$5:$F$104,$A19,'Mouvements'!$E$5:$E$104,'Paramètres'!$B$9,'Mouvements'!$K$5:$K$104,"Valide")-SUMIFS('Mouvements'!$G$5:$G$104,'Mouvements'!$F$5:$F$104,$A19,'Mouvements'!$D$5:$D$104,'Paramètres'!$B$9,'Mouvements'!$K$5:$K$104,"Valide")) | H19: =IF($A19="","",SUMIFS('Mouvements'!$G$5:$G$104,'Mouvements'!$F$5:$F$104,$A19,'Mouvements'!$E$5:$E$104,'Paramètres'!$B$10,'Mouvements'!$K$5:$K$104,"Valide")-SUMIFS('Mouvements'!$G$5:$G$104,'Mouvements'!$F$5:$F$104,$A19,'Mouvements'!$D$5:$D$104,'Paramètres'!$B$10,'Mouvements'!$K$5:$K$104,"Valide")) | I19: =IF($A19="","",SUMIFS('Mouvements'!$G$5:$G$104,'Mouvements'!$F$5:$F$104,$A19,'Mouvements'!$E$5:$E$104,'Paramètres'!$B$11,'Mouvements'!$K$5:$K$104,"Valide")-SUMIFS('Mouvements'!$G$5:$G$104,'Mouvements'!$F$5:$F$104,$A19,'Mouvements'!$D$5:$D$104,'Paramètres'!$B$11,'Mouvements'!$K$5:$K$104,"Valide")) | J19: =IF($A19="","",SUM($G19:$I19)) | K19: =IF($A19="","",IFERROR($J19*$E19,0)) | L19: =IF($A19="","",IF($J19<0,"Stock négatif",IF($J19<=$F19,"À commander","OK")))
G20: =IF($A20="","",SUMIFS('Mouvements'!$G$5:$G$104,'Mouvements'!$F$5:$F$104,$A20,'Mouvements'!$E$5:$E$104,'Paramètres'!$B$9,'Mouvements'!$K$5:$K$104,"Valide")-SUMIFS('Mouvements'!$G$5:$G$104,'Mouvements'!$F$5:$F$104,$A20,'Mouvements'!$D$5:$D$104,'Paramètres'!$B$9,'Mouvements'!$K$5:$K$104,"Valide")) | H20: =IF($A20="","",SUMIFS('Mouvements'!$G$5:$G$104,'Mouvements'!$F$5:$F$104,$A20,'Mouvements'!$E$5:$E$104,'Paramètres'!$B$10,'Mouvements'!$K$5:$K$104,"Valide")-SUMIFS('Mouvements'!$G$5:$G$104,'Mouvements'!$F$5:$F$104,$A20,'Mouvements'!$D$5:$D$104,'Paramètres'!$B$10,'Mouvements'!$K$5:$K$104,"Valide")) | I20: =IF($A20="","",SUMIFS('Mouvements'!$G$5:$G$104,'Mouvements'!$F$5:$F$104,$A20,'Mouvements'!$E$5:$E$104,'Paramètres'!$B$11,'Mouvements'!$K$5:$K$104,"Valide")-SUMIFS('Mouvements'!$G$5:$G$104,'Mouvements'!$F$5:$F$104,$A20,'Mouvements'!$D$5:$D$104,'Paramètres'!$B$11,'Mouvements'!$K$5:$K$104,"Valide")) | J20: =IF($A20="","",SUM($G20:$I20)) | K20: =IF($A20="","",IFERROR($J20*$E20,0)) | L20: =IF($A20="","",IF($J20<0,"Stock négatif",IF($J20<=$F20,"À commander","OK")))
G21: =IF($A21="","",SUMIFS('Mouvements'!$G$5:$G$104,'Mouvements'!$F$5:$F$104,$A21,'Mouvements'!$E$5:$E$104,'Paramètres'!$B$9,'Mouvements'!$K$5:$K$104,"Valide")-SUMIFS('Mouvements'!$G$5:$G$104,'Mouvements'!$F$5:$F$104,$A21,'Mouvements'!$D$5:$D$104,'Paramètres'!$B$9,'Mouvements'!$K$5:$K$104,"Valide")) | H21: =IF($A21="","",SUMIFS('Mouvements'!$G$5:$G$104,'Mouvements'!$F$5:$F$104,$A21,'Mouvements'!$E$5:$E$104,'Paramètres'!$B$10,'Mouvements'!$K$5:$K$104,"Valide")-SUMIFS('Mouvements'!$G$5:$G$104,'Mouvements'!$F$5:$F$104,$A21,'Mouvements'!$D$5:$D$104,'Paramètres'!$B$10,'Mouvements'!$K$5:$K$104,"Valide")) | I21: =IF($A21="","",SUMIFS('Mouvements'!$G$5:$G$104,'Mouvements'!$F$5:$F$104,$A21,'Mouvements'!$E$5:$E$104,'Paramètres'!$B$11,'Mouvements'!$K$5:$K$104,"Valide")-SUMIFS('Mouvements'!$G$5:$G$104,'Mouvements'!$F$5:$F$104,$A21,'Mouvements'!$D$5:$D$104,'Paramètres'!$B$11,'Mouvements'!$K$5:$K$104,"Valide")) | J21: =IF($A21="","",SUM($G21:$I21)) | K21: =IF($A21="","",IFERROR($J21*$E21,0)) | L21: =IF($A21="","",IF($J21<0,"Stock négatif",IF($J21<=$F21,"À commander","OK")))
G22: =IF($A22="","",SUMIFS('Mouvements'!$G$5:$G$104,'Mouvements'!$F$5:$F$104,$A22,'Mouvements'!$E$5:$E$104,'Paramètres'!$B$9,'Mouvements'!$K$5:$K$104,"Valide")-SUMIFS('Mouvements'!$G$5:$G$104,'Mouvements'!$F$5:$F$104,$A22,'Mouvements'!$D$5:$D$104,'Paramètres'!$B$9,'Mouvements'!$K$5:$K$104,"Valide")) | H22: =IF($A22="","",SUMIFS('Mouvements'!$G$5:$G$104,'Mouvements'!$F$5:$F$104,$A22,'Mouvements'!$E$5:$E$104,'Paramètres'!$B$10,'Mouvements'!$K$5:$K$104,"Valide")-SUMIFS('Mouvements'!$G$5:$G$104,'Mouvements'!$F$5:$F$104,$A22,'Mouvements'!$D$5:$D$104,'Paramètres'!$B$10,'Mouvements'!$K$5:$K$104,"Valide")) | I22: =IF($A22="","",SUMIFS('Mouvements'!$G$5:$G$104,'Mouvements'!$F$5:$F$104,$A22,'Mouvements'!$E$5:$E$104,'Paramètres'!$B$11,'Mouvements'!$K$5:$K$104,"Valide")-SUMIFS('Mouvements'!$G$5:$G$104,'Mouvements'!$F$5:$F$104,$A22,'Mouvements'!$D$5:$D$104,'Paramètres'!$B$11,'Mouvements'!$K$5:$K$104,"Valide")) | J22: =IF($A22="","",SUM($G22:$I22)) | K22: =IF($A22="","",IFERROR($J22*$E22,0)) | L22: =IF($A22="","",IF($J22<0,"Stock négatif",IF($J22<=$F22,"À commander","OK")))
G23: =IF($A23="","",SUMIFS('Mouvements'!$G$5:$G$104,'Mouvements'!$F$5:$F$104,$A23,'Mouvements'!$E$5:$E$104,'Paramètres'!$B$9,'Mouvements'!$K$5:$K$104,"Valide")-SUMIFS('Mouvements'!$G$5:$G$104,'Mouvements'!$F$5:$F$104,$A23,'Mouvements'!$D$5:$D$104,'Paramètres'!$B$9,'Mouvements'!$K$5:$K$104,"Valide")) | H23: =IF($A23="","",SUMIFS('Mouvements'!$G$5:$G$104,'Mouvements'!$F$5:$F$104,$A23,'Mouvements'!$E$5:$E$104,'Paramètres'!$B$10,'Mouvements'!$K$5:$K$104,"Valide")-SUMIFS('Mouvements'!$G$5:$G$104,'Mouvements'!$F$5:$F$104,$A23,'Mouvements'!$D$5:$D$104,'Paramètres'!$B$10,'Mouvements'!$K$5:$K$104,"Valide")) | I23: =IF($A23="","",SUMIFS('Mouvements'!$G$5:$G$104,'Mouvements'!$F$5:$F$104,$A23,'Mouvements'!$E$5:$E$104,'Paramètres'!$B$11,'Mouvements'!$K$5:$K$104,"Valide")-SUMIFS('Mouvements'!$G$5:$G$104,'Mouvements'!$F$5:$F$104,$A23,'Mouvements'!$D$5:$D$104,'Paramètres'!$B$11,'Mouvements'!$K$5:$K$104,"Valide")) | J23: =IF($A23="","",SUM($G23:$I23)) | K23: =IF($A23="","",IFERROR($J23*$E23,0)) | L23: =IF($A23="","",IF($J23<0,"Stock négatif",IF($J23<=$F23,"À commander","OK")))
G24: =IF($A24="","",SUMIFS('Mouvements'!$G$5:$G$104,'Mouvements'!$F$5:$F$104,$A24,'Mouvements'!$E$5:$E$104,'Paramètres'!$B$9,'Mouvements'!$K$5:$K$104,"Valide")-SUMIFS('Mouvements'!$G$5:$G$104,'Mouvements'!$F$5:$F$104,$A24,'Mouvements'!$D$5:$D$104,'Paramètres'!$B$9,'Mouvements'!$K$5:$K$104,"Valide")) | H24: =IF($A24="","",SUMIFS('Mouvements'!$G$5:$G$104,'Mouvements'!$F$5:$F$104,$A24,'Mouvements'!$E$5:$E$104,'Paramètres'!$B$10,'Mouvements'!$K$5:$K$104,"Valide")-SUMIFS('Mouvements'!$G$5:$G$104,'Mouvements'!$F$5:$F$104,$A24,'Mouvements'!$D$5:$D$104,'Paramètres'!$B$10,'Mouvements'!$K$5:$K$104,"Valide")) | I24: =IF($A24="","",SUMIFS('Mouvements'!$G$5:$G$104,'Mouvements'!$F$5:$F$104,$A24,'Mouvements'!$E$5:$E$104,'Paramètres'!$B$11,'Mouvements'!$K$5:$K$104,"Valide")-SUMIFS('Mouvements'!$G$5:$G$104,'Mouvements'!$F$5:$F$104,$A24,'Mouvements'!$D$5:$D$104,'Paramètres'!$B$11,'Mouvements'!$K$5:$K$104,"Valide")) | J24: =IF($A24="","",SUM($G24:$I24)) | K24: =IF($A24="","",IFERROR($J24*$E24,0)) | L24: =IF($A24="","",IF($J24<0,"Stock négatif",IF($J24<=$F24,"À commander","OK")))
G25: =IF($A25="","",SUMIFS('Mouvements'!$G$5:$G$104,'Mouvements'!$F$5:$F$104,$A25,'Mouvements'!$E$5:$E$104,'Paramètres'!$B$9,'Mouvements'!$K$5:$K$104,"Valide")-SUMIFS('Mouvements'!$G$5:$G$104,'Mouvements'!$F$5:$F$104,$A25,'Mouvements'!$D$5:$D$104,'Paramètres'!$B$9,'Mouvements'!$K$5:$K$104,"Valide")) | H25: =IF($A25="","",SUMIFS('Mouvements'!$G$5:$G$104,'Mouvements'!$F$5:$F$104,$A25,'Mouvements'!$E$5:$E$104,'Paramètres'!$B$10,'Mouvements'!$K$5:$K$104,"Valide")-SUMIFS('Mouvements'!$G$5:$G$104,'Mouvements'!$F$5:$F$104,$A25,'Mouvements'!$D$5:$D$104,'Paramètres'!$B$10,'Mouvements'!$K$5:$K$104,"Valide")) | I25: =IF($A25="","",SUMIFS('Mouvements'!$G$5:$G$104,'Mouvements'!$F$5:$F$104,$A25,'Mouvements'!$E$5:$E$104,'Paramètres'!$B$11,'Mouvements'!$K$5:$K$104,"Valide")-SUMIFS('Mouvements'!$G$5:$G$104,'Mouvements'!$F$5:$F$104,$A25,'Mouvements'!$D$5:$D$104,'Paramètres'!$B$11,'Mouvements'!$K$5:$K$104,"Valide")) | J25: =IF($A25="","",SUM($G25:$I25)) | K25: =IF($A25="","",IFERROR($J25*$E25,0)) | L25: =IF($A25="","",IF($J25<0,"Stock négatif",IF($J25<=$F25,"À commander","OK")))
... G104: =IF($A104="","",SUMIFS('Mouvements'!$G$5:$G$104,'Mouvements'!$F$5:$F$104,$A104,'Mouvements'!$E$5:$E$104,'Paramètres'!$B$9,'Mouvements'!$K$5:$K$104,"Valide")-SUMIFS('Mouvements'!$G$5:$G$104,'Mouvements'!$F$5:$F$104,$A104,'Mouvements'!$D$5:$D$104,'Paramètres'!$B$9,'Mouvements'!$K$5:$K$104,"Valide")) | H104: =IF($A104="","",SUMIFS('Mouvements'!$G$5:$G$104,'Mouvements'!$F$5:$F$104,$A104,'Mouvements'!$E$5:$E$104,'Paramètres'!$B$10,'Mouvements'!$K$5:$K$104,"Valide")-SUMIFS('Mouvements'!$G$5:$G$104,'Mouvements'!$F$5:$F$104,$A104,'Mouvements'!$D$5:$D$104,'Paramètres'!$B$10,'Mouvements'!$K$5:$K$104,"Valide")) | I104: =IF($A104="","",SUMIFS('Mouvements'!$G$5:$G$104,'Mouvements'!$F$5:$F$104,$A104,'Mouvements'!$E$5:$E$104,'Paramètres'!$B$11,'Mouvements'!$K$5:$K$104,"Valide")-SUMIFS('Mouvements'!$G$5:$G$104,'Mouvements'!$F$5:$F$104,$A104,'Mouvements'!$D$5:$D$104,'Paramètres'!$B$11,'Mouvements'!$K$5:$K$104,"Valide")) | J104: =IF($A104="","",SUM($G104:$I104)) | K104: =IF($A104="","",IFERROR($J104*$E104,0)) | L104: =IF($A104="","",IF($J104<0,"Stock négatif",IF($J104<=$F104,"À commander","OK")))

Sheet Mouvements
A1: Journal des mouvements d’inventaire
A2: Seuls les mouvements dont l’état est « Valide » sont inclus dans le calcul des stocks.
A4: No mouvement | B4: Date | C4: Type de mouvement | D4: Entrepôt source | E4: Entrepôt destination | F4: SKU | G4: Quantité | H4: Coût unitaire standard | I4: No document | J4: Notes | K4: État de validation | L4: Valeur estimée du mouvement
A5: MOUV-2026-001 | B5: 46249 | C5: Réception | E5: Montréal | F5: ART-1001 | G5: 60 | H5: =IF($F5="","",IFERROR(INDEX('Articles'!$E$5:$E$104,MATCH($F5,'Articles'!$A$5:$A$104,0)),0)) | I5: Réception fournisseur | K5: =IF(OR($B5="",$C5="",$F5="",$G5=""),"À compléter",IF(OR(AND($C5="Réception",$D5="",$E5<>"",$G5>0),AND($C5="Expédition",$D5<>"",$E5="",$G5>0),AND($C5="Transfert",$D5<>"",$E5<>"",$D5<>$E5,$G5>0),AND($C5="Ajustement",$D5="",$E5<>"",$G5<>0)),"Valide","À corriger")) | L5: =IF($G5="","",IFERROR($G5*$H5,0))
A6: MOUV-2026-002 | B6: 46250 | C6: Transfert | D6: Montréal | E6: Laval | F6: ART-1001 | G6: 15 | H6: =IF($F6="","",IFERROR(INDEX('Articles'!$E$5:$E$104,MATCH($F6,'Articles'!$A$5:$A$104,0)),0)) | I6: Réapprovisionnement de Laval | K6: =IF(OR($B6="",$C6="",$F6="",$G6=""),"À compléter",IF(OR(AND($C6="Réception",$D6="",$E6<>"",$G6>0),AND($C6="Expédition",$D6<>"",$E6="",$G6>0),AND($C6="Transfert",$D6<>"",$E6<>"",$D6<>$E6,$G6>0),AND($C6="Ajustement",$D6="",$E6<>"",$G6<>0)),"Valide","À corriger")) | L6: =IF($G6="","",IFERROR($G6*$H6,0))
A7: MOUV-2026-003 | B7: 46252 | C7: Expédition | D7: Laval | F7: ART-1001 | G7: 4 | H7: =IF($F7="","",IFERROR(INDEX('Articles'!$E$5:$E$104,MATCH($F7,'Articles'!$A$5:$A$104,0)),0)) | I7: Commande client expédiée | K7: =IF(OR($B7="",$C7="",$F7="",$G7=""),"À compléter",IF(OR(AND($C7="Réception",$D7="",$E7<>"",$G7>0),AND($C7="Expédition",$D7<>"",$E7="",$G7>0),AND($C7="Transfert",$D7<>"",$E7<>"",$D7<>$E7,$G7>0),AND($C7="Ajustement",$D7="",$E7<>"",$G7<>0)),"Valide","À corriger")) | L7: =IF($G7="","",IFERROR($G7*$H7,0))
A8: MOUV-2026-004 | B8: 46253 | C8: Réception | E8: Québec | F8: ART-1002 | G8: 40 | H8: =IF($F8="","",IFERROR(INDEX('Articles'!$E$5:$E$104,MATCH($F8,'Articles'!$A$5:$A$104,0)),0)) | I8: Fournitures administratives | K8: =IF(OR($B8="",$C8="",$F8="",$G8=""),"À compléter",IF(OR(AND($C8="Réception",$D8="",$E8<>"",$G8>0),AND($C8="Expédition",$D8<>"",$E8="",$G8>0),AND($C8="Transfert",$D8<>"",$E8<>"",$D8<>$E8,$G8>0),AND($C8="Ajustement",$D8="",$E8<>"",$G8<>0)),"Valide","À corriger")) | L8: =IF($G8="","",IFERROR($G8*$H8,0))
A9: MOUV-2026-005 | B9: 46253 | C9: Réception | E9: Montréal | F9: ART-1002 | G9: 30 | H9: =IF($F9="","",IFERROR(INDEX('Articles'!$E$5:$E$104,MATCH($F9,'Articles'!$A$5:$A$104,0)),0)) | I9: Fournitures administratives | K9: =IF(OR($B9="",$C9="",$F9="",$G9=""),"À compléter",IF(OR(AND($C9="Réception",$D9="",$E9<>"",$G9>0),AND($C9="Expédition",$D9<>"",$E9="",$G9>0),AND($C9="Transfert",$D9<>"",$E9<>"",$D9<>$E9,$G9>0),AND($C9="Ajustement",$D9="",$E9<>"",$G9<>0)),"Valide","À corriger")) | L9: =IF($G9="","",IFERROR($G9*$H9,0))
A10: MOUV-2026-006 | B10: 46256 | C10: Expédition | D10: Québec | F10: ART-1002 | G10: 5 | H10: =IF($F10="","",IFERROR(INDEX('Articles'!$E$5:$E$104,MATCH($F10,'Articles'!$A$5:$A$104,0)),0)) | I10: Utilisation interne | K10: =IF(OR($B10="",$C10="",$F10="",$G10=""),"À compléter",IF(OR(AND($C10="Réception",$D10="",$E10<>"",$G10>0),AND($C10="Expédition",$D10<>"",$E10="",$G10>0),AND($C10="Transfert",$D10<>"",$E10<>"",$D10<>$E10,$G10>0),AND($C10="Ajustement",$D10="",$E10<>"",$G10<>0)),"Valide","À corriger")) | L10: =IF($G10="","",IFERROR($G10*$H10,0))
A11: MOUV-2026-007 | B11: 46257 | C11: Réception | E11: Montréal | F11: ART-1003 | G11: 12 | H11: =IF($F11="","",IFERROR(INDEX('Articles'!$E$5:$E$104,MATCH($F11,'Articles'!$A$5:$A$104,0)),0)) | I11: Cartouches d’encre | K11: =IF(OR($B11="",$C11="",$F11="",$G11=""),"À compléter",IF(OR(AND($C11="Réception",$D11="",$E11<>"",$G11>0),AND($C11="Expédition",$D11<>"",$E11="",$G11>0),AND($C11="Transfert",$D11<>"",$E11<>"",$D11<>$E11,$G11>0),AND($C11="Ajustement",$D11="",$E11<>"",$G11<>0)),"Valide","À corriger")) | L11: =IF($G11="","",IFERROR($G11*$H11,0))
A12: MOUV-2026-008 | B12: 46258 | C12: Transfert | D12: Montréal | E12: Québec | F12: ART-1003 | G12: 3 | H12: =IF($F12="","",IFERROR(INDEX('Articles'!$E$5:$E$104,MATCH($F12,'Articles'!$A$5:$A$104,0)),0)) | I12: Besoin du bureau de Québec | K12: =IF(OR($B12="",$C12="",$F12="",$G12=""),"À compléter",IF(OR(AND($C12="Réception",$D12="",$E12<>"",$G12>0),AND($C12="Expédition",$D12<>"",$E12="",$G12>0),AND($C12="Transfert",$D12<>"",$E12<>"",$D12<>$E12,$G12>0),AND($C12="Ajustement",$D12="",$E12<>"",$G12<>0)),"Valide","À corriger")) | L12: =IF($G12="","",IFERROR($G12*$H12,0))
A13: MOUV-2026-009 | B13: 46259 | C13: Réception | E13: Laval | F13: ART-1006 | G13: 8 | H13: =IF($F13="","",IFERROR(INDEX('Articles'!$E$5:$E$104,MATCH($F13,'Articles'!$A$5:$A$104,0)),0)) | I13: Produits d’entretien | K13: =IF(OR($B13="",$C13="",$F13="",$G13=""),"À compléter",IF(OR(AND($C13="Réception",$D13="",$E13<>"",$G13>0),AND($C13="Expédition",$D13<>"",$E13="",$G13>0),AND($C13="Transfert",$D13<>"",$E13<>"",$D13<>$E13,$G13>0),AND($C13="Ajustement",$D13="",$E13<>"",$G13<>0)),"Valide","À corriger")) | L13: =IF($G13="","",IFERROR($G13*$H13,0))
A14: MOUV-2026-010 | B14: 46260 | C14: Ajustement | E14: Laval | F14: ART-1006 | G14: -2 | H14: =IF($F14="","",IFERROR(INDEX('Articles'!$E$5:$E$104,MATCH($F14,'Articles'!$A$5:$A$104,0)),0)) | I14: Deux contenants endommagés | K14: =IF(OR($B14="",$C14="",$F14="",$G14=""),"À compléter",IF(OR(AND($C14="Réception",$D14="",$E14<>"",$G14>0),AND($C14="Expédition",$D14<>"",$E14="",$G14>0),AND($C14="Transfert",$D14<>"",$E14<>"",$D14<>$E14,$G14>0),AND($C14="Ajustement",$D14="",$E14<>"",$G14<>0)),"Valide","À corriger")) | L14: =IF($G14="","",IFERROR($G14*$H14,0))
H15: =IF($F15="","",IFERROR(INDEX('Articles'!$E$5:$E$104,MATCH($F15,'Articles'!$A$5:$A$104,0)),0)) | K15: =IF(OR($B15="",$C15="",$F15="",$G15=""),"À compléter",IF(OR(AND($C15="Réception",$D15="",$E15<>"",$G15>0),AND($C15="Expédition",$D15<>"",$E15="",$G15>0),AND($C15="Transfert",$D15<>"",$E15<>"",$D15<>$E15,$G15>0),AND($C15="Ajustement",$D15="",$E15<>"",$G15<>0)),"Valide","À corriger")) | L15: =IF($G15="","",IFERROR($G15*$H15,0))
H16: =IF($F16="","",IFERROR(INDEX('Articles'!$E$5:$E$104,MATCH($F16,'Articles'!$A$5:$A$104,0)),0)) | K16: =IF(OR($B16="",$C16="",$F16="",$G16=""),"À compléter",IF(OR(AND($C16="Réception",$D16="",$E16<>"",$G16>0),AND($C16="Expédition",$D16<>"",$E16="",$G16>0),AND($C16="Transfert",$D16<>"",$E16<>"",$D16<>$E16,$G16>0),AND($C16="Ajustement",$D16="",$E16<>"",$G16<>0)),"Valide","À corriger")) | L16: =IF($G16="","",IFERROR($G16*$H16,0))
H17: =IF($F17="","",IFERROR(INDEX('Articles'!$E$5:$E$104,MATCH($F17,'Articles'!$A$5:$A$104,0)),0)) | K17: =IF(OR($B17="",$C17="",$F17="",$G17=""),"À compléter",IF(OR(AND($C17="Réception",$D17="",$E17<>"",$G17>0),AND($C17="Expédition",$D17<>"",$E17="",$G17>0),AND($C17="Transfert",$D17<>"",$E17<>"",$D17<>$E17,$G17>0),AND($C17="Ajustement",$D17="",$E17<>"",$G17<>0)),"Valide","À corriger")) | L17: =IF($G17="","",IFERROR($G17*$H17,0))
H18: =IF($F18="","",IFERROR(INDEX('Articles'!$E$5:$E$104,MATCH($F18,'Articles'!$A$5:$A$104,0)),0)) | K18: =IF(OR($B18="",$C18="",$F18="",$G18=""),"À compléter",IF(OR(AND($C18="Réception",$D18="",$E18<>"",$G18>0),AND($C18="Expédition",$D18<>"",$E18="",$G18>0),AND($C18="Transfert",$D18<>"",$E18<>"",$D18<>$E18,$G18>0),AND($C18="Ajustement",$D18="",$E18<>"",$G18<>0)),"Valide","À corriger")) | L18: =IF($G18="","",IFERROR($G18*$H18,0))
H19: =IF($F19="","",IFERROR(INDEX('Articles'!$E$5:$E$104,MATCH($F19,'Articles'!$A$5:$A$104,0)),0)) | K19: =IF(OR($B19="",$C19="",$F19="",$G19=""),"À compléter",IF(OR(AND($C19="Réception",$D19="",$E19<>"",$G19>0),AND($C19="Expédition",$D19<>"",$E19="",$G19>0),AND($C19="Transfert",$D19<>"",$E19<>"",$D19<>$E19,$G19>0),AND($C19="Ajustement",$D19="",$E19<>"",$G19<>0)),"Valide","À corriger")) | L19: =IF($G19="","",IFERROR($G19*$H19,0))
H20: =IF($F20="","",IFERROR(INDEX('Articles'!$E$5:$E$104,MATCH($F20,'Articles'!$A$5:$A$104,0)),0)) | K20: =IF(OR($B20="",$C20="",$F20="",$G20=""),"À compléter",IF(OR(AND($C20="Réception",$D20="",$E20<>"",$G20>0),AND($C20="Expédition",$D20<>"",$E20="",$G20>0),AND($C20="Transfert",$D20<>"",$E20<>"",$D20<>$E20,$G20>0),AND($C20="Ajustement",$D20="",$E20<>"",$G20<>0)),"Valide","À corriger")) | L20: =IF($G20="","",IFERROR($G20*$H20,0))
H21: =IF($F21="","",IFERROR(INDEX('Articles'!$E$5:$E$104,MATCH($F21,'Articles'!$A$5:$A$104,0)),0)) | K21: =IF(OR($B21="",$C21="",$F21="",$G21=""),"À compléter",IF(OR(AND($C21="Réception",$D21="",$E21<>"",$G21>0),AND($C21="Expédition",$D21<>"",$E21="",$G21>0),AND($C21="Transfert",$D21<>"",$E21<>"",$D21<>$E21,$G21>0),AND($C21="Ajustement",$D21="",$E21<>"",$G21<>0)),"Valide","À corriger")) | L21: =IF($G21="","",IFERROR($G21*$H21,0))
H22: =IF($F22="","",IFERROR(INDEX('Articles'!$E$5:$E$104,MATCH($F22,'Articles'!$A$5:$A$104,0)),0)) | K22: =IF(OR($B22="",$C22="",$F22="",$G22=""),"À compléter",IF(OR(AND($C22="Réception",$D22="",$E22<>"",$G22>0),AND($C22="Expédition",$D22<>"",$E22="",$G22>0),AND($C22="Transfert",$D22<>"",$E22<>"",$D22<>$E22,$G22>0),AND($C22="Ajustement",$D22="",$E22<>"",$G22<>0)),"Valide","À corriger")) | L22: =IF($G22="","",IFERROR($G22*$H22,0))
H23: =IF($F23="","",IFERROR(INDEX('Articles'!$E$5:$E$104,MATCH($F23,'Articles'!$A$5:$A$104,0)),0)) | K23: =IF(OR($B23="",$C23="",$F23="",$G23=""),"À compléter",IF(OR(AND($C23="Réception",$D23="",$E23<>"",$G23>0),AND($C23="Expédition",$D23<>"",$E23="",$G23>0),AND($C23="Transfert",$D23<>"",$E23<>"",$D23<>$E23,$G23>0),AND($C23="Ajustement",$D23="",$E23<>"",$G23<>0)),"Valide","À corriger")) | L23: =IF($G23="","",IFERROR($G23*$H23,0))
H24: =IF($F24="","",IFERROR(INDEX('Articles'!$E$5:$E$104,MATCH($F24,'Articles'!$A$5:$A$104,0)),0)) | K24: =IF(OR($B24="",$C24="",$F24="",$G24=""),"À compléter",IF(OR(AND($C24="Réception",$D24="",$E24<>"",$G24>0),AND($C24="Expédition",$D24<>"",$E24="",$G24>0),AND($C24="Transfert",$D24<>"",$E24<>"",$D24<>$E24,$G24>0),AND($C24="Ajustement",$D24="",$E24<>"",$G24<>0)),"Valide","À corriger")) | L24: =IF($G24="","",IFERROR($G24*$H24,0))
H25: =IF($F25="","",IFERROR(INDEX('Articles'!$E$5:$E$104,MATCH($F25,'Articles'!$A$5:$A$104,0)),0)) | K25: =IF(OR($B25="",$C25="",$F25="",$G25=""),"À compléter",IF(OR(AND($C25="Réception",$D25="",$E25<>"",$G25>0),AND($C25="Expédition",$D25<>"",$E25="",$G25>0),AND($C25="Transfert",$D25<>"",$E25<>"",$D25<>$E25,$G25>0),AND($C25="Ajustement",$D25="",$E25<>"",$G25<>0)),"Valide","À corriger")) | L25: =IF($G25="","",IFERROR($G25*$H25,0))
H26: =IF($F26="","",IFERROR(INDEX('Articles'!$E$5:$E$104,MATCH($F26,'Articles'!$A$5:$A$104,0)),0)) | K26: =IF(OR($B26="",$C26="",$F26="",$G26=""),"À compléter",IF(OR(AND($C26="Réception",$D26="",$E26<>"",$G26>0),AND($C26="Expédition",$D26<>"",$E26="",$G26>0),AND($C26="Transfert",$D26<>"",$E26<>"",$D26<>$E26,$G26>0),AND($C26="Ajustement",$D26="",$E26<>"",$G26<>0)),"Valide","À corriger")) | L26: =IF($G26="","",IFERROR($G26*$H26,0))
... H104: =IF($F104="","",IFERROR(INDEX('Articles'!$E$5:$E$104,MATCH($F104,'Articles'!$A$5:$A$104,0)),0)) | K104: =IF(OR($B104="",$C104="",$F104="",$G104=""),"À compléter",IF(OR(AND($C104="Réception",$D104="",$E104<>"",$G104>0),AND($C104="Expédition",$D104<>"",$E104="",$G104>0),AND($C104="Transfert",$D104<>"",$E104<>"",$D104<>$E104,$G104>0),AND($C104="Ajustement",$D104="",$E104<>"",$G104<>0)),"Valide","À corriger")) | L104: =IF($G104="","",IFERROR($G104*$H104,0))
