Workbook

Sheet Paramètres
A1: Paramètres des prévisions de ventes
A2: Modifiez uniquement les cellules colorées. Tous les montants sont avant taxes et en dollars canadiens.
A4: Paramètre | B4: Valeur | E4: Scénario | F4: Multiplicateur | H4: Catégories | I4: Segments | J4: Statuts de vente | K4: Actif
A5: Premier mois de prévision | B5: 46023 | E5: Prudent | F5: 0.9 | H5: Services professionnels | I5: PME | J5: Comptabilisée | K5: Oui
A6: Scénario actif | B6: Réaliste | E6: Réaliste | F6: 1 | H6: Formation | I6: Travailleur autonome | J6: À confirmer | K6: Non
A7: Objectif annuel de ventes | B7: 125000 | E7: Ambitieux | F7: 1.15 | H7: Produits numériques | I7: Organisme sans but lucratif | J7: Annulée
A8: Note | B8: Les prévisions sont calculées avant TPS et TVQ. | H8: Abonnements | I8: Grande entreprise
A11: No du mois | B11: Coefficient saisonnier
A12: 1 | B12: 0.85
A13: 2 | B13: 0.88
A14: 3 | B14: 0.92
A15: 4 | B15: 0.95
A16: 5 | B16: 0.98
A17: 6 | B17: 1
A18: 7 | B18: 0.82
A19: 8 | B19: 0.86
A20: 9 | B20: 1.03
A21: 10 | B21: 1.08
A22: 11 | B22: 1.22
A23: 12 | B23: 1.41
A25: Total des coefficients | B25: =SUM(B12:B23) -> 12
A26: Contrôle de saisonnalité | B26: =IF(ABS(B25-12)<0.01,"Conforme","À vérifier") -> Conforme

Sheet Prévisions ventes
A1: Prévisions de ventes — 12 mois
A2: Saisissez les hypothèses dans les colonnes A à H. Les colonnes mensuelles sont calculées automatiquement avant TPS et TVQ.
A4: Repère : ajustez le scénario, le premier mois et la saisonnalité dans la feuille Paramètres.
A6: Code offre | B6: Catégorie | C6: Offre / service | D6: Segment principal | E6: Prix unitaire avant taxes | F6: Volume mensuel de départ | G6: Croissance mensuelle | H6: Actif | I6: =IFERROR(EDATE(Paramètres!$B$5,COLUMN()-COLUMN($I$6)),"") -> 46023 | J6: =IFERROR(EDATE(Paramètres!$B$5,COLUMN()-COLUMN($I$6)),"") -> 46054 | K6: =IFERROR(EDATE(Paramètres!$B$5,COLUMN()-COLUMN($I$6)),"") -> 46082 | L6: =IFERROR(EDATE(Paramètres!$B$5,COLUMN()-COLUMN($I$6)),"") -> 46113 | M6: =IFERROR(EDATE(Paramètres!$B$5,COLUMN()-COLUMN($I$6)),"") -> 46143 | N6: =IFERROR(EDATE(Paramètres!$B$5,COLUMN()-COLUMN($I$6)),"") -> 46174 | O6: =IFERROR(EDATE(Paramètres!$B$5,COLUMN()-COLUMN($I$6)),"") -> 46204 | P6: =IFERROR(EDATE(Paramètres!$B$5,COLUMN()-COLUMN($I$6)),"") -> 46235 | ... T6: =IFERROR(EDATE(Paramètres!$B$5,COLUMN()-COLUMN($I$6)),"") -> 46357 | U6: Total prévisionnel annuel
A7: SER-001 | B7: Services professionnels | C7: Accompagnement stratégique mensuel | D7: PME | E7: 1250 | F7: 4 | G7: 0.02 | H7: Oui | I7: =IF($A7="","",IFERROR(IF($H7<>"Oui",0,$E7*$F7*(1+$G7)^(COLUMN()-COLUMN($I$6))*INDEX(Paramètres!$B$12:$B$23,MATCH(MONTH(I$6),Paramètres!$A$12:$A$23,0))*INDEX(Paramètres!$F$5:$F$7,MATCH(Paramètres!$B$6,Paramètres!$E$5:$E$7,0))),0)) -> 4250 | J7: =IF($A7="","",IFERROR(IF($H7<>"Oui",0,$E7*$F7*(1+$G7)^(COLUMN()-COLUMN($I$6))*INDEX(Paramètres!$B$12:$B$23,MATCH(MONTH(J$6),Paramètres!$A$12:$A$23,0))*INDEX(Paramètres!$F$5:$F$7,MATCH(Paramètres!$B$6,Paramètres!$E$5:$E$7,0))),0)) -> 4488 | K7: =IF($A7="","",IFERROR(IF($H7<>"Oui",0,$E7*$F7*(1+$G7)^(COLUMN()-COLUMN($I$6))*INDEX(Paramètres!$B$12:$B$23,MATCH(MONTH(K$6),Paramètres!$A$12:$A$23,0))*INDEX(Paramètres!$F$5:$F$7,MATCH(Paramètres!$B$6,Paramètres!$E$5:$E$7,0))),0)) -> 4785.84 | L7: =IF($A7="","",IFERROR(IF($H7<>"Oui",0,$E7*$F7*(1+$G7)^(COLUMN()-COLUMN($I$6))*INDEX(Paramètres!$B$12:$B$23,MATCH(MONTH(L$6),Paramètres!$A$12:$A$23,0))*INDEX(Paramètres!$F$5:$F$7,MATCH(Paramètres!$B$6,Paramètres!$E$5:$E$7,0))),0)) -> 5040.738 | M7: =IF($A7="","",IFERROR(IF($H7<>"Oui",0,$E7*$F7*(1+$G7)^(COLUMN()-COLUMN($I$6))*INDEX(Paramètres!$B$12:$B$23,MATCH(MONTH(M$6),Paramètres!$A$12:$A$23,0))*INDEX(Paramètres!$F$5:$F$7,MATCH(Paramètres!$B$6,Paramètres!$E$5:$E$7,0))),0)) -> 5303.9176 | N7: =IF($A7="","",IFERROR(IF($H7<>"Oui",0,$E7*$F7*(1+$G7)^(COLUMN()-COLUMN($I$6))*INDEX(Paramètres!$B$12:$B$23,MATCH(MONTH(N$6),Paramètres!$A$12:$A$23,0))*INDEX(Paramètres!$F$5:$F$7,MATCH(Paramètres!$B$6,Paramètres!$E$5:$E$7,0))),0)) -> 5520.404 | O7: =IF($A7="","",IFERROR(IF($H7<>"Oui",0,$E7*$F7*(1+$G7)^(COLUMN()-COLUMN($I$6))*INDEX(Paramètres!$B$12:$B$23,MATCH(MONTH(O$6),Paramètres!$A$12:$A$23,0))*INDEX(Paramètres!$F$5:$F$7,MATCH(Paramètres!$B$6,Paramètres!$E$5:$E$7,0))),0)) -> 4617.2659 | P7: =IF($A7="","",IFERROR(IF($H7<>"Oui",0,$E7*$F7*(1+$G7)^(COLUMN()-COLUMN($I$6))*INDEX(Paramètres!$B$12:$B$23,MATCH(MONTH(P$6),Paramètres!$A$12:$A$23,0))*INDEX(Paramètres!$F$5:$F$7,MATCH(Paramètres!$B$6,Paramètres!$E$5:$E$7,0))),0)) -> 4939.3484 | ... T7: =IF($A7="","",IFERROR(IF($H7<>"Oui",0,$E7*$F7*(1+$G7)^(COLUMN()-COLUMN($I$6))*INDEX(Paramètres!$B$12:$B$23,MATCH(MONTH(T$6),Paramètres!$A$12:$A$23,0))*INDEX(Paramètres!$F$5:$F$7,MATCH(Paramètres!$B$6,Paramètres!$E$5:$E$7,0))),0)) -> 8765.7889 | U7: =IF($A7="","",SUM(I7:T7)) -> 67634.714
A8: SER-002 | B8: Services professionnels | C8: Consultation en gestion opérationnelle | D8: PME | E8: 185 | F8: 18 | G8: 0.015 | H8: Oui | I8: =IF($A8="","",IFERROR(IF($H8<>"Oui",0,$E8*$F8*(1+$G8)^(COLUMN()-COLUMN($I$6))*INDEX(Paramètres!$B$12:$B$23,MATCH(MONTH(I$6),Paramètres!$A$12:$A$23,0))*INDEX(Paramètres!$F$5:$F$7,MATCH(Paramètres!$B$6,Paramètres!$E$5:$E$7,0))),0)) -> 2830.5 | J8: =IF($A8="","",IFERROR(IF($H8<>"Oui",0,$E8*$F8*(1+$G8)^(COLUMN()-COLUMN($I$6))*INDEX(Paramètres!$B$12:$B$23,MATCH(MONTH(J$6),Paramètres!$A$12:$A$23,0))*INDEX(Paramètres!$F$5:$F$7,MATCH(Paramètres!$B$6,Paramètres!$E$5:$E$7,0))),0)) -> 2974.356 | K8: =IF($A8="","",IFERROR(IF($H8<>"Oui",0,$E8*$F8*(1+$G8)^(COLUMN()-COLUMN($I$6))*INDEX(Paramètres!$B$12:$B$23,MATCH(MONTH(K$6),Paramètres!$A$12:$A$23,0))*INDEX(Paramètres!$F$5:$F$7,MATCH(Paramètres!$B$6,Paramètres!$E$5:$E$7,0))),0)) -> 3156.1973 | L8: =IF($A8="","",IFERROR(IF($H8<>"Oui",0,$E8*$F8*(1+$G8)^(COLUMN()-COLUMN($I$6))*INDEX(Paramètres!$B$12:$B$23,MATCH(MONTH(L$6),Paramètres!$A$12:$A$23,0))*INDEX(Paramètres!$F$5:$F$7,MATCH(Paramètres!$B$6,Paramètres!$E$5:$E$7,0))),0)) -> 3308.0035 | M8: =IF($A8="","",IFERROR(IF($H8<>"Oui",0,$E8*$F8*(1+$G8)^(COLUMN()-COLUMN($I$6))*INDEX(Paramètres!$B$12:$B$23,MATCH(MONTH(M$6),Paramètres!$A$12:$A$23,0))*INDEX(Paramètres!$F$5:$F$7,MATCH(Paramètres!$B$6,Paramètres!$E$5:$E$7,0))),0)) -> 3463.6538 | N8: =IF($A8="","",IFERROR(IF($H8<>"Oui",0,$E8*$F8*(1+$G8)^(COLUMN()-COLUMN($I$6))*INDEX(Paramètres!$B$12:$B$23,MATCH(MONTH(N$6),Paramètres!$A$12:$A$23,0))*INDEX(Paramètres!$F$5:$F$7,MATCH(Paramètres!$B$6,Paramètres!$E$5:$E$7,0))),0)) -> 3587.3557 | O8: =IF($A8="","",IFERROR(IF($H8<>"Oui",0,$E8*$F8*(1+$G8)^(COLUMN()-COLUMN($I$6))*INDEX(Paramètres!$B$12:$B$23,MATCH(MONTH(O$6),Paramètres!$A$12:$A$23,0))*INDEX(Paramètres!$F$5:$F$7,MATCH(Paramètres!$B$6,Paramètres!$E$5:$E$7,0))),0)) -> 2985.7562 | P8: =IF($A8="","",IFERROR(IF($H8<>"Oui",0,$E8*$F8*(1+$G8)^(COLUMN()-COLUMN($I$6))*INDEX(Paramètres!$B$12:$B$23,MATCH(MONTH(P$6),Paramètres!$A$12:$A$23,0))*INDEX(Paramètres!$F$5:$F$7,MATCH(Paramètres!$B$6,Paramètres!$E$5:$E$7,0))),0)) -> 3178.3739 | ... T8: =IF($A8="","",IFERROR(IF($H8<>"Oui",0,$E8*$F8*(1+$G8)^(COLUMN()-COLUMN($I$6))*INDEX(Paramètres!$B$12:$B$23,MATCH(MONTH(T$6),Paramètres!$A$12:$A$23,0))*INDEX(Paramètres!$F$5:$F$7,MATCH(Paramètres!$B$6,Paramètres!$E$5:$E$7,0))),0)) -> 5530.8236 | U8: =IF($A8="","",SUM(I8:T8)) -> 43705.678
A9: FOR-001 | B9: Formation | C9: Formation Excel avancé en entreprise | D9: PME | E9: 695 | F9: 6 | G9: 0.02 | H9: Oui | I9: =IF($A9="","",IFERROR(IF($H9<>"Oui",0,$E9*$F9*(1+$G9)^(COLUMN()-COLUMN($I$6))*INDEX(Paramètres!$B$12:$B$23,MATCH(MONTH(I$6),Paramètres!$A$12:$A$23,0))*INDEX(Paramètres!$F$5:$F$7,MATCH(Paramètres!$B$6,Paramètres!$E$5:$E$7,0))),0)) -> 3544.5 | J9: =IF($A9="","",IFERROR(IF($H9<>"Oui",0,$E9*$F9*(1+$G9)^(COLUMN()-COLUMN($I$6))*INDEX(Paramètres!$B$12:$B$23,MATCH(MONTH(J$6),Paramètres!$A$12:$A$23,0))*INDEX(Paramètres!$F$5:$F$7,MATCH(Paramètres!$B$6,Paramètres!$E$5:$E$7,0))),0)) -> 3742.992 | K9: =IF($A9="","",IFERROR(IF($H9<>"Oui",0,$E9*$F9*(1+$G9)^(COLUMN()-COLUMN($I$6))*INDEX(Paramètres!$B$12:$B$23,MATCH(MONTH(K$6),Paramètres!$A$12:$A$23,0))*INDEX(Paramètres!$F$5:$F$7,MATCH(Paramètres!$B$6,Paramètres!$E$5:$E$7,0))),0)) -> 3991.3906 | L9: =IF($A9="","",IFERROR(IF($H9<>"Oui",0,$E9*$F9*(1+$G9)^(COLUMN()-COLUMN($I$6))*INDEX(Paramètres!$B$12:$B$23,MATCH(MONTH(L$6),Paramètres!$A$12:$A$23,0))*INDEX(Paramètres!$F$5:$F$7,MATCH(Paramètres!$B$6,Paramètres!$E$5:$E$7,0))),0)) -> 4203.9755 | M9: =IF($A9="","",IFERROR(IF($H9<>"Oui",0,$E9*$F9*(1+$G9)^(COLUMN()-COLUMN($I$6))*INDEX(Paramètres!$B$12:$B$23,MATCH(MONTH(M$6),Paramètres!$A$12:$A$23,0))*INDEX(Paramètres!$F$5:$F$7,MATCH(Paramètres!$B$6,Paramètres!$E$5:$E$7,0))),0)) -> 4423.4673 | N9: =IF($A9="","",IFERROR(IF($H9<>"Oui",0,$E9*$F9*(1+$G9)^(COLUMN()-COLUMN($I$6))*INDEX(Paramètres!$B$12:$B$23,MATCH(MONTH(N$6),Paramètres!$A$12:$A$23,0))*INDEX(Paramètres!$F$5:$F$7,MATCH(Paramètres!$B$6,Paramètres!$E$5:$E$7,0))),0)) -> 4604.0169 | O9: =IF($A9="","",IFERROR(IF($H9<>"Oui",0,$E9*$F9*(1+$G9)^(COLUMN()-COLUMN($I$6))*INDEX(Paramètres!$B$12:$B$23,MATCH(MONTH(O$6),Paramètres!$A$12:$A$23,0))*INDEX(Paramètres!$F$5:$F$7,MATCH(Paramètres!$B$6,Paramètres!$E$5:$E$7,0))),0)) -> 3850.7998 | P9: =IF($A9="","",IFERROR(IF($H9<>"Oui",0,$E9*$F9*(1+$G9)^(COLUMN()-COLUMN($I$6))*INDEX(Paramètres!$B$12:$B$23,MATCH(MONTH(P$6),Paramètres!$A$12:$A$23,0))*INDEX(Paramètres!$F$5:$F$7,MATCH(Paramètres!$B$6,Paramètres!$E$5:$E$7,0))),0)) -> 4119.4165 | ... T9: =IF($A9="","",IFERROR(IF($H9<>"Oui",0,$E9*$F9*(1+$G9)^(COLUMN()-COLUMN($I$6))*INDEX(Paramètres!$B$12:$B$23,MATCH(MONTH(T$6),Paramètres!$A$12:$A$23,0))*INDEX(Paramètres!$F$5:$F$7,MATCH(Paramètres!$B$6,Paramètres!$E$5:$E$7,0))),0)) -> 7310.6679 | U9: =IF($A9="","",SUM(I9:T9)) -> 56407.352
A10: FOR-002 | B10: Formation | C10: Atelier Power BI pour équipes administratives | D10: Grande entreprise | E10: 1450 | F10: 3 | G10: 0.01 | H10: Oui | I10: =IF($A10="","",IFERROR(IF($H10<>"Oui",0,$E10*$F10*(1+$G10)^(COLUMN()-COLUMN($I$6))*INDEX(Paramètres!$B$12:$B$23,MATCH(MONTH(I$6),Paramètres!$A$12:$A$23,0))*INDEX(Paramètres!$F$5:$F$7,MATCH(Paramètres!$B$6,Paramètres!$E$5:$E$7,0))),0)) -> 3697.5 | J10: =IF($A10="","",IFERROR(IF($H10<>"Oui",0,$E10*$F10*(1+$G10)^(COLUMN()-COLUMN($I$6))*INDEX(Paramètres!$B$12:$B$23,MATCH(MONTH(J$6),Paramètres!$A$12:$A$23,0))*INDEX(Paramètres!$F$5:$F$7,MATCH(Paramètres!$B$6,Paramètres!$E$5:$E$7,0))),0)) -> 3866.28 | K10: =IF($A10="","",IFERROR(IF($H10<>"Oui",0,$E10*$F10*(1+$G10)^(COLUMN()-COLUMN($I$6))*INDEX(Paramètres!$B$12:$B$23,MATCH(MONTH(K$6),Paramètres!$A$12:$A$23,0))*INDEX(Paramètres!$F$5:$F$7,MATCH(Paramètres!$B$6,Paramètres!$E$5:$E$7,0))),0)) -> 4082.4402 | L10: =IF($A10="","",IFERROR(IF($H10<>"Oui",0,$E10*$F10*(1+$G10)^(COLUMN()-COLUMN($I$6))*INDEX(Paramètres!$B$12:$B$23,MATCH(MONTH(L$6),Paramètres!$A$12:$A$23,0))*INDEX(Paramètres!$F$5:$F$7,MATCH(Paramètres!$B$6,Paramètres!$E$5:$E$7,0))),0)) -> 4257.7189 | M10: =IF($A10="","",IFERROR(IF($H10<>"Oui",0,$E10*$F10*(1+$G10)^(COLUMN()-COLUMN($I$6))*INDEX(Paramètres!$B$12:$B$23,MATCH(MONTH(M$6),Paramètres!$A$12:$A$23,0))*INDEX(Paramètres!$F$5:$F$7,MATCH(Paramètres!$B$6,Paramètres!$E$5:$E$7,0))),0)) -> 4436.0949 | N10: =IF($A10="","",IFERROR(IF($H10<>"Oui",0,$E10*$F10*(1+$G10)^(COLUMN()-COLUMN($I$6))*INDEX(Paramètres!$B$12:$B$23,MATCH(MONTH(N$6),Paramètres!$A$12:$A$23,0))*INDEX(Paramètres!$F$5:$F$7,MATCH(Paramètres!$B$6,Paramètres!$E$5:$E$7,0))),0)) -> 4571.8937 | O10: =IF($A10="","",IFERROR(IF($H10<>"Oui",0,$E10*$F10*(1+$G10)^(COLUMN()-COLUMN($I$6))*INDEX(Paramètres!$B$12:$B$23,MATCH(MONTH(O$6),Paramètres!$A$12:$A$23,0))*INDEX(Paramètres!$F$5:$F$7,MATCH(Paramètres!$B$6,Paramètres!$E$5:$E$7,0))),0)) -> 3786.4424 | P10: =IF($A10="","",IFERROR(IF($H10<>"Oui",0,$E10*$F10*(1+$G10)^(COLUMN()-COLUMN($I$6))*INDEX(Paramètres!$B$12:$B$23,MATCH(MONTH(P$6),Paramètres!$A$12:$A$23,0))*INDEX(Paramètres!$F$5:$F$7,MATCH(Paramètres!$B$6,Paramètres!$E$5:$E$7,0))),0)) -> 4010.8584 | ... T10: =IF($A10="","",IFERROR(IF($H10<>"Oui",0,$E10*$F10*(1+$G10)^(COLUMN()-COLUMN($I$6))*INDEX(Paramètres!$B$12:$B$23,MATCH(MONTH(T$6),Paramètres!$A$12:$A$23,0))*INDEX(Paramètres!$F$5:$F$7,MATCH(Paramètres!$B$6,Paramètres!$E$5:$E$7,0))),0)) -> 6842.9518 | U10: =IF($A10="","",SUM(I10:T10)) -> 55404.283
A11: NUM-001 | B11: Produits numériques | C11: Gabarit Excel de budget annuel | D11: Travailleur autonome | E11: 79 | F11: 28 | G11: 0.03 | H11: Oui | I11: =IF($A11="","",IFERROR(IF($H11<>"Oui",0,$E11*$F11*(1+$G11)^(COLUMN()-COLUMN($I$6))*INDEX(Paramètres!$B$12:$B$23,MATCH(MONTH(I$6),Paramètres!$A$12:$A$23,0))*INDEX(Paramètres!$F$5:$F$7,MATCH(Paramètres!$B$6,Paramètres!$E$5:$E$7,0))),0)) -> 1880.2 | J11: =IF($A11="","",IFERROR(IF($H11<>"Oui",0,$E11*$F11*(1+$G11)^(COLUMN()-COLUMN($I$6))*INDEX(Paramètres!$B$12:$B$23,MATCH(MONTH(J$6),Paramètres!$A$12:$A$23,0))*INDEX(Paramètres!$F$5:$F$7,MATCH(Paramètres!$B$6,Paramètres!$E$5:$E$7,0))),0)) -> 2004.9568 | K11: =IF($A11="","",IFERROR(IF($H11<>"Oui",0,$E11*$F11*(1+$G11)^(COLUMN()-COLUMN($I$6))*INDEX(Paramètres!$B$12:$B$23,MATCH(MONTH(K$6),Paramètres!$A$12:$A$23,0))*INDEX(Paramètres!$F$5:$F$7,MATCH(Paramètres!$B$6,Paramètres!$E$5:$E$7,0))),0)) -> 2158.9739 | L11: =IF($A11="","",IFERROR(IF($H11<>"Oui",0,$E11*$F11*(1+$G11)^(COLUMN()-COLUMN($I$6))*INDEX(Paramètres!$B$12:$B$23,MATCH(MONTH(L$6),Paramètres!$A$12:$A$23,0))*INDEX(Paramètres!$F$5:$F$7,MATCH(Paramètres!$B$6,Paramètres!$E$5:$E$7,0))),0)) -> 2296.2565 | M11: =IF($A11="","",IFERROR(IF($H11<>"Oui",0,$E11*$F11*(1+$G11)^(COLUMN()-COLUMN($I$6))*INDEX(Paramètres!$B$12:$B$23,MATCH(MONTH(M$6),Paramètres!$A$12:$A$23,0))*INDEX(Paramètres!$F$5:$F$7,MATCH(Paramètres!$B$6,Paramètres!$E$5:$E$7,0))),0)) -> 2439.833 | N11: =IF($A11="","",IFERROR(IF($H11<>"Oui",0,$E11*$F11*(1+$G11)^(COLUMN()-COLUMN($I$6))*INDEX(Paramètres!$B$12:$B$23,MATCH(MONTH(N$6),Paramètres!$A$12:$A$23,0))*INDEX(Paramètres!$F$5:$F$7,MATCH(Paramètres!$B$6,Paramètres!$E$5:$E$7,0))),0)) -> 2564.3143 | O11: =IF($A11="","",IFERROR(IF($H11<>"Oui",0,$E11*$F11*(1+$G11)^(COLUMN()-COLUMN($I$6))*INDEX(Paramètres!$B$12:$B$23,MATCH(MONTH(O$6),Paramètres!$A$12:$A$23,0))*INDEX(Paramètres!$F$5:$F$7,MATCH(Paramètres!$B$6,Paramètres!$E$5:$E$7,0))),0)) -> 2165.8198 | P11: =IF($A11="","",IFERROR(IF($H11<>"Oui",0,$E11*$F11*(1+$G11)^(COLUMN()-COLUMN($I$6))*INDEX(Paramètres!$B$12:$B$23,MATCH(MONTH(P$6),Paramètres!$A$12:$A$23,0))*INDEX(Paramètres!$F$5:$F$7,MATCH(Paramètres!$B$6,Paramètres!$E$5:$E$7,0))),0)) -> 2339.6137 | ... T11: =IF($A11="","",IFERROR(IF($H11<>"Oui",0,$E11*$F11*(1+$G11)^(COLUMN()-COLUMN($I$6))*INDEX(Paramètres!$B$12:$B$23,MATCH(MONTH(T$6),Paramètres!$A$12:$A$23,0))*INDEX(Paramètres!$F$5:$F$7,MATCH(Paramètres!$B$6,Paramètres!$E$5:$E$7,0))),0)) -> 4317.3147 | U11: =IF($A11="","",SUM(I11:T11)) -> 31797.238
A12: NUM-002 | B12: Produits numériques | C12: Tableau de bord financier téléchargeable | D12: PME | E12: 249 | F12: 12 | G12: 0.025 | H12: Oui | I12: =IF($A12="","",IFERROR(IF($H12<>"Oui",0,$E12*$F12*(1+$G12)^(COLUMN()-COLUMN($I$6))*INDEX(Paramètres!$B$12:$B$23,MATCH(MONTH(I$6),Paramètres!$A$12:$A$23,0))*INDEX(Paramètres!$F$5:$F$7,MATCH(Paramètres!$B$6,Paramètres!$E$5:$E$7,0))),0)) -> 2539.8 | J12: =IF($A12="","",IFERROR(IF($H12<>"Oui",0,$E12*$F12*(1+$G12)^(COLUMN()-COLUMN($I$6))*INDEX(Paramètres!$B$12:$B$23,MATCH(MONTH(J$6),Paramètres!$A$12:$A$23,0))*INDEX(Paramètres!$F$5:$F$7,MATCH(Paramètres!$B$6,Paramètres!$E$5:$E$7,0))),0)) -> 2695.176 | K12: =IF($A12="","",IFERROR(IF($H12<>"Oui",0,$E12*$F12*(1+$G12)^(COLUMN()-COLUMN($I$6))*INDEX(Paramètres!$B$12:$B$23,MATCH(MONTH(K$6),Paramètres!$A$12:$A$23,0))*INDEX(Paramètres!$F$5:$F$7,MATCH(Paramètres!$B$6,Paramètres!$E$5:$E$7,0))),0)) -> 2888.1261 | L12: =IF($A12="","",IFERROR(IF($H12<>"Oui",0,$E12*$F12*(1+$G12)^(COLUMN()-COLUMN($I$6))*INDEX(Paramètres!$B$12:$B$23,MATCH(MONTH(L$6),Paramètres!$A$12:$A$23,0))*INDEX(Paramètres!$F$5:$F$7,MATCH(Paramètres!$B$6,Paramètres!$E$5:$E$7,0))),0)) -> 3056.8617 | M12: =IF($A12="","",IFERROR(IF($H12<>"Oui",0,$E12*$F12*(1+$G12)^(COLUMN()-COLUMN($I$6))*INDEX(Paramètres!$B$12:$B$23,MATCH(MONTH(M$6),Paramètres!$A$12:$A$23,0))*INDEX(Paramètres!$F$5:$F$7,MATCH(Paramètres!$B$6,Paramètres!$E$5:$E$7,0))),0)) -> 3232.2291 | N12: =IF($A12="","",IFERROR(IF($H12<>"Oui",0,$E12*$F12*(1+$G12)^(COLUMN()-COLUMN($I$6))*INDEX(Paramètres!$B$12:$B$23,MATCH(MONTH(N$6),Paramètres!$A$12:$A$23,0))*INDEX(Paramètres!$F$5:$F$7,MATCH(Paramètres!$B$6,Paramètres!$E$5:$E$7,0))),0)) -> 3380.6477 | O12: =IF($A12="","",IFERROR(IF($H12<>"Oui",0,$E12*$F12*(1+$G12)^(COLUMN()-COLUMN($I$6))*INDEX(Paramètres!$B$12:$B$23,MATCH(MONTH(O$6),Paramètres!$A$12:$A$23,0))*INDEX(Paramètres!$F$5:$F$7,MATCH(Paramètres!$B$6,Paramètres!$E$5:$E$7,0))),0)) -> 2841.4344 | P12: =IF($A12="","",IFERROR(IF($H12<>"Oui",0,$E12*$F12*(1+$G12)^(COLUMN()-COLUMN($I$6))*INDEX(Paramètres!$B$12:$B$23,MATCH(MONTH(P$6),Paramètres!$A$12:$A$23,0))*INDEX(Paramètres!$F$5:$F$7,MATCH(Paramètres!$B$6,Paramètres!$E$5:$E$7,0))),0)) -> 3054.542 | ... T12: =IF($A12="","",IFERROR(IF($H12<>"Oui",0,$E12*$F12*(1+$G12)^(COLUMN()-COLUMN($I$6))*INDEX(Paramètres!$B$12:$B$23,MATCH(MONTH(T$6),Paramètres!$A$12:$A$23,0))*INDEX(Paramètres!$F$5:$F$7,MATCH(Paramètres!$B$6,Paramètres!$E$5:$E$7,0))),0)) -> 5527.9261 | U12: =IF($A12="","",SUM(I12:T12)) -> 41663.048
A13: ABO-001 | B13: Abonnements | C13: Soutien Excel mensuel | D13: PME | E13: 325 | F13: 15 | G13: 0.02 | H13: Oui | I13: =IF($A13="","",IFERROR(IF($H13<>"Oui",0,$E13*$F13*(1+$G13)^(COLUMN()-COLUMN($I$6))*INDEX(Paramètres!$B$12:$B$23,MATCH(MONTH(I$6),Paramètres!$A$12:$A$23,0))*INDEX(Paramètres!$F$5:$F$7,MATCH(Paramètres!$B$6,Paramètres!$E$5:$E$7,0))),0)) -> 4143.75 | J13: =IF($A13="","",IFERROR(IF($H13<>"Oui",0,$E13*$F13*(1+$G13)^(COLUMN()-COLUMN($I$6))*INDEX(Paramètres!$B$12:$B$23,MATCH(MONTH(J$6),Paramètres!$A$12:$A$23,0))*INDEX(Paramètres!$F$5:$F$7,MATCH(Paramètres!$B$6,Paramètres!$E$5:$E$7,0))),0)) -> 4375.8 | K13: =IF($A13="","",IFERROR(IF($H13<>"Oui",0,$E13*$F13*(1+$G13)^(COLUMN()-COLUMN($I$6))*INDEX(Paramètres!$B$12:$B$23,MATCH(MONTH(K$6),Paramètres!$A$12:$A$23,0))*INDEX(Paramètres!$F$5:$F$7,MATCH(Paramètres!$B$6,Paramètres!$E$5:$E$7,0))),0)) -> 4666.194 | L13: =IF($A13="","",IFERROR(IF($H13<>"Oui",0,$E13*$F13*(1+$G13)^(COLUMN()-COLUMN($I$6))*INDEX(Paramètres!$B$12:$B$23,MATCH(MONTH(L$6),Paramètres!$A$12:$A$23,0))*INDEX(Paramètres!$F$5:$F$7,MATCH(Paramètres!$B$6,Paramètres!$E$5:$E$7,0))),0)) -> 4914.7195 | M13: =IF($A13="","",IFERROR(IF($H13<>"Oui",0,$E13*$F13*(1+$G13)^(COLUMN()-COLUMN($I$6))*INDEX(Paramètres!$B$12:$B$23,MATCH(MONTH(M$6),Paramètres!$A$12:$A$23,0))*INDEX(Paramètres!$F$5:$F$7,MATCH(Paramètres!$B$6,Paramètres!$E$5:$E$7,0))),0)) -> 5171.3196 | N13: =IF($A13="","",IFERROR(IF($H13<>"Oui",0,$E13*$F13*(1+$G13)^(COLUMN()-COLUMN($I$6))*INDEX(Paramètres!$B$12:$B$23,MATCH(MONTH(N$6),Paramètres!$A$12:$A$23,0))*INDEX(Paramètres!$F$5:$F$7,MATCH(Paramètres!$B$6,Paramètres!$E$5:$E$7,0))),0)) -> 5382.3939 | O13: =IF($A13="","",IFERROR(IF($H13<>"Oui",0,$E13*$F13*(1+$G13)^(COLUMN()-COLUMN($I$6))*INDEX(Paramètres!$B$12:$B$23,MATCH(MONTH(O$6),Paramètres!$A$12:$A$23,0))*INDEX(Paramètres!$F$5:$F$7,MATCH(Paramètres!$B$6,Paramètres!$E$5:$E$7,0))),0)) -> 4501.8343 | P13: =IF($A13="","",IFERROR(IF($H13<>"Oui",0,$E13*$F13*(1+$G13)^(COLUMN()-COLUMN($I$6))*INDEX(Paramètres!$B$12:$B$23,MATCH(MONTH(P$6),Paramètres!$A$12:$A$23,0))*INDEX(Paramètres!$F$5:$F$7,MATCH(Paramètres!$B$6,Paramètres!$E$5:$E$7,0))),0)) -> 4815.8647 | ... T13: =IF($A13="","",IFERROR(IF($H13<>"Oui",0,$E13*$F13*(1+$G13)^(COLUMN()-COLUMN($I$6))*INDEX(Paramètres!$B$12:$B$23,MATCH(MONTH(T$6),Paramètres!$A$12:$A$23,0))*INDEX(Paramètres!$F$5:$F$7,MATCH(Paramètres!$B$6,Paramètres!$E$5:$E$7,0))),0)) -> 8546.6442 | U13: =IF($A13="","",SUM(I13:T13)) -> 65943.847
A14: ABO-002 | B14: Abonnements | C14: Infolettre premium de gestion | D14: Travailleur autonome | E14: 19 | F14: 85 | G14: 0.01 | H14: Oui | I14: =IF($A14="","",IFERROR(IF($H14<>"Oui",0,$E14*$F14*(1+$G14)^(COLUMN()-COLUMN($I$6))*INDEX(Paramètres!$B$12:$B$23,MATCH(MONTH(I$6),Paramètres!$A$12:$A$23,0))*INDEX(Paramètres!$F$5:$F$7,MATCH(Paramètres!$B$6,Paramètres!$E$5:$E$7,0))),0)) -> 1372.75 | J14: =IF($A14="","",IFERROR(IF($H14<>"Oui",0,$E14*$F14*(1+$G14)^(COLUMN()-COLUMN($I$6))*INDEX(Paramètres!$B$12:$B$23,MATCH(MONTH(J$6),Paramètres!$A$12:$A$23,0))*INDEX(Paramètres!$F$5:$F$7,MATCH(Paramètres!$B$6,Paramètres!$E$5:$E$7,0))),0)) -> 1435.412 | K14: =IF($A14="","",IFERROR(IF($H14<>"Oui",0,$E14*$F14*(1+$G14)^(COLUMN()-COLUMN($I$6))*INDEX(Paramètres!$B$12:$B$23,MATCH(MONTH(K$6),Paramètres!$A$12:$A$23,0))*INDEX(Paramètres!$F$5:$F$7,MATCH(Paramètres!$B$6,Paramètres!$E$5:$E$7,0))),0)) -> 1515.6646 | L14: =IF($A14="","",IFERROR(IF($H14<>"Oui",0,$E14*$F14*(1+$G14)^(COLUMN()-COLUMN($I$6))*INDEX(Paramètres!$B$12:$B$23,MATCH(MONTH(L$6),Paramètres!$A$12:$A$23,0))*INDEX(Paramètres!$F$5:$F$7,MATCH(Paramètres!$B$6,Paramètres!$E$5:$E$7,0))),0)) -> 1580.7393 | M14: =IF($A14="","",IFERROR(IF($H14<>"Oui",0,$E14*$F14*(1+$G14)^(COLUMN()-COLUMN($I$6))*INDEX(Paramètres!$B$12:$B$23,MATCH(MONTH(M$6),Paramètres!$A$12:$A$23,0))*INDEX(Paramètres!$F$5:$F$7,MATCH(Paramètres!$B$6,Paramètres!$E$5:$E$7,0))),0)) -> 1646.964 | N14: =IF($A14="","",IFERROR(IF($H14<>"Oui",0,$E14*$F14*(1+$G14)^(COLUMN()-COLUMN($I$6))*INDEX(Paramètres!$B$12:$B$23,MATCH(MONTH(N$6),Paramètres!$A$12:$A$23,0))*INDEX(Paramètres!$F$5:$F$7,MATCH(Paramètres!$B$6,Paramètres!$E$5:$E$7,0))),0)) -> 1697.3812 | O14: =IF($A14="","",IFERROR(IF($H14<>"Oui",0,$E14*$F14*(1+$G14)^(COLUMN()-COLUMN($I$6))*INDEX(Paramètres!$B$12:$B$23,MATCH(MONTH(O$6),Paramètres!$A$12:$A$23,0))*INDEX(Paramètres!$F$5:$F$7,MATCH(Paramètres!$B$6,Paramètres!$E$5:$E$7,0))),0)) -> 1405.7711 | P14: =IF($A14="","",IFERROR(IF($H14<>"Oui",0,$E14*$F14*(1+$G14)^(COLUMN()-COLUMN($I$6))*INDEX(Paramètres!$B$12:$B$23,MATCH(MONTH(P$6),Paramètres!$A$12:$A$23,0))*INDEX(Paramètres!$F$5:$F$7,MATCH(Paramètres!$B$6,Paramètres!$E$5:$E$7,0))),0)) -> 1489.0888 | ... T14: =IF($A14="","",IFERROR(IF($H14<>"Oui",0,$E14*$F14*(1+$G14)^(COLUMN()-COLUMN($I$6))*INDEX(Paramètres!$B$12:$B$23,MATCH(MONTH(T$6),Paramètres!$A$12:$A$23,0))*INDEX(Paramètres!$F$5:$F$7,MATCH(Paramètres!$B$6,Paramètres!$E$5:$E$7,0))),0)) -> 2540.5442 | U14: =IF($A14="","",SUM(I14:T14)) -> 20569.636
A15: SER-003 | B15: Services professionnels | C15: Implantation de processus administratifs | D15: Organisme sans but lucratif | E15: 3200 | F15: 2 | G15: 0 | H15: Oui | I15: =IF($A15="","",IFERROR(IF($H15<>"Oui",0,$E15*$F15*(1+$G15)^(COLUMN()-COLUMN($I$6))*INDEX(Paramètres!$B$12:$B$23,MATCH(MONTH(I$6),Paramètres!$A$12:$A$23,0))*INDEX(Paramètres!$F$5:$F$7,MATCH(Paramètres!$B$6,Paramètres!$E$5:$E$7,0))),0)) -> 5440 | J15: =IF($A15="","",IFERROR(IF($H15<>"Oui",0,$E15*$F15*(1+$G15)^(COLUMN()-COLUMN($I$6))*INDEX(Paramètres!$B$12:$B$23,MATCH(MONTH(J$6),Paramètres!$A$12:$A$23,0))*INDEX(Paramètres!$F$5:$F$7,MATCH(Paramètres!$B$6,Paramètres!$E$5:$E$7,0))),0)) -> 5632 | K15: =IF($A15="","",IFERROR(IF($H15<>"Oui",0,$E15*$F15*(1+$G15)^(COLUMN()-COLUMN($I$6))*INDEX(Paramètres!$B$12:$B$23,MATCH(MONTH(K$6),Paramètres!$A$12:$A$23,0))*INDEX(Paramètres!$F$5:$F$7,MATCH(Paramètres!$B$6,Paramètres!$E$5:$E$7,0))),0)) -> 5888 | L15: =IF($A15="","",IFERROR(IF($H15<>"Oui",0,$E15*$F15*(1+$G15)^(COLUMN()-COLUMN($I$6))*INDEX(Paramètres!$B$12:$B$23,MATCH(MONTH(L$6),Paramètres!$A$12:$A$23,0))*INDEX(Paramètres!$F$5:$F$7,MATCH(Paramètres!$B$6,Paramètres!$E$5:$E$7,0))),0)) -> 6080 | M15: =IF($A15="","",IFERROR(IF($H15<>"Oui",0,$E15*$F15*(1+$G15)^(COLUMN()-COLUMN($I$6))*INDEX(Paramètres!$B$12:$B$23,MATCH(MONTH(M$6),Paramètres!$A$12:$A$23,0))*INDEX(Paramètres!$F$5:$F$7,MATCH(Paramètres!$B$6,Paramètres!$E$5:$E$7,0))),0)) -> 6272 | N15: =IF($A15="","",IFERROR(IF($H15<>"Oui",0,$E15*$F15*(1+$G15)^(COLUMN()-COLUMN($I$6))*INDEX(Paramètres!$B$12:$B$23,MATCH(MONTH(N$6),Paramètres!$A$12:$A$23,0))*INDEX(Paramètres!$F$5:$F$7,MATCH(Paramètres!$B$6,Paramètres!$E$5:$E$7,0))),0)) -> 6400 | O15: =IF($A15="","",IFERROR(IF($H15<>"Oui",0,$E15*$F15*(1+$G15)^(COLUMN()-COLUMN($I$6))*INDEX(Paramètres!$B$12:$B$23,MATCH(MONTH(O$6),Paramètres!$A$12:$A$23,0))*INDEX(Paramètres!$F$5:$F$7,MATCH(Paramètres!$B$6,Paramètres!$E$5:$E$7,0))),0)) -> 5248 | P15: =IF($A15="","",IFERROR(IF($H15<>"Oui",0,$E15*$F15*(1+$G15)^(COLUMN()-COLUMN($I$6))*INDEX(Paramètres!$B$12:$B$23,MATCH(MONTH(P$6),Paramètres!$A$12:$A$23,0))*INDEX(Paramètres!$F$5:$F$7,MATCH(Paramètres!$B$6,Paramètres!$E$5:$E$7,0))),0)) -> 5504 | ... T15: =IF($A15="","",IFERROR(IF($H15<>"Oui",0,$E15*$F15*(1+$G15)^(COLUMN()-COLUMN($I$6))*INDEX(Paramètres!$B$12:$B$23,MATCH(MONTH(T$6),Paramètres!$A$12:$A$23,0))*INDEX(Paramètres!$F$5:$F$7,MATCH(Paramètres!$B$6,Paramètres!$E$5:$E$7,0))),0)) -> 9024 | U15: =IF($A15="","",SUM(I15:T15)) -> 76800
I16: =IF($A16="","",IFERROR(IF($H16<>"Oui",0,$E16*$F16*(1+$G16)^(COLUMN()-COLUMN($I$6))*INDEX(Paramètres!$B$12:$B$23,MATCH(MONTH(I$6),Paramètres!$A$12:$A$23,0))*INDEX(Paramètres!$F$5:$F$7,MATCH(Paramètres!$B$6,Paramètres!$E$5:$E$7,0))),0)) | J16: =IF($A16="","",IFERROR(IF($H16<>"Oui",0,$E16*$F16*(1+$G16)^(COLUMN()-COLUMN($I$6))*INDEX(Paramètres!$B$12:$B$23,MATCH(MONTH(J$6),Paramètres!$A$12:$A$23,0))*INDEX(Paramètres!$F$5:$F$7,MATCH(Paramètres!$B$6,Paramètres!$E$5:$E$7,0))),0)) | K16: =IF($A16="","",IFERROR(IF($H16<>"Oui",0,$E16*$F16*(1+$G16)^(COLUMN()-COLUMN($I$6))*INDEX(Paramètres!$B$12:$B$23,MATCH(MONTH(K$6),Paramètres!$A$12:$A$23,0))*INDEX(Paramètres!$F$5:$F$7,MATCH(Paramètres!$B$6,Paramètres!$E$5:$E$7,0))),0)) | L16: =IF($A16="","",IFERROR(IF($H16<>"Oui",0,$E16*$F16*(1+$G16)^(COLUMN()-COLUMN($I$6))*INDEX(Paramètres!$B$12:$B$23,MATCH(MONTH(L$6),Paramètres!$A$12:$A$23,0))*INDEX(Paramètres!$F$5:$F$7,MATCH(Paramètres!$B$6,Paramètres!$E$5:$E$7,0))),0)) | M16: =IF($A16="","",IFERROR(IF($H16<>"Oui",0,$E16*$F16*(1+$G16)^(COLUMN()-COLUMN($I$6))*INDEX(Paramètres!$B$12:$B$23,MATCH(MONTH(M$6),Paramètres!$A$12:$A$23,0))*INDEX(Paramètres!$F$5:$F$7,MATCH(Paramètres!$B$6,Paramètres!$E$5:$E$7,0))),0)) | N16: =IF($A16="","",IFERROR(IF($H16<>"Oui",0,$E16*$F16*(1+$G16)^(COLUMN()-COLUMN($I$6))*INDEX(Paramètres!$B$12:$B$23,MATCH(MONTH(N$6),Paramètres!$A$12:$A$23,0))*INDEX(Paramètres!$F$5:$F$7,MATCH(Paramètres!$B$6,Paramètres!$E$5:$E$7,0))),0)) | O16: =IF($A16="","",IFERROR(IF($H16<>"Oui",0,$E16*$F16*(1+$G16)^(COLUMN()-COLUMN($I$6))*INDEX(Paramètres!$B$12:$B$23,MATCH(MONTH(O$6),Paramètres!$A$12:$A$23,0))*INDEX(Paramètres!$F$5:$F$7,MATCH(Paramètres!$B$6,Paramètres!$E$5:$E$7,0))),0)) | P16: =IF($A16="","",IFERROR(IF($H16<>"Oui",0,$E16*$F16*(1+$G16)^(COLUMN()-COLUMN($I$6))*INDEX(Paramètres!$B$12:$B$23,MATCH(MONTH(P$6),Paramètres!$A$12:$A$23,0))*INDEX(Paramètres!$F$5:$F$7,MATCH(Paramètres!$B$6,Paramètres!$E$5:$E$7,0))),0)) | ... T16: =IF($A16="","",IFERROR(IF($H16<>"Oui",0,$E16*$F16*(1+$G16)^(COLUMN()-COLUMN($I$6))*INDEX(Paramètres!$B$12:$B$23,MATCH(MONTH(T$6),Paramètres!$A$12:$A$23,0))*INDEX(Paramètres!$F$5:$F$7,MATCH(Paramètres!$B$6,Paramètres!$E$5:$E$7,0))),0)) | U16: =IF($A16="","",SUM(I16:T16))
I17: =IF($A17="","",IFERROR(IF($H17<>"Oui",0,$E17*$F17*(1+$G17)^(COLUMN()-COLUMN($I$6))*INDEX(Paramètres!$B$12:$B$23,MATCH(MONTH(I$6),Paramètres!$A$12:$A$23,0))*INDEX(Paramètres!$F$5:$F$7,MATCH(Paramètres!$B$6,Paramètres!$E$5:$E$7,0))),0)) | J17: =IF($A17="","",IFERROR(IF($H17<>"Oui",0,$E17*$F17*(1+$G17)^(COLUMN()-COLUMN($I$6))*INDEX(Paramètres!$B$12:$B$23,MATCH(MONTH(J$6),Paramètres!$A$12:$A$23,0))*INDEX(Paramètres!$F$5:$F$7,MATCH(Paramètres!$B$6,Paramètres!$E$5:$E$7,0))),0)) | K17: =IF($A17="","",IFERROR(IF($H17<>"Oui",0,$E17*$F17*(1+$G17)^(COLUMN()-COLUMN($I$6))*INDEX(Paramètres!$B$12:$B$23,MATCH(MONTH(K$6),Paramètres!$A$12:$A$23,0))*INDEX(Paramètres!$F$5:$F$7,MATCH(Paramètres!$B$6,Paramètres!$E$5:$E$7,0))),0)) | L17: =IF($A17="","",IFERROR(IF($H17<>"Oui",0,$E17*$F17*(1+$G17)^(COLUMN()-COLUMN($I$6))*INDEX(Paramètres!$B$12:$B$23,MATCH(MONTH(L$6),Paramètres!$A$12:$A$23,0))*INDEX(Paramètres!$F$5:$F$7,MATCH(Paramètres!$B$6,Paramètres!$E$5:$E$7,0))),0)) | M17: =IF($A17="","",IFERROR(IF($H17<>"Oui",0,$E17*$F17*(1+$G17)^(COLUMN()-COLUMN($I$6))*INDEX(Paramètres!$B$12:$B$23,MATCH(MONTH(M$6),Paramètres!$A$12:$A$23,0))*INDEX(Paramètres!$F$5:$F$7,MATCH(Paramètres!$B$6,Paramètres!$E$5:$E$7,0))),0)) | N17: =IF($A17="","",IFERROR(IF($H17<>"Oui",0,$E17*$F17*(1+$G17)^(COLUMN()-COLUMN($I$6))*INDEX(Paramètres!$B$12:$B$23,MATCH(MONTH(N$6),Paramètres!$A$12:$A$23,0))*INDEX(Paramètres!$F$5:$F$7,MATCH(Paramètres!$B$6,Paramètres!$E$5:$E$7,0))),0)) | O17: =IF($A17="","",IFERROR(IF($H17<>"Oui",0,$E17*$F17*(1+$G17)^(COLUMN()-COLUMN($I$6))*INDEX(Paramètres!$B$12:$B$23,MATCH(MONTH(O$6),Paramètres!$A$12:$A$23,0))*INDEX(Paramètres!$F$5:$F$7,MATCH(Paramètres!$B$6,Paramètres!$E$5:$E$7,0))),0)) | P17: =IF($A17="","",IFERROR(IF($H17<>"Oui",0,$E17*$F17*(1+$G17)^(COLUMN()-COLUMN($I$6))*INDEX(Paramètres!$B$12:$B$23,MATCH(MONTH(P$6),Paramètres!$A$12:$A$23,0))*INDEX(Paramètres!$F$5:$F$7,MATCH(Paramètres!$B$6,Paramètres!$E$5:$E$7,0))),0)) | ... T17: =IF($A17="","",IFERROR(IF($H17<>"Oui",0,$E17*$F17*(1+$G17)^(COLUMN()-COLUMN($I$6))*INDEX(Paramètres!$B$12:$B$23,MATCH(MONTH(T$6),Paramètres!$A$12:$A$23,0))*INDEX(Paramètres!$F$5:$F$7,MATCH(Paramètres!$B$6,Paramètres!$E$5:$E$7,0))),0)) | U17: =IF($A17="","",SUM(I17:T17))
I18: =IF($A18="","",IFERROR(IF($H18<>"Oui",0,$E18*$F18*(1+$G18)^(COLUMN()-COLUMN($I$6))*INDEX(Paramètres!$B$12:$B$23,MATCH(MONTH(I$6),Paramètres!$A$12:$A$23,0))*INDEX(Paramètres!$F$5:$F$7,MATCH(Paramètres!$B$6,Paramètres!$E$5:$E$7,0))),0)) | J18: =IF($A18="","",IFERROR(IF($H18<>"Oui",0,$E18*$F18*(1+$G18)^(COLUMN()-COLUMN($I$6))*INDEX(Paramètres!$B$12:$B$23,MATCH(MONTH(J$6),Paramètres!$A$12:$A$23,0))*INDEX(Paramètres!$F$5:$F$7,MATCH(Paramètres!$B$6,Paramètres!$E$5:$E$7,0))),0)) | K18: =IF($A18="","",IFERROR(IF($H18<>"Oui",0,$E18*$F18*(1+$G18)^(COLUMN()-COLUMN($I$6))*INDEX(Paramètres!$B$12:$B$23,MATCH(MONTH(K$6),Paramètres!$A$12:$A$23,0))*INDEX(Paramètres!$F$5:$F$7,MATCH(Paramètres!$B$6,Paramètres!$E$5:$E$7,0))),0)) | L18: =IF($A18="","",IFERROR(IF($H18<>"Oui",0,$E18*$F18*(1+$G18)^(COLUMN()-COLUMN($I$6))*INDEX(Paramètres!$B$12:$B$23,MATCH(MONTH(L$6),Paramètres!$A$12:$A$23,0))*INDEX(Paramètres!$F$5:$F$7,MATCH(Paramètres!$B$6,Paramètres!$E$5:$E$7,0))),0)) | M18: =IF($A18="","",IFERROR(IF($H18<>"Oui",0,$E18*$F18*(1+$G18)^(COLUMN()-COLUMN($I$6))*INDEX(Paramètres!$B$12:$B$23,MATCH(MONTH(M$6),Paramètres!$A$12:$A$23,0))*INDEX(Paramètres!$F$5:$F$7,MATCH(Paramètres!$B$6,Paramètres!$E$5:$E$7,0))),0)) | N18: =IF($A18="","",IFERROR(IF($H18<>"Oui",0,$E18*$F18*(1+$G18)^(COLUMN()-COLUMN($I$6))*INDEX(Paramètres!$B$12:$B$23,MATCH(MONTH(N$6),Paramètres!$A$12:$A$23,0))*INDEX(Paramètres!$F$5:$F$7,MATCH(Paramètres!$B$6,Paramètres!$E$5:$E$7,0))),0)) | O18: =IF($A18="","",IFERROR(IF($H18<>"Oui",0,$E18*$F18*(1+$G18)^(COLUMN()-COLUMN($I$6))*INDEX(Paramètres!$B$12:$B$23,MATCH(MONTH(O$6),Paramètres!$A$12:$A$23,0))*INDEX(Paramètres!$F$5:$F$7,MATCH(Paramètres!$B$6,Paramètres!$E$5:$E$7,0))),0)) | P18: =IF($A18="","",IFERROR(IF($H18<>"Oui",0,$E18*$F18*(1+$G18)^(COLUMN()-COLUMN($I$6))*INDEX(Paramètres!$B$12:$B$23,MATCH(MONTH(P$6),Paramètres!$A$12:$A$23,0))*INDEX(Paramètres!$F$5:$F$7,MATCH(Paramètres!$B$6,Paramètres!$E$5:$E$7,0))),0)) | ... T18: =IF($A18="","",IFERROR(IF($H18<>"Oui",0,$E18*$F18*(1+$G18)^(COLUMN()-COLUMN($I$6))*INDEX(Paramètres!$B$12:$B$23,MATCH(MONTH(T$6),Paramètres!$A$12:$A$23,0))*INDEX(Paramètres!$F$5:$F$7,MATCH(Paramètres!$B$6,Paramètres!$E$5:$E$7,0))),0)) | U18: =IF($A18="","",SUM(I18:T18))
I19: =IF($A19="","",IFERROR(IF($H19<>"Oui",0,$E19*$F19*(1+$G19)^(COLUMN()-COLUMN($I$6))*INDEX(Paramètres!$B$12:$B$23,MATCH(MONTH(I$6),Paramètres!$A$12:$A$23,0))*INDEX(Paramètres!$F$5:$F$7,MATCH(Paramètres!$B$6,Paramètres!$E$5:$E$7,0))),0)) | J19: =IF($A19="","",IFERROR(IF($H19<>"Oui",0,$E19*$F19*(1+$G19)^(COLUMN()-COLUMN($I$6))*INDEX(Paramètres!$B$12:$B$23,MATCH(MONTH(J$6),Paramètres!$A$12:$A$23,0))*INDEX(Paramètres!$F$5:$F$7,MATCH(Paramètres!$B$6,Paramètres!$E$5:$E$7,0))),0)) | K19: =IF($A19="","",IFERROR(IF($H19<>"Oui",0,$E19*$F19*(1+$G19)^(COLUMN()-COLUMN($I$6))*INDEX(Paramètres!$B$12:$B$23,MATCH(MONTH(K$6),Paramètres!$A$12:$A$23,0))*INDEX(Paramètres!$F$5:$F$7,MATCH(Paramètres!$B$6,Paramètres!$E$5:$E$7,0))),0)) | L19: =IF($A19="","",IFERROR(IF($H19<>"Oui",0,$E19*$F19*(1+$G19)^(COLUMN()-COLUMN($I$6))*INDEX(Paramètres!$B$12:$B$23,MATCH(MONTH(L$6),Paramètres!$A$12:$A$23,0))*INDEX(Paramètres!$F$5:$F$7,MATCH(Paramètres!$B$6,Paramètres!$E$5:$E$7,0))),0)) | M19: =IF($A19="","",IFERROR(IF($H19<>"Oui",0,$E19*$F19*(1+$G19)^(COLUMN()-COLUMN($I$6))*INDEX(Paramètres!$B$12:$B$23,MATCH(MONTH(M$6),Paramètres!$A$12:$A$23,0))*INDEX(Paramètres!$F$5:$F$7,MATCH(Paramètres!$B$6,Paramètres!$E$5:$E$7,0))),0)) | N19: =IF($A19="","",IFERROR(IF($H19<>"Oui",0,$E19*$F19*(1+$G19)^(COLUMN()-COLUMN($I$6))*INDEX(Paramètres!$B$12:$B$23,MATCH(MONTH(N$6),Paramètres!$A$12:$A$23,0))*INDEX(Paramètres!$F$5:$F$7,MATCH(Paramètres!$B$6,Paramètres!$E$5:$E$7,0))),0)) | O19: =IF($A19="","",IFERROR(IF($H19<>"Oui",0,$E19*$F19*(1+$G19)^(COLUMN()-COLUMN($I$6))*INDEX(Paramètres!$B$12:$B$23,MATCH(MONTH(O$6),Paramètres!$A$12:$A$23,0))*INDEX(Paramètres!$F$5:$F$7,MATCH(Paramètres!$B$6,Paramètres!$E$5:$E$7,0))),0)) | P19: =IF($A19="","",IFERROR(IF($H19<>"Oui",0,$E19*$F19*(1+$G19)^(COLUMN()-COLUMN($I$6))*INDEX(Paramètres!$B$12:$B$23,MATCH(MONTH(P$6),Paramètres!$A$12:$A$23,0))*INDEX(Paramètres!$F$5:$F$7,MATCH(Paramètres!$B$6,Paramètres!$E$5:$E$7,0))),0)) | ... T19: =IF($A19="","",IFERROR(IF($H19<>"Oui",0,$E19*$F19*(1+$G19)^(COLUMN()-COLUMN($I$6))*INDEX(Paramètres!$B$12:$B$23,MATCH(MONTH(T$6),Paramètres!$A$12:$A$23,0))*INDEX(Paramètres!$F$5:$F$7,MATCH(Paramètres!$B$6,Paramètres!$E$5:$E$7,0))),0)) | U19: =IF($A19="","",SUM(I19:T19))
I20: =IF($A20="","",IFERROR(IF($H20<>"Oui",0,$E20*$F20*(1+$G20)^(COLUMN()-COLUMN($I$6))*INDEX(Paramètres!$B$12:$B$23,MATCH(MONTH(I$6),Paramètres!$A$12:$A$23,0))*INDEX(Paramètres!$F$5:$F$7,MATCH(Paramètres!$B$6,Paramètres!$E$5:$E$7,0))),0)) | J20: =IF($A20="","",IFERROR(IF($H20<>"Oui",0,$E20*$F20*(1+$G20)^(COLUMN()-COLUMN($I$6))*INDEX(Paramètres!$B$12:$B$23,MATCH(MONTH(J$6),Paramètres!$A$12:$A$23,0))*INDEX(Paramètres!$F$5:$F$7,MATCH(Paramètres!$B$6,Paramètres!$E$5:$E$7,0))),0)) | K20: =IF($A20="","",IFERROR(IF($H20<>"Oui",0,$E20*$F20*(1+$G20)^(COLUMN()-COLUMN($I$6))*INDEX(Paramètres!$B$12:$B$23,MATCH(MONTH(K$6),Paramètres!$A$12:$A$23,0))*INDEX(Paramètres!$F$5:$F$7,MATCH(Paramètres!$B$6,Paramètres!$E$5:$E$7,0))),0)) | L20: =IF($A20="","",IFERROR(IF($H20<>"Oui",0,$E20*$F20*(1+$G20)^(COLUMN()-COLUMN($I$6))*INDEX(Paramètres!$B$12:$B$23,MATCH(MONTH(L$6),Paramètres!$A$12:$A$23,0))*INDEX(Paramètres!$F$5:$F$7,MATCH(Paramètres!$B$6,Paramètres!$E$5:$E$7,0))),0)) | M20: =IF($A20="","",IFERROR(IF($H20<>"Oui",0,$E20*$F20*(1+$G20)^(COLUMN()-COLUMN($I$6))*INDEX(Paramètres!$B$12:$B$23,MATCH(MONTH(M$6),Paramètres!$A$12:$A$23,0))*INDEX(Paramètres!$F$5:$F$7,MATCH(Paramètres!$B$6,Paramètres!$E$5:$E$7,0))),0)) | N20: =IF($A20="","",IFERROR(IF($H20<>"Oui",0,$E20*$F20*(1+$G20)^(COLUMN()-COLUMN($I$6))*INDEX(Paramètres!$B$12:$B$23,MATCH(MONTH(N$6),Paramètres!$A$12:$A$23,0))*INDEX(Paramètres!$F$5:$F$7,MATCH(Paramètres!$B$6,Paramètres!$E$5:$E$7,0))),0)) | O20: =IF($A20="","",IFERROR(IF($H20<>"Oui",0,$E20*$F20*(1+$G20)^(COLUMN()-COLUMN($I$6))*INDEX(Paramètres!$B$12:$B$23,MATCH(MONTH(O$6),Paramètres!$A$12:$A$23,0))*INDEX(Paramètres!$F$5:$F$7,MATCH(Paramètres!$B$6,Paramètres!$E$5:$E$7,0))),0)) | P20: =IF($A20="","",IFERROR(IF($H20<>"Oui",0,$E20*$F20*(1+$G20)^(COLUMN()-COLUMN($I$6))*INDEX(Paramètres!$B$12:$B$23,MATCH(MONTH(P$6),Paramètres!$A$12:$A$23,0))*INDEX(Paramètres!$F$5:$F$7,MATCH(Paramètres!$B$6,Paramètres!$E$5:$E$7,0))),0)) | ... T20: =IF($A20="","",IFERROR(IF($H20<>"Oui",0,$E20*$F20*(1+$G20)^(COLUMN()-COLUMN($I$6))*INDEX(Paramètres!$B$12:$B$23,MATCH(MONTH(T$6),Paramètres!$A$12:$A$23,0))*INDEX(Paramètres!$F$5:$F$7,MATCH(Paramètres!$B$6,Paramètres!$E$5:$E$7,0))),0)) | U20: =IF($A20="","",SUM(I20:T20))
I21: =IF($A21="","",IFERROR(IF($H21<>"Oui",0,$E21*$F21*(1+$G21)^(COLUMN()-COLUMN($I$6))*INDEX(Paramètres!$B$12:$B$23,MATCH(MONTH(I$6),Paramètres!$A$12:$A$23,0))*INDEX(Paramètres!$F$5:$F$7,MATCH(Paramètres!$B$6,Paramètres!$E$5:$E$7,0))),0)) | J21: =IF($A21="","",IFERROR(IF($H21<>"Oui",0,$E21*$F21*(1+$G21)^(COLUMN()-COLUMN($I$6))*INDEX(Paramètres!$B$12:$B$23,MATCH(MONTH(J$6),Paramètres!$A$12:$A$23,0))*INDEX(Paramètres!$F$5:$F$7,MATCH(Paramètres!$B$6,Paramètres!$E$5:$E$7,0))),0)) | K21: =IF($A21="","",IFERROR(IF($H21<>"Oui",0,$E21*$F21*(1+$G21)^(COLUMN()-COLUMN($I$6))*INDEX(Paramètres!$B$12:$B$23,MATCH(MONTH(K$6),Paramètres!$A$12:$A$23,0))*INDEX(Paramètres!$F$5:$F$7,MATCH(Paramètres!$B$6,Paramètres!$E$5:$E$7,0))),0)) | L21: =IF($A21="","",IFERROR(IF($H21<>"Oui",0,$E21*$F21*(1+$G21)^(COLUMN()-COLUMN($I$6))*INDEX(Paramètres!$B$12:$B$23,MATCH(MONTH(L$6),Paramètres!$A$12:$A$23,0))*INDEX(Paramètres!$F$5:$F$7,MATCH(Paramètres!$B$6,Paramètres!$E$5:$E$7,0))),0)) | M21: =IF($A21="","",IFERROR(IF($H21<>"Oui",0,$E21*$F21*(1+$G21)^(COLUMN()-COLUMN($I$6))*INDEX(Paramètres!$B$12:$B$23,MATCH(MONTH(M$6),Paramètres!$A$12:$A$23,0))*INDEX(Paramètres!$F$5:$F$7,MATCH(Paramètres!$B$6,Paramètres!$E$5:$E$7,0))),0)) | N21: =IF($A21="","",IFERROR(IF($H21<>"Oui",0,$E21*$F21*(1+$G21)^(COLUMN()-COLUMN($I$6))*INDEX(Paramètres!$B$12:$B$23,MATCH(MONTH(N$6),Paramètres!$A$12:$A$23,0))*INDEX(Paramètres!$F$5:$F$7,MATCH(Paramètres!$B$6,Paramètres!$E$5:$E$7,0))),0)) | O21: =IF($A21="","",IFERROR(IF($H21<>"Oui",0,$E21*$F21*(1+$G21)^(COLUMN()-COLUMN($I$6))*INDEX(Paramètres!$B$12:$B$23,MATCH(MONTH(O$6),Paramètres!$A$12:$A$23,0))*INDEX(Paramètres!$F$5:$F$7,MATCH(Paramètres!$B$6,Paramètres!$E$5:$E$7,0))),0)) | P21: =IF($A21="","",IFERROR(IF($H21<>"Oui",0,$E21*$F21*(1+$G21)^(COLUMN()-COLUMN($I$6))*INDEX(Paramètres!$B$12:$B$23,MATCH(MONTH(P$6),Paramètres!$A$12:$A$23,0))*INDEX(Paramètres!$F$5:$F$7,MATCH(Paramètres!$B$6,Paramètres!$E$5:$E$7,0))),0)) | ... T21: =IF($A21="","",IFERROR(IF($H21<>"Oui",0,$E21*$F21*(1+$G21)^(COLUMN()-COLUMN($I$6))*INDEX(Paramètres!$B$12:$B$23,MATCH(MONTH(T$6),Paramètres!$A$12:$A$23,0))*INDEX(Paramètres!$F$5:$F$7,MATCH(Paramètres!$B$6,Paramètres!$E$5:$E$7,0))),0)) | U21: =IF($A21="","",SUM(I21:T21))
I22: =IF($A22="","",IFERROR(IF($H22<>"Oui",0,$E22*$F22*(1+$G22)^(COLUMN()-COLUMN($I$6))*INDEX(Paramètres!$B$12:$B$23,MATCH(MONTH(I$6),Paramètres!$A$12:$A$23,0))*INDEX(Paramètres!$F$5:$F$7,MATCH(Paramètres!$B$6,Paramètres!$E$5:$E$7,0))),0)) | J22: =IF($A22="","",IFERROR(IF($H22<>"Oui",0,$E22*$F22*(1+$G22)^(COLUMN()-COLUMN($I$6))*INDEX(Paramètres!$B$12:$B$23,MATCH(MONTH(J$6),Paramètres!$A$12:$A$23,0))*INDEX(Paramètres!$F$5:$F$7,MATCH(Paramètres!$B$6,Paramètres!$E$5:$E$7,0))),0)) | K22: =IF($A22="","",IFERROR(IF($H22<>"Oui",0,$E22*$F22*(1+$G22)^(COLUMN()-COLUMN($I$6))*INDEX(Paramètres!$B$12:$B$23,MATCH(MONTH(K$6),Paramètres!$A$12:$A$23,0))*INDEX(Paramètres!$F$5:$F$7,MATCH(Paramètres!$B$6,Paramètres!$E$5:$E$7,0))),0)) | L22: =IF($A22="","",IFERROR(IF($H22<>"Oui",0,$E22*$F22*(1+$G22)^(COLUMN()-COLUMN($I$6))*INDEX(Paramètres!$B$12:$B$23,MATCH(MONTH(L$6),Paramètres!$A$12:$A$23,0))*INDEX(Paramètres!$F$5:$F$7,MATCH(Paramètres!$B$6,Paramètres!$E$5:$E$7,0))),0)) | M22: =IF($A22="","",IFERROR(IF($H22<>"Oui",0,$E22*$F22*(1+$G22)^(COLUMN()-COLUMN($I$6))*INDEX(Paramètres!$B$12:$B$23,MATCH(MONTH(M$6),Paramètres!$A$12:$A$23,0))*INDEX(Paramètres!$F$5:$F$7,MATCH(Paramètres!$B$6,Paramètres!$E$5:$E$7,0))),0)) | N22: =IF($A22="","",IFERROR(IF($H22<>"Oui",0,$E22*$F22*(1+$G22)^(COLUMN()-COLUMN($I$6))*INDEX(Paramètres!$B$12:$B$23,MATCH(MONTH(N$6),Paramètres!$A$12:$A$23,0))*INDEX(Paramètres!$F$5:$F$7,MATCH(Paramètres!$B$6,Paramètres!$E$5:$E$7,0))),0)) | O22: =IF($A22="","",IFERROR(IF($H22<>"Oui",0,$E22*$F22*(1+$G22)^(COLUMN()-COLUMN($I$6))*INDEX(Paramètres!$B$12:$B$23,MATCH(MONTH(O$6),Paramètres!$A$12:$A$23,0))*INDEX(Paramètres!$F$5:$F$7,MATCH(Paramètres!$B$6,Paramètres!$E$5:$E$7,0))),0)) | P22: =IF($A22="","",IFERROR(IF($H22<>"Oui",0,$E22*$F22*(1+$G22)^(COLUMN()-COLUMN($I$6))*INDEX(Paramètres!$B$12:$B$23,MATCH(MONTH(P$6),Paramètres!$A$12:$A$23,0))*INDEX(Paramètres!$F$5:$F$7,MATCH(Paramètres!$B$6,Paramètres!$E$5:$E$7,0))),0)) | ... T22: =IF($A22="","",IFERROR(IF($H22<>"Oui",0,$E22*$F22*(1+$G22)^(COLUMN()-COLUMN($I$6))*INDEX(Paramètres!$B$12:$B$23,MATCH(MONTH(T$6),Paramètres!$A$12:$A$23,0))*INDEX(Paramètres!$F$5:$F$7,MATCH(Paramètres!$B$6,Paramètres!$E$5:$E$7,0))),0)) | U22: =IF($A22="","",SUM(I22:T22))
I23: =IF($A23="","",IFERROR(IF($H23<>"Oui",0,$E23*$F23*(1+$G23)^(COLUMN()-COLUMN($I$6))*INDEX(Paramètres!$B$12:$B$23,MATCH(MONTH(I$6),Paramètres!$A$12:$A$23,0))*INDEX(Paramètres!$F$5:$F$7,MATCH(Paramètres!$B$6,Paramètres!$E$5:$E$7,0))),0)) | J23: =IF($A23="","",IFERROR(IF($H23<>"Oui",0,$E23*$F23*(1+$G23)^(COLUMN()-COLUMN($I$6))*INDEX(Paramètres!$B$12:$B$23,MATCH(MONTH(J$6),Paramètres!$A$12:$A$23,0))*INDEX(Paramètres!$F$5:$F$7,MATCH(Paramètres!$B$6,Paramètres!$E$5:$E$7,0))),0)) | K23: =IF($A23="","",IFERROR(IF($H23<>"Oui",0,$E23*$F23*(1+$G23)^(COLUMN()-COLUMN($I$6))*INDEX(Paramètres!$B$12:$B$23,MATCH(MONTH(K$6),Paramètres!$A$12:$A$23,0))*INDEX(Paramètres!$F$5:$F$7,MATCH(Paramètres!$B$6,Paramètres!$E$5:$E$7,0))),0)) | L23: =IF($A23="","",IFERROR(IF($H23<>"Oui",0,$E23*$F23*(1+$G23)^(COLUMN()-COLUMN($I$6))*INDEX(Paramètres!$B$12:$B$23,MATCH(MONTH(L$6),Paramètres!$A$12:$A$23,0))*INDEX(Paramètres!$F$5:$F$7,MATCH(Paramètres!$B$6,Paramètres!$E$5:$E$7,0))),0)) | M23: =IF($A23="","",IFERROR(IF($H23<>"Oui",0,$E23*$F23*(1+$G23)^(COLUMN()-COLUMN($I$6))*INDEX(Paramètres!$B$12:$B$23,MATCH(MONTH(M$6),Paramètres!$A$12:$A$23,0))*INDEX(Paramètres!$F$5:$F$7,MATCH(Paramètres!$B$6,Paramètres!$E$5:$E$7,0))),0)) | N23: =IF($A23="","",IFERROR(IF($H23<>"Oui",0,$E23*$F23*(1+$G23)^(COLUMN()-COLUMN($I$6))*INDEX(Paramètres!$B$12:$B$23,MATCH(MONTH(N$6),Paramètres!$A$12:$A$23,0))*INDEX(Paramètres!$F$5:$F$7,MATCH(Paramètres!$B$6,Paramètres!$E$5:$E$7,0))),0)) | O23: =IF($A23="","",IFERROR(IF($H23<>"Oui",0,$E23*$F23*(1+$G23)^(COLUMN()-COLUMN($I$6))*INDEX(Paramètres!$B$12:$B$23,MATCH(MONTH(O$6),Paramètres!$A$12:$A$23,0))*INDEX(Paramètres!$F$5:$F$7,MATCH(Paramètres!$B$6,Paramètres!$E$5:$E$7,0))),0)) | P23: =IF($A23="","",IFERROR(IF($H23<>"Oui",0,$E23*$F23*(1+$G23)^(COLUMN()-COLUMN($I$6))*INDEX(Paramètres!$B$12:$B$23,MATCH(MONTH(P$6),Paramètres!$A$12:$A$23,0))*INDEX(Paramètres!$F$5:$F$7,MATCH(Paramètres!$B$6,Paramètres!$E$5:$E$7,0))),0)) | ... T23: =IF($A23="","",IFERROR(IF($H23<>"Oui",0,$E23*$F23*(1+$G23)^(COLUMN()-COLUMN($I$6))*INDEX(Paramètres!$B$12:$B$23,MATCH(MONTH(T$6),Paramètres!$A$12:$A$23,0))*INDEX(Paramètres!$F$5:$F$7,MATCH(Paramètres!$B$6,Paramètres!$E$5:$E$7,0))),0)) | U23: =IF($A23="","",SUM(I23:T23))
I24: =IF($A24="","",IFERROR(IF($H24<>"Oui",0,$E24*$F24*(1+$G24)^(COLUMN()-COLUMN($I$6))*INDEX(Paramètres!$B$12:$B$23,MATCH(MONTH(I$6),Paramètres!$A$12:$A$23,0))*INDEX(Paramètres!$F$5:$F$7,MATCH(Paramètres!$B$6,Paramètres!$E$5:$E$7,0))),0)) | J24: =IF($A24="","",IFERROR(IF($H24<>"Oui",0,$E24*$F24*(1+$G24)^(COLUMN()-COLUMN($I$6))*INDEX(Paramètres!$B$12:$B$23,MATCH(MONTH(J$6),Paramètres!$A$12:$A$23,0))*INDEX(Paramètres!$F$5:$F$7,MATCH(Paramètres!$B$6,Paramètres!$E$5:$E$7,0))),0)) | K24: =IF($A24="","",IFERROR(IF($H24<>"Oui",0,$E24*$F24*(1+$G24)^(COLUMN()-COLUMN($I$6))*INDEX(Paramètres!$B$12:$B$23,MATCH(MONTH(K$6),Paramètres!$A$12:$A$23,0))*INDEX(Paramètres!$F$5:$F$7,MATCH(Paramètres!$B$6,Paramètres!$E$5:$E$7,0))),0)) | L24: =IF($A24="","",IFERROR(IF($H24<>"Oui",0,$E24*$F24*(1+$G24)^(COLUMN()-COLUMN($I$6))*INDEX(Paramètres!$B$12:$B$23,MATCH(MONTH(L$6),Paramètres!$A$12:$A$23,0))*INDEX(Paramètres!$F$5:$F$7,MATCH(Paramètres!$B$6,Paramètres!$E$5:$E$7,0))),0)) | M24: =IF($A24="","",IFERROR(IF($H24<>"Oui",0,$E24*$F24*(1+$G24)^(COLUMN()-COLUMN($I$6))*INDEX(Paramètres!$B$12:$B$23,MATCH(MONTH(M$6),Paramètres!$A$12:$A$23,0))*INDEX(Paramètres!$F$5:$F$7,MATCH(Paramètres!$B$6,Paramètres!$E$5:$E$7,0))),0)) | N24: =IF($A24="","",IFERROR(IF($H24<>"Oui",0,$E24*$F24*(1+$G24)^(COLUMN()-COLUMN($I$6))*INDEX(Paramètres!$B$12:$B$23,MATCH(MONTH(N$6),Paramètres!$A$12:$A$23,0))*INDEX(Paramètres!$F$5:$F$7,MATCH(Paramètres!$B$6,Paramètres!$E$5:$E$7,0))),0)) | O24: =IF($A24="","",IFERROR(IF($H24<>"Oui",0,$E24*$F24*(1+$G24)^(COLUMN()-COLUMN($I$6))*INDEX(Paramètres!$B$12:$B$23,MATCH(MONTH(O$6),Paramètres!$A$12:$A$23,0))*INDEX(Paramètres!$F$5:$F$7,MATCH(Paramètres!$B$6,Paramètres!$E$5:$E$7,0))),0)) | P24: =IF($A24="","",IFERROR(IF($H24<>"Oui",0,$E24*$F24*(1+$G24)^(COLUMN()-COLUMN($I$6))*INDEX(Paramètres!$B$12:$B$23,MATCH(MONTH(P$6),Paramètres!$A$12:$A$23,0))*INDEX(Paramètres!$F$5:$F$7,MATCH(Paramètres!$B$6,Paramètres!$E$5:$E$7,0))),0)) | ... T24: =IF($A24="","",IFERROR(IF($H24<>"Oui",0,$E24*$F24*(1+$G24)^(COLUMN()-COLUMN($I$6))*INDEX(Paramètres!$B$12:$B$23,MATCH(MONTH(T$6),Paramètres!$A$12:$A$23,0))*INDEX(Paramètres!$F$5:$F$7,MATCH(Paramètres!$B$6,Paramètres!$E$5:$E$7,0))),0)) | U24: =IF($A24="","",SUM(I24:T24))
I25: =IF($A25="","",IFERROR(IF($H25<>"Oui",0,$E25*$F25*(1+$G25)^(COLUMN()-COLUMN($I$6))*INDEX(Paramètres!$B$12:$B$23,MATCH(MONTH(I$6),Paramètres!$A$12:$A$23,0))*INDEX(Paramètres!$F$5:$F$7,MATCH(Paramètres!$B$6,Paramètres!$E$5:$E$7,0))),0)) | J25: =IF($A25="","",IFERROR(IF($H25<>"Oui",0,$E25*$F25*(1+$G25)^(COLUMN()-COLUMN($I$6))*INDEX(Paramètres!$B$12:$B$23,MATCH(MONTH(J$6),Paramètres!$A$12:$A$23,0))*INDEX(Paramètres!$F$5:$F$7,MATCH(Paramètres!$B$6,Paramètres!$E$5:$E$7,0))),0)) | K25: =IF($A25="","",IFERROR(IF($H25<>"Oui",0,$E25*$F25*(1+$G25)^(COLUMN()-COLUMN($I$6))*INDEX(Paramètres!$B$12:$B$23,MATCH(MONTH(K$6),Paramètres!$A$12:$A$23,0))*INDEX(Paramètres!$F$5:$F$7,MATCH(Paramètres!$B$6,Paramètres!$E$5:$E$7,0))),0)) | L25: =IF($A25="","",IFERROR(IF($H25<>"Oui",0,$E25*$F25*(1+$G25)^(COLUMN()-COLUMN($I$6))*INDEX(Paramètres!$B$12:$B$23,MATCH(MONTH(L$6),Paramètres!$A$12:$A$23,0))*INDEX(Paramètres!$F$5:$F$7,MATCH(Paramètres!$B$6,Paramètres!$E$5:$E$7,0))),0)) | M25: =IF($A25="","",IFERROR(IF($H25<>"Oui",0,$E25*$F25*(1+$G25)^(COLUMN()-COLUMN($I$6))*INDEX(Paramètres!$B$12:$B$23,MATCH(MONTH(M$6),Paramètres!$A$12:$A$23,0))*INDEX(Paramètres!$F$5:$F$7,MATCH(Paramètres!$B$6,Paramètres!$E$5:$E$7,0))),0)) | N25: =IF($A25="","",IFERROR(IF($H25<>"Oui",0,$E25*$F25*(1+$G25)^(COLUMN()-COLUMN($I$6))*INDEX(Paramètres!$B$12:$B$23,MATCH(MONTH(N$6),Paramètres!$A$12:$A$23,0))*INDEX(Paramètres!$F$5:$F$7,MATCH(Paramètres!$B$6,Paramètres!$E$5:$E$7,0))),0)) | O25: =IF($A25="","",IFERROR(IF($H25<>"Oui",0,$E25*$F25*(1+$G25)^(COLUMN()-COLUMN($I$6))*INDEX(Paramètres!$B$12:$B$23,MATCH(MONTH(O$6),Paramètres!$A$12:$A$23,0))*INDEX(Paramètres!$F$5:$F$7,MATCH(Paramètres!$B$6,Paramètres!$E$5:$E$7,0))),0)) | P25: =IF($A25="","",IFERROR(IF($H25<>"Oui",0,$E25*$F25*(1+$G25)^(COLUMN()-COLUMN($I$6))*INDEX(Paramètres!$B$12:$B$23,MATCH(MONTH(P$6),Paramètres!$A$12:$A$23,0))*INDEX(Paramètres!$F$5:$F$7,MATCH(Paramètres!$B$6,Paramètres!$E$5:$E$7,0))),0)) | ... T25: =IF($A25="","",IFERROR(IF($H25<>"Oui",0,$E25*$F25*(1+$G25)^(COLUMN()-COLUMN($I$6))*INDEX(Paramètres!$B$12:$B$23,MATCH(MONTH(T$6),Paramètres!$A$12:$A$23,0))*INDEX(Paramètres!$F$5:$F$7,MATCH(Paramètres!$B$6,Paramètres!$E$5:$E$7,0))),0)) | U25: =IF($A25="","",SUM(I25:T25))
I26: =IF($A26="","",IFERROR(IF($H26<>"Oui",0,$E26*$F26*(1+$G26)^(COLUMN()-COLUMN($I$6))*INDEX(Paramètres!$B$12:$B$23,MATCH(MONTH(I$6),Paramètres!$A$12:$A$23,0))*INDEX(Paramètres!$F$5:$F$7,MATCH(Paramètres!$B$6,Paramètres!$E$5:$E$7,0))),0)) | J26: =IF($A26="","",IFERROR(IF($H26<>"Oui",0,$E26*$F26*(1+$G26)^(COLUMN()-COLUMN($I$6))*INDEX(Paramètres!$B$12:$B$23,MATCH(MONTH(J$6),Paramètres!$A$12:$A$23,0))*INDEX(Paramètres!$F$5:$F$7,MATCH(Paramètres!$B$6,Paramètres!$E$5:$E$7,0))),0)) | K26: =IF($A26="","",IFERROR(IF($H26<>"Oui",0,$E26*$F26*(1+$G26)^(COLUMN()-COLUMN($I$6))*INDEX(Paramètres!$B$12:$B$23,MATCH(MONTH(K$6),Paramètres!$A$12:$A$23,0))*INDEX(Paramètres!$F$5:$F$7,MATCH(Paramètres!$B$6,Paramètres!$E$5:$E$7,0))),0)) | L26: =IF($A26="","",IFERROR(IF($H26<>"Oui",0,$E26*$F26*(1+$G26)^(COLUMN()-COLUMN($I$6))*INDEX(Paramètres!$B$12:$B$23,MATCH(MONTH(L$6),Paramètres!$A$12:$A$23,0))*INDEX(Paramètres!$F$5:$F$7,MATCH(Paramètres!$B$6,Paramètres!$E$5:$E$7,0))),0)) | M26: =IF($A26="","",IFERROR(IF($H26<>"Oui",0,$E26*$F26*(1+$G26)^(COLUMN()-COLUMN($I$6))*INDEX(Paramètres!$B$12:$B$23,MATCH(MONTH(M$6),Paramètres!$A$12:$A$23,0))*INDEX(Paramètres!$F$5:$F$7,MATCH(Paramètres!$B$6,Paramètres!$E$5:$E$7,0))),0)) | N26: =IF($A26="","",IFERROR(IF($H26<>"Oui",0,$E26*$F26*(1+$G26)^(COLUMN()-COLUMN($I$6))*INDEX(Paramètres!$B$12:$B$23,MATCH(MONTH(N$6),Paramètres!$A$12:$A$23,0))*INDEX(Paramètres!$F$5:$F$7,MATCH(Paramètres!$B$6,Paramètres!$E$5:$E$7,0))),0)) | O26: =IF($A26="","",IFERROR(IF($H26<>"Oui",0,$E26*$F26*(1+$G26)^(COLUMN()-COLUMN($I$6))*INDEX(Paramètres!$B$12:$B$23,MATCH(MONTH(O$6),Paramètres!$A$12:$A$23,0))*INDEX(Paramètres!$F$5:$F$7,MATCH(Paramètres!$B$6,Paramètres!$E$5:$E$7,0))),0)) | P26: =IF($A26="","",IFERROR(IF($H26<>"Oui",0,$E26*$F26*(1+$G26)^(COLUMN()-COLUMN($I$6))*INDEX(Paramètres!$B$12:$B$23,MATCH(MONTH(P$6),Paramètres!$A$12:$A$23,0))*INDEX(Paramètres!$F$5:$F$7,MATCH(Paramètres!$B$6,Paramètres!$E$5:$E$7,0))),0)) | ... T26: =IF($A26="","",IFERROR(IF($H26<>"Oui",0,$E26*$F26*(1+$G26)^(COLUMN()-COLUMN($I$6))*INDEX(Paramètres!$B$12:$B$23,MATCH(MONTH(T$6),Paramètres!$A$12:$A$23,0))*INDEX(Paramètres!$F$5:$F$7,MATCH(Paramètres!$B$6,Paramètres!$E$5:$E$7,0))),0)) | U26: =IF($A26="","",SUM(I26:T26))
I27: =IF($A27="","",IFERROR(IF($H27<>"Oui",0,$E27*$F27*(1+$G27)^(COLUMN()-COLUMN($I$6))*INDEX(Paramètres!$B$12:$B$23,MATCH(MONTH(I$6),Paramètres!$A$12:$A$23,0))*INDEX(Paramètres!$F$5:$F$7,MATCH(Paramètres!$B$6,Paramètres!$E$5:$E$7,0))),0)) | J27: =IF($A27="","",IFERROR(IF($H27<>"Oui",0,$E27*$F27*(1+$G27)^(COLUMN()-COLUMN($I$6))*INDEX(Paramètres!$B$12:$B$23,MATCH(MONTH(J$6),Paramètres!$A$12:$A$23,0))*INDEX(Paramètres!$F$5:$F$7,MATCH(Paramètres!$B$6,Paramètres!$E$5:$E$7,0))),0)) | K27: =IF($A27="","",IFERROR(IF($H27<>"Oui",0,$E27*$F27*(1+$G27)^(COLUMN()-COLUMN($I$6))*INDEX(Paramètres!$B$12:$B$23,MATCH(MONTH(K$6),Paramètres!$A$12:$A$23,0))*INDEX(Paramètres!$F$5:$F$7,MATCH(Paramètres!$B$6,Paramètres!$E$5:$E$7,0))),0)) | L27: =IF($A27="","",IFERROR(IF($H27<>"Oui",0,$E27*$F27*(1+$G27)^(COLUMN()-COLUMN($I$6))*INDEX(Paramètres!$B$12:$B$23,MATCH(MONTH(L$6),Paramètres!$A$12:$A$23,0))*INDEX(Paramètres!$F$5:$F$7,MATCH(Paramètres!$B$6,Paramètres!$E$5:$E$7,0))),0)) | M27: =IF($A27="","",IFERROR(IF($H27<>"Oui",0,$E27*$F27*(1+$G27)^(COLUMN()-COLUMN($I$6))*INDEX(Paramètres!$B$12:$B$23,MATCH(MONTH(M$6),Paramètres!$A$12:$A$23,0))*INDEX(Paramètres!$F$5:$F$7,MATCH(Paramètres!$B$6,Paramètres!$E$5:$E$7,0))),0)) | N27: =IF($A27="","",IFERROR(IF($H27<>"Oui",0,$E27*$F27*(1+$G27)^(COLUMN()-COLUMN($I$6))*INDEX(Paramètres!$B$12:$B$23,MATCH(MONTH(N$6),Paramètres!$A$12:$A$23,0))*INDEX(Paramètres!$F$5:$F$7,MATCH(Paramètres!$B$6,Paramètres!$E$5:$E$7,0))),0)) | O27: =IF($A27="","",IFERROR(IF($H27<>"Oui",0,$E27*$F27*(1+$G27)^(COLUMN()-COLUMN($I$6))*INDEX(Paramètres!$B$12:$B$23,MATCH(MONTH(O$6),Paramètres!$A$12:$A$23,0))*INDEX(Paramètres!$F$5:$F$7,MATCH(Paramètres!$B$6,Paramètres!$E$5:$E$7,0))),0)) | P27: =IF($A27="","",IFERROR(IF($H27<>"Oui",0,$E27*$F27*(1+$G27)^(COLUMN()-COLUMN($I$6))*INDEX(Paramètres!$B$12:$B$23,MATCH(MONTH(P$6),Paramètres!$A$12:$A$23,0))*INDEX(Paramètres!$F$5:$F$7,MATCH(Paramètres!$B$6,Paramètres!$E$5:$E$7,0))),0)) | ... T27: =IF($A27="","",IFERROR(IF($H27<>"Oui",0,$E27*$F27*(1+$G27)^(COLUMN()-COLUMN($I$6))*INDEX(Paramètres!$B$12:$B$23,MATCH(MONTH(T$6),Paramètres!$A$12:$A$23,0))*INDEX(Paramètres!$F$5:$F$7,MATCH(Paramètres!$B$6,Paramètres!$E$5:$E$7,0))),0)) | U27: =IF($A27="","",SUM(I27:T27))
... I206: =IF($A206="","",IFERROR(IF($H206<>"Oui",0,$E206*$F206*(1+$G206)^(COLUMN()-COLUMN($I$6))*INDEX(Paramètres!$B$12:$B$23,MATCH(MONTH(I$6),Paramètres!$A$12:$A$23,0))*INDEX(Paramètres!$F$5:$F$7,MATCH(Paramètres!$B$6,Paramètres!$E$5:$E$7,0))),0)) | J206: =IF($A206="","",IFERROR(IF($H206<>"Oui",0,$E206*$F206*(1+$G206)^(COLUMN()-COLUMN($I$6))*INDEX(Paramètres!$B$12:$B$23,MATCH(MONTH(J$6),Paramètres!$A$12:$A$23,0))*INDEX(Paramètres!$F$5:$F$7,MATCH(Paramètres!$B$6,Paramètres!$E$5:$E$7,0))),0)) | K206: =IF($A206="","",IFERROR(IF($H206<>"Oui",0,$E206*$F206*(1+$G206)^(COLUMN()-COLUMN($I$6))*INDEX(Paramètres!$B$12:$B$23,MATCH(MONTH(K$6),Paramètres!$A$12:$A$23,0))*INDEX(Paramètres!$F$5:$F$7,MATCH(Paramètres!$B$6,Paramètres!$E$5:$E$7,0))),0)) | L206: =IF($A206="","",IFERROR(IF($H206<>"Oui",0,$E206*$F206*(1+$G206)^(COLUMN()-COLUMN($I$6))*INDEX(Paramètres!$B$12:$B$23,MATCH(MONTH(L$6),Paramètres!$A$12:$A$23,0))*INDEX(Paramètres!$F$5:$F$7,MATCH(Paramètres!$B$6,Paramètres!$E$5:$E$7,0))),0)) | M206: =IF($A206="","",IFERROR(IF($H206<>"Oui",0,$E206*$F206*(1+$G206)^(COLUMN()-COLUMN($I$6))*INDEX(Paramètres!$B$12:$B$23,MATCH(MONTH(M$6),Paramètres!$A$12:$A$23,0))*INDEX(Paramètres!$F$5:$F$7,MATCH(Paramètres!$B$6,Paramètres!$E$5:$E$7,0))),0)) | N206: =IF($A206="","",IFERROR(IF($H206<>"Oui",0,$E206*$F206*(1+$G206)^(COLUMN()-COLUMN($I$6))*INDEX(Paramètres!$B$12:$B$23,MATCH(MONTH(N$6),Paramètres!$A$12:$A$23,0))*INDEX(Paramètres!$F$5:$F$7,MATCH(Paramètres!$B$6,Paramètres!$E$5:$E$7,0))),0)) | O206: =IF($A206="","",IFERROR(IF($H206<>"Oui",0,$E206*$F206*(1+$G206)^(COLUMN()-COLUMN($I$6))*INDEX(Paramètres!$B$12:$B$23,MATCH(MONTH(O$6),Paramètres!$A$12:$A$23,0))*INDEX(Paramètres!$F$5:$F$7,MATCH(Paramètres!$B$6,Paramètres!$E$5:$E$7,0))),0)) | P206: =IF($A206="","",IFERROR(IF($H206<>"Oui",0,$E206*$F206*(1+$G206)^(COLUMN()-COLUMN($I$6))*INDEX(Paramètres!$B$12:$B$23,MATCH(MONTH(P$6),Paramètres!$A$12:$A$23,0))*INDEX(Paramètres!$F$5:$F$7,MATCH(Paramètres!$B$6,Paramètres!$E$5:$E$7,0))),0)) | ... T206: =IF($A206="","",IFERROR(IF($H206<>"Oui",0,$E206*$F206*(1+$G206)^(COLUMN()-COLUMN($I$6))*INDEX(Paramètres!$B$12:$B$23,MATCH(MONTH(T$6),Paramètres!$A$12:$A$23,0))*INDEX(Paramètres!$F$5:$F$7,MATCH(Paramètres!$B$6,Paramètres!$E$5:$E$7,0))),0)) | U206: =IF($A206="","",SUM(I206:T206))

Sheet Suivi ventes
A1: Suivi des ventes réelles
A2: Inscrivez les ventes réelles avant taxes. Seules les ventes au statut « Comptabilisée » sont incluses au tableau de bord.
A6: Date de vente | B6: No de facture | C6: Client | D6: Catégorie | E6: Offre / service | F6: Quantité | G6: Ventes avant taxes | H6: Statut | I6: Notes
A7: 46037 | B7: FAC-26001 | C7: Gestion Nova inc. | D7: Formation | E7: Formation Excel avancé en entreprise | F7: 4 | G7: 2780 | H7: Comptabilisée | I7: Formation pour l’équipe administrative
A8: 46050 | B8: FAC-26002 | C8: Atelier Boréal | D8: Services professionnels | E8: Consultation en gestion opérationnelle | F8: 8 | G8: 1480 | H8: Comptabilisée | I8: Mandat ponctuel
A9: 46056 | B9: FAC-26003 | C9: Studio Mistral | D9: Produits numériques | E9: Tableau de bord financier téléchargeable | F9: 3 | G9: 747 | H9: Comptabilisée | I9: Achat en ligne
A10: 46071 | B10: FAC-26004 | C10: Coopérative du Fjord | D10: Services professionnels | E10: Accompagnement stratégique mensuel | F10: 1 | G10: 1250 | H10: Comptabilisée | I10: Forfait mensuel
A11: 46088 | B11: FAC-26005 | C11: Services Altitude | D11: Formation | E11: Atelier Power BI pour équipes administratives | F11: 2 | G11: 2900 | H11: Comptabilisée | I11: Atelier privé
A12: 46102 | B12: FAC-26006 | C12: Les Créations Lavoie | D12: Abonnements | E12: Soutien Excel mensuel | F12: 1 | G12: 325 | H12: Comptabilisée | I12: Renouvellement mensuel
A13: 46121 | B13: FAC-26007 | C13: Cabinet Tremblay CPA | D13: Services professionnels | E13: Implantation de processus administratifs | F13: 1 | G13: 3200 | H13: Comptabilisée | I13: Phase 1 du mandat
A14: 46137 | B14: FAC-26008 | C14: Événements Nordik | D14: Produits numériques | E14: Gabarit Excel de budget annuel | F14: 5 | G14: 395 | H14: À confirmer | I14: Paiement en attente
A15: 46148 | B15: FAC-26009 | C15: Fondation Horizon | D15: Services professionnels | E15: Consultation en gestion opérationnelle | F15: 6 | G15: 1110 | H15: Annulée | I15: Mandat annulé par le client

Sheet Tableau de bord
A1: Tableau de bord — Prévisions et ventes réelles
A2: Les ventes réelles incluent uniquement les transactions au statut « Comptabilisée ».
A3: Scénario actif | B3: =Paramètres!$B$6 -> Réaliste | D3: Objectif annuel | E3: =Paramètres!$B$7 -> 125000 | G3: Prévisions annuelles | H3: =SUM(B7:B18) -> 459925.8 | J3: Ventes réelles | K3: =SUM(C7:C18) -> 12682
A4: Écart réel vs prévisions | B4: =K3-H3 -> -447243.8 | D4: Atteinte de l’objectif | E4: =IFERROR(K3/E3,0) -> 0.101456 | G4: Écart prévisions vs objectif | H4: =H3-E3 -> 334925.8
A6: Mois | B6: Prévisions | C6: Ventes réelles | D6: Écart | E6: Écart % | F6: Prévisions cumulées | G6: Ventes réelles cumulées
A7: =IFERROR(EDATE(Paramètres!$B$5,ROW()-ROW($A$7)),"") -> 46023 | B7: =IFERROR(SUM(INDEX('Prévisions ventes'!$I$7:$T$206,0,MATCH($A7,'Prévisions ventes'!$I$6:$T$6,0))),0) -> 29699 | C7: =IFERROR(SUMIFS('Suivi ventes'!$G$7:$G$206,'Suivi ventes'!$A$7:$A$206,">="&$A7,'Suivi ventes'!$A$7:$A$206,"<="&EOMONTH($A7,0),'Suivi ventes'!$H$7:$H$206,"Comptabilisée"),0) -> 4260 | D7: =C7-B7 -> -25439 | E7: =IFERROR(D7/B7,0) -> -0.85656083 | F7: =SUM($B$7:B7) -> 29699 | G7: =SUM($C$7:C7) -> 4260
A8: =IFERROR(EDATE(Paramètres!$B$5,ROW()-ROW($A$7)),"") -> 46054 | B8: =IFERROR(SUM(INDEX('Prévisions ventes'!$I$7:$T$206,0,MATCH($A8,'Prévisions ventes'!$I$6:$T$6,0))),0) -> 31214.973 | C8: =IFERROR(SUMIFS('Suivi ventes'!$G$7:$G$206,'Suivi ventes'!$A$7:$A$206,">="&$A8,'Suivi ventes'!$A$7:$A$206,"<="&EOMONTH($A8,0),'Suivi ventes'!$H$7:$H$206,"Comptabilisée"),0) -> 1997 | D8: =C8-B8 -> -29217.973 | E8: =IFERROR(D8/B8,0) -> -0.93602429 | F8: =SUM($B$7:B8) -> 60913.973 | G8: =SUM($C$7:C8) -> 6257
A9: =IFERROR(EDATE(Paramètres!$B$5,ROW()-ROW($A$7)),"") -> 46082 | B9: =IFERROR(SUM(INDEX('Prévisions ventes'!$I$7:$T$206,0,MATCH($A9,'Prévisions ventes'!$I$6:$T$6,0))),0) -> 33132.827 | C9: =IFERROR(SUMIFS('Suivi ventes'!$G$7:$G$206,'Suivi ventes'!$A$7:$A$206,">="&$A9,'Suivi ventes'!$A$7:$A$206,"<="&EOMONTH($A9,0),'Suivi ventes'!$H$7:$H$206,"Comptabilisée"),0) -> 3225 | D9: =C9-B9 -> -29907.827 | E9: =IFERROR(D9/B9,0) -> -0.90266451 | F9: =SUM($B$7:B9) -> 94046.799 | G9: =SUM($C$7:C9) -> 9482
A10: =IFERROR(EDATE(Paramètres!$B$5,ROW()-ROW($A$7)),"") -> 46113 | B10: =IFERROR(SUM(INDEX('Prévisions ventes'!$I$7:$T$206,0,MATCH($A10,'Prévisions ventes'!$I$6:$T$6,0))),0) -> 34739.013 | C10: =IFERROR(SUMIFS('Suivi ventes'!$G$7:$G$206,'Suivi ventes'!$A$7:$A$206,">="&$A10,'Suivi ventes'!$A$7:$A$206,"<="&EOMONTH($A10,0),'Suivi ventes'!$H$7:$H$206,"Comptabilisée"),0) -> 3200 | D10: =C10-B10 -> -31539.013 | E10: =IFERROR(D10/B10,0) -> -0.90788454 | F10: =SUM($B$7:B10) -> 128785.81 | G10: =SUM($C$7:C10) -> 12682
A11: =IFERROR(EDATE(Paramètres!$B$5,ROW()-ROW($A$7)),"") -> 46143 | B11: =IFERROR(SUM(INDEX('Prévisions ventes'!$I$7:$T$206,0,MATCH($A11,'Prévisions ventes'!$I$6:$T$6,0))),0) -> 36389.479 | C11: =IFERROR(SUMIFS('Suivi ventes'!$G$7:$G$206,'Suivi ventes'!$A$7:$A$206,">="&$A11,'Suivi ventes'!$A$7:$A$206,"<="&EOMONTH($A11,0),'Suivi ventes'!$H$7:$H$206,"Comptabilisée"),0) -> 0 | D11: =C11-B11 -> -36389.479 | E11: =IFERROR(D11/B11,0) -> -1 | F11: =SUM($B$7:B11) -> 165175.29 | G11: =SUM($C$7:C11) -> 12682
A12: =IFERROR(EDATE(Paramètres!$B$5,ROW()-ROW($A$7)),"") -> 46174 | B12: =IFERROR(SUM(INDEX('Prévisions ventes'!$I$7:$T$206,0,MATCH($A12,'Prévisions ventes'!$I$6:$T$6,0))),0) -> 37708.408 | C12: =IFERROR(SUMIFS('Suivi ventes'!$G$7:$G$206,'Suivi ventes'!$A$7:$A$206,">="&$A12,'Suivi ventes'!$A$7:$A$206,"<="&EOMONTH($A12,0),'Suivi ventes'!$H$7:$H$206,"Comptabilisée"),0) -> 0 | D12: =C12-B12 -> -37708.408 | E12: =IFERROR(D12/B12,0) -> -1 | F12: =SUM($B$7:B12) -> 202883.7 | G12: =SUM($C$7:C12) -> 12682
A13: =IFERROR(EDATE(Paramètres!$B$5,ROW()-ROW($A$7)),"") -> 46204 | B13: =IFERROR(SUM(INDEX('Prévisions ventes'!$I$7:$T$206,0,MATCH($A13,'Prévisions ventes'!$I$6:$T$6,0))),0) -> 31403.124 | C13: =IFERROR(SUMIFS('Suivi ventes'!$G$7:$G$206,'Suivi ventes'!$A$7:$A$206,">="&$A13,'Suivi ventes'!$A$7:$A$206,"<="&EOMONTH($A13,0),'Suivi ventes'!$H$7:$H$206,"Comptabilisée"),0) -> 0 | D13: =C13-B13 -> -31403.124 | E13: =IFERROR(D13/B13,0) -> -1 | F13: =SUM($B$7:B13) -> 234286.82 | G13: =SUM($C$7:C13) -> 12682
