Workbook

Sheet Tableau de bord
A1: Tableau de bord — Entretien des équipements
A2: Sommaire des équipements, des entretiens et des coûts consignés dans le registre.
J3: Date du jour : | K3: =TODAY() -> 46261
A5: Équipements actifs | C5: Entretiens échus | E5: À planifier | G5: Entretiens terminés | I5: Coûts totaux consignés | K5: Coûts des entretiens terminés
B7: =COUNTIF(Équipements!$H$6:$H$105,"Actif") -> 6 | D7: =COUNTIF('Registre entretien'!$R$6:$R$105,"Échu") -> 2 | F7: =COUNTIF('Registre entretien'!$R$6:$R$105,"À planifier") -> 2 | H7: =COUNTIF('Registre entretien'!$H$6:$H$105,"Terminé") -> 5 | J7: =SUM('Registre entretien'!$P$6:$P$105) -> 818.42 | L7: =SUMIFS('Registre entretien'!$P$6:$P$105,'Registre entretien'!$H$6:$H$105,"Terminé") -> 818.42
A8: Nombre d’équipements actuellement actifs | C8: Interventions dont la date prévue est dépassée | E8: Interventions à prévoir dans le délai d’alerte | G8: Interventions complétées et consignées | I8: Tous les coûts inscrits au registre | K8: Coûts des interventions terminées
A12: Prochaines échéances à surveiller | H12: Coûts d’entretien par équipement
A13: No entretien | B13: Équipement | C13: Type d’entretien | D13: Date prévue | E13: Statut | F13: État de l’échéance | H13: ID équipement | I13: Équipement | J13: Coût total | K13: Coûts terminés | L13: Nombre d’entretiens
A14: =IFERROR('Registre entretien'!$A$7,"") -> ENT-2026-002 | B14: =IFERROR(VLOOKUP($A14,'Registre entretien'!$A$6:$R$105,3,FALSE()),"") -> Camionnette de service Ford Transit | C14: =IFERROR(VLOOKUP($A14,'Registre entretien'!$A$6:$R$105,4,FALSE()),"") -> Inspection | D14: =IFERROR(VLOOKUP($A14,'Registre entretien'!$A$6:$R$105,6,FALSE()),"") -> 46252 | E14: =IFERROR(VLOOKUP($A14,'Registre entretien'!$A$6:$R$105,8,FALSE()),"") -> Planifié | F14: =IFERROR(VLOOKUP($A14,'Registre entretien'!$A$6:$R$105,18,FALSE()),"") -> Échu | H14: =IFERROR(INDEX(Équipements!$A$6:$A$105,ROW()-13),"") -> EQ-001 | I14: =IF($H14="","",IFERROR(VLOOKUP($H14,Équipements!$A$6:$N$105,2,FALSE()),"")) -> Camionnette de service Ford Transit | J14: =IF($H14="","",IFERROR(SUMIFS('Registre entretien'!$P$6:$P$105,'Registre entretien'!$B$6:$B$105,$H14),0)) -> 275.45 | K14: =IF($H14="","",IFERROR(SUMIFS('Registre entretien'!$P$6:$P$105,'Registre entretien'!$B$6:$B$105,$H14,'Registre entretien'!$H$6:$H$105,"Terminé"),0)) -> 275.45 | L14: =IF($H14="","",IFERROR(COUNTIF('Registre entretien'!$B$6:$B$105,$H14),0)) -> 2
A15: =IFERROR('Registre entretien'!$A$11,"") -> ENT-2026-006 | B15: =IFERROR(VLOOKUP($A15,'Registre entretien'!$A$6:$R$105,3,FALSE()),"") -> Génératrice portative | C15: =IFERROR(VLOOKUP($A15,'Registre entretien'!$A$6:$R$105,4,FALSE()),"") -> Réparation | D15: =IFERROR(VLOOKUP($A15,'Registre entretien'!$A$6:$R$105,6,FALSE()),"") -> 46255 | E15: =IFERROR(VLOOKUP($A15,'Registre entretien'!$A$6:$R$105,8,FALSE()),"") -> En cours | F15: =IFERROR(VLOOKUP($A15,'Registre entretien'!$A$6:$R$105,18,FALSE()),"") -> Échu | H15: =IFERROR(INDEX(Équipements!$A$6:$A$105,ROW()-13),"") -> EQ-002 | I15: =IF($H15="","",IFERROR(VLOOKUP($H15,Équipements!$A$6:$N$105,2,FALSE()),"")) -> Scie circulaire portative | J15: =IF($H15="","",IFERROR(SUMIFS('Registre entretien'!$P$6:$P$105,'Registre entretien'!$B$6:$B$105,$H15),0)) -> 34.99 | K15: =IF($H15="","",IFERROR(SUMIFS('Registre entretien'!$P$6:$P$105,'Registre entretien'!$B$6:$B$105,$H15,'Registre entretien'!$H$6:$H$105,"Terminé"),0)) -> 34.99 | L15: =IF($H15="","",IFERROR(COUNTIF('Registre entretien'!$B$6:$B$105,$H15),0)) -> 1
A16: =IFERROR('Registre entretien'!$A$9,"") -> ENT-2026-004 | B16: =IFERROR(VLOOKUP($A16,'Registre entretien'!$A$6:$R$105,3,FALSE()),"") -> Compresseur à air | C16: =IFERROR(VLOOKUP($A16,'Registre entretien'!$A$6:$R$105,4,FALSE()),"") -> Préventif | D16: =IFERROR(VLOOKUP($A16,'Registre entretien'!$A$6:$R$105,6,FALSE()),"") -> 46270 | E16: =IFERROR(VLOOKUP($A16,'Registre entretien'!$A$6:$R$105,8,FALSE()),"") -> Planifié | F16: =IFERROR(VLOOKUP($A16,'Registre entretien'!$A$6:$R$105,18,FALSE()),"") -> À planifier | H16: =IFERROR(INDEX(Équipements!$A$6:$A$105,ROW()-13),"") -> EQ-003 | I16: =IF($H16="","",IFERROR(VLOOKUP($H16,Équipements!$A$6:$N$105,2,FALSE()),"")) -> Compresseur à air | J16: =IF($H16="","",IFERROR(SUMIFS('Registre entretien'!$P$6:$P$105,'Registre entretien'!$B$6:$B$105,$H16),0)) -> 0 | K16: =IF($H16="","",IFERROR(SUMIFS('Registre entretien'!$P$6:$P$105,'Registre entretien'!$B$6:$B$105,$H16,'Registre entretien'!$H$6:$H$105,"Terminé"),0)) -> 0 | L16: =IF($H16="","",IFERROR(COUNTIF('Registre entretien'!$B$6:$B$105,$H16),0)) -> 2
A17: =IFERROR('Registre entretien'!$A$12,"") -> ENT-2026-007 | B17: =IFERROR(VLOOKUP($A17,'Registre entretien'!$A$6:$R$105,3,FALSE()),"") -> Échelle coulissante 32 pi | C17: =IFERROR(VLOOKUP($A17,'Registre entretien'!$A$6:$R$105,4,FALSE()),"") -> Inspection | D17: =IFERROR(VLOOKUP($A17,'Registre entretien'!$A$6:$R$105,6,FALSE()),"") -> 46285 | E17: =IFERROR(VLOOKUP($A17,'Registre entretien'!$A$6:$R$105,8,FALSE()),"") -> Planifié | F17: =IFERROR(VLOOKUP($A17,'Registre entretien'!$A$6:$R$105,18,FALSE()),"") -> À planifier | H17: =IFERROR(INDEX(Équipements!$A$6:$A$105,ROW()-13),"") -> EQ-004 | I17: =IF($H17="","",IFERROR(VLOOKUP($H17,Équipements!$A$6:$N$105,2,FALSE()),"")) -> Ordinateur portable administration | J17: =IF($H17="","",IFERROR(SUMIFS('Registre entretien'!$P$6:$P$105,'Registre entretien'!$B$6:$B$105,$H17),0)) -> 18.99 | K17: =IF($H17="","",IFERROR(SUMIFS('Registre entretien'!$P$6:$P$105,'Registre entretien'!$B$6:$B$105,$H17,'Registre entretien'!$H$6:$H$105,"Terminé"),0)) -> 18.99 | L17: =IF($H17="","",IFERROR(COUNTIF('Registre entretien'!$B$6:$B$105,$H17),0)) -> 1
A18: =IFERROR('Registre entretien'!$A$15,"") -> ENT-2026-010 | B18: =IFERROR(VLOOKUP($A18,'Registre entretien'!$A$6:$R$105,3,FALSE()),"") -> Compresseur à air | C18: =IFERROR(VLOOKUP($A18,'Registre entretien'!$A$6:$R$105,4,FALSE()),"") -> Inspection | D18: =IFERROR(VLOOKUP($A18,'Registre entretien'!$A$6:$R$105,6,FALSE()),"") -> 46340 | E18: =IFERROR(VLOOKUP($A18,'Registre entretien'!$A$6:$R$105,8,FALSE()),"") -> Reporté | F18: =IFERROR(VLOOKUP($A18,'Registre entretien'!$A$6:$R$105,18,FALSE()),"") -> Planifié | H18: =IFERROR(INDEX(Équipements!$A$6:$A$105,ROW()-13),"") -> EQ-005 | I18: =IF($H18="","",IFERROR(VLOOKUP($H18,Équipements!$A$6:$N$105,2,FALSE()),"")) -> Génératrice portative | J18: =IF($H18="","",IFERROR(SUMIFS('Registre entretien'!$P$6:$P$105,'Registre entretien'!$B$6:$B$105,$H18),0)) -> 0 | K18: =IF($H18="","",IFERROR(SUMIFS('Registre entretien'!$P$6:$P$105,'Registre entretien'!$B$6:$B$105,$H18,'Registre entretien'!$H$6:$H$105,"Terminé"),0)) -> 0 | L18: =IF($H18="","",IFERROR(COUNTIF('Registre entretien'!$B$6:$B$105,$H18),0)) -> 1
H19: =IFERROR(INDEX(Équipements!$A$6:$A$105,ROW()-13),"") -> EQ-006 | I19: =IF($H19="","",IFERROR(VLOOKUP($H19,Équipements!$A$6:$N$105,2,FALSE()),"")) -> Échelle coulissante 32 pi | J19: =IF($H19="","",IFERROR(SUMIFS('Registre entretien'!$P$6:$P$105,'Registre entretien'!$B$6:$B$105,$H19),0)) -> 0 | K19: =IF($H19="","",IFERROR(SUMIFS('Registre entretien'!$P$6:$P$105,'Registre entretien'!$B$6:$B$105,$H19,'Registre entretien'!$H$6:$H$105,"Terminé"),0)) -> 0 | L19: =IF($H19="","",IFERROR(COUNTIF('Registre entretien'!$B$6:$B$105,$H19),0)) -> 1
H20: =IFERROR(INDEX(Équipements!$A$6:$A$105,ROW()-13),"") -> EQ-007 | I20: =IF($H20="","",IFERROR(VLOOKUP($H20,Équipements!$A$6:$N$105,2,FALSE()),"")) -> Perceuse à percussion | J20: =IF($H20="","",IFERROR(SUMIFS('Registre entretien'!$P$6:$P$105,'Registre entretien'!$B$6:$B$105,$H20),0)) -> 153.99 | K20: =IF($H20="","",IFERROR(SUMIFS('Registre entretien'!$P$6:$P$105,'Registre entretien'!$B$6:$B$105,$H20,'Registre entretien'!$H$6:$H$105,"Terminé"),0)) -> 153.99 | L20: =IF($H20="","",IFERROR(COUNTIF('Registre entretien'!$B$6:$B$105,$H20),0)) -> 1
A21: Consultez la feuille « Registre entretien » et utilisez les filtres pour voir toutes les échéances. | H21: =IFERROR(INDEX(Équipements!$A$6:$A$105,ROW()-13),"") -> EQ-008 | I21: =IF($H21="","",IFERROR(VLOOKUP($H21,Équipements!$A$6:$N$105,2,FALSE()),"")) -> Imprimante multifonction | J21: =IF($H21="","",IFERROR(SUMIFS('Registre entretien'!$P$6:$P$105,'Registre entretien'!$B$6:$B$105,$H21),0)) -> 335 | K21: =IF($H21="","",IFERROR(SUMIFS('Registre entretien'!$P$6:$P$105,'Registre entretien'!$B$6:$B$105,$H21,'Registre entretien'!$H$6:$H$105,"Terminé"),0)) -> 335 | L21: =IF($H21="","",IFERROR(COUNTIF('Registre entretien'!$B$6:$B$105,$H21),0)) -> 1
H22: Coût moyen par entretien | I22: =IFERROR(AVERAGE('Registre entretien'!$P$6:$P$105),0) -> 81.842
A42: Contrôles de qualité
A43: Contrôle | B43: Valeur | C43: État
A44: Équipements sans identifiant | B44: =COUNTIFS(Équipements!$B$6:$B$105,"<>",Équipements!$A$6:$A$105,"") -> 0 | C44: =IF(B44=0,"Conforme","À corriger") -> Conforme
A45: Entretiens sans équipement | B45: =COUNTIFS('Registre entretien'!$A$6:$A$105,"<>",'Registre entretien'!$B$6:$B$105,"") -> 0 | C45: =IF(B45=0,"Conforme","À corriger") -> Conforme
A46: Entretiens terminés sans date réelle | B46: =COUNTIFS('Registre entretien'!$H$6:$H$105,"Terminé",'Registre entretien'!$G$6:$G$105,"") -> 0 | C46: =IF(B46=0,"Conforme","À corriger") -> Conforme
A47: Coût total du tableau de bord | B47: =SUM('Registre entretien'!$P$6:$P$105) -> 818.42 | C47: =IF(B47=$J$7,"Conforme","À vérifier") -> Conforme
A48: Identifiants d’équipement en double | B48: =SUMPRODUCT(--(Équipements!$A$6:$A$105<>""),--(COUNTIF(Équipements!$A$6:$A$105,Équipements!$A$6:$A$105)>1)) -> 0 | C48: =IF(B48=0,"Conforme","À corriger") -> Conforme
A49: ="" | B49: ="" | C49: ="" | D49: ="" | E49: ="" | F49: ="" | H49: ="" | I49: ="" | J49: ="" | K49: ="" | L49: =""
A50: ="" | B50: ="" | C50: ="" | D50: ="" | E50: ="" | F50: ="" | H50: ="" | I50: ="" | J50: ="" | K50: ="" | L50: =""
A51: ="" | B51: ="" | C51: ="" | D51: ="" | E51: ="" | F51: ="" | H51: ="" | I51: ="" | J51: ="" | K51: ="" | L51: =""
A52: ="" | B52: ="" | C52: ="" | D52: ="" | E52: ="" | F52: ="" | H52: ="" | I52: ="" | J52: ="" | K52: ="" | L52: =""
A53: ="" | B53: ="" | C53: ="" | D53: ="" | E53: ="" | F53: ="" | H53: ="" | I53: ="" | J53: ="" | K53: ="" | L53: =""
A54: ="" | B54: ="" | C54: ="" | D54: ="" | E54: ="" | F54: ="" | H54: ="" | I54: ="" | J54: ="" | K54: ="" | L54: =""
A55: ="" | B55: ="" | C55: ="" | D55: ="" | E55: ="" | F55: ="" | H55: ="" | I55: ="" | J55: ="" | K55: ="" | L55: =""
A56: ="" | B56: ="" | C56: ="" | D56: ="" | E56: ="" | F56: ="" | H56: ="" | I56: ="" | J56: ="" | K56: ="" | L56: =""
A57: ="" | B57: ="" | C57: ="" | D57: ="" | E57: ="" | F57: ="" | H57: ="" | I57: ="" | J57: ="" | K57: ="" | L57: =""
A58: ="" | B58: ="" | C58: ="" | D58: ="" | E58: ="" | F58: ="" | H58: ="" | I58: ="" | J58: ="" | K58: ="" | L58: =""
A59: ="" | B59: ="" | C59: ="" | D59: ="" | E59: ="" | F59: ="" | H59: ="" | I59: ="" | J59: ="" | K59: ="" | L59: =""
A60: ="" | B60: ="" | C60: ="" | D60: ="" | E60: ="" | F60: ="" | H60: ="" | I60: ="" | J60: ="" | K60: ="" | L60: =""
... A101: ="" | B101: ="" | C101: ="" | D101: ="" | E101: ="" | F101: ="" | H101: ="" | I101: ="" | J101: ="" | K101: ="" | L101: =""

Sheet Équipements
A1: Inventaire des équipements
A2: Inscrivez un équipement par ligne. L’identifiant d’équipement doit être unique et servir dans le registre d’entretien.
L3: Dernière mise à jour : | M3: =TODAY() -> 46261
A5: ID équipement | B5: Équipement | C5: Catégorie | D5: Marque / modèle | E5: Numéro de série | F5: Date d’acquisition | G5: Coût d’acquisition | H5: Statut | I5: Emplacement | J5: Compteur actuel | K5: Unité du compteur | L5: Dernier entretien | M5: Prochain entretien | N5: État de suivi
A6: EQ-001 | B6: Camionnette de service Ford Transit | C6: Véhicule | D6: Ford Transit 250 2022 | E6: 1FTBR1C8XNKA10245 | F6: 46020 | G6: 48900 | H6: Actif | I6: Stationnement | J6: 68450 | K6: km | L6: =IF($A6="","",IF(COUNTIFS('Registre entretien'!$B$6:$B$105,$A6,'Registre entretien'!$H$6:$H$105,"Terminé")=0,"",_xlfn.MAXIFS('Registre entretien'!$G$6:$G$105,'Registre entretien'!$B$6:$B$105,$A6,'Registre entretien'!$H$6:$H$105,"Terminé"))) -> 46081 | M6: =IF($A6="","",IF(COUNTIFS('Registre entretien'!$B$6:$B$105,$A6,'Registre entretien'!$H$6:$H$105,"<>Terminé",'Registre entretien'!$H$6:$H$105,"<>Annulé")=0,"",_xlfn.MINIFS('Registre entretien'!$F$6:$F$105,'Registre entretien'!$B$6:$B$105,$A6,'Registre entretien'!$H$6:$H$105,"<>Terminé",'Registre entretien'!$H$6:$H$105,"<>Annulé"))) -> 46252 | N6: =IF($A6="","",IF($H6="Retiré","Retiré",IF($M6="","Aucune échéance",IF($M6<TODAY(),"Échu",IF($M6<=TODAY()+Paramètres!$B$9,"À planifier","À jour"))))) -> Échu
A7: EQ-002 | B7: Scie circulaire portative | C7: Outil électrique | D7: Milwaukee M18 FUEL | E7: M18-2407-QC | F7: 46080 | G7: 429.99 | H7: Actif | I7: Atelier | J7: 215 | K7: h | L7: =IF($A7="","",IF(COUNTIFS('Registre entretien'!$B$6:$B$105,$A7,'Registre entretien'!$H$6:$H$105,"Terminé")=0,"",_xlfn.MAXIFS('Registre entretien'!$G$6:$G$105,'Registre entretien'!$B$6:$B$105,$A7,'Registre entretien'!$H$6:$H$105,"Terminé"))) -> 46140 | M7: =IF($A7="","",IF(COUNTIFS('Registre entretien'!$B$6:$B$105,$A7,'Registre entretien'!$H$6:$H$105,"<>Terminé",'Registre entretien'!$H$6:$H$105,"<>Annulé")=0,"",_xlfn.MINIFS('Registre entretien'!$F$6:$F$105,'Registre entretien'!$B$6:$B$105,$A7,'Registre entretien'!$H$6:$H$105,"<>Terminé",'Registre entretien'!$H$6:$H$105,"<>Annulé"))) | N7: =IF($A7="","",IF($H7="Retiré","Retiré",IF($M7="","Aucune échéance",IF($M7<TODAY(),"Échu",IF($M7<=TODAY()+Paramètres!$B$9,"À planifier","À jour"))))) -> Aucune échéance
A8: EQ-003 | B8: Compresseur à air | C8: Équipement de chantier | D8: Makita MAC5200 | E8: MAC52-QC-8871 | F8: 45960 | G8: 1249 | H8: Actif | I8: Remorque | J8: 640 | K8: h | L8: =IF($A8="","",IF(COUNTIFS('Registre entretien'!$B$6:$B$105,$A8,'Registre entretien'!$H$6:$H$105,"Terminé")=0,"",_xlfn.MAXIFS('Registre entretien'!$G$6:$G$105,'Registre entretien'!$B$6:$B$105,$A8,'Registre entretien'!$H$6:$H$105,"Terminé"))) | M8: =IF($A8="","",IF(COUNTIFS('Registre entretien'!$B$6:$B$105,$A8,'Registre entretien'!$H$6:$H$105,"<>Terminé",'Registre entretien'!$H$6:$H$105,"<>Annulé")=0,"",_xlfn.MINIFS('Registre entretien'!$F$6:$F$105,'Registre entretien'!$B$6:$B$105,$A8,'Registre entretien'!$H$6:$H$105,"<>Terminé",'Registre entretien'!$H$6:$H$105,"<>Annulé"))) -> 46270 | N8: =IF($A8="","",IF($H8="Retiré","Retiré",IF($M8="","Aucune échéance",IF($M8<TODAY(),"Échu",IF($M8<=TODAY()+Paramètres!$B$9,"À planifier","À jour"))))) -> À planifier
A9: EQ-004 | B9: Ordinateur portable administration | C9: Équipement informatique | D9: Lenovo ThinkPad E14 | E9: PF-3A7K9Q | F9: 46110 | G9: 1599.99 | H9: Actif | I9: Bureau | J9: 0 | K9: s. o. | L9: =IF($A9="","",IF(COUNTIFS('Registre entretien'!$B$6:$B$105,$A9,'Registre entretien'!$H$6:$H$105,"Terminé")=0,"",_xlfn.MAXIFS('Registre entretien'!$G$6:$G$105,'Registre entretien'!$B$6:$B$105,$A9,'Registre entretien'!$H$6:$H$105,"Terminé"))) -> 46200 | M9: =IF($A9="","",IF(COUNTIFS('Registre entretien'!$B$6:$B$105,$A9,'Registre entretien'!$H$6:$H$105,"<>Terminé",'Registre entretien'!$H$6:$H$105,"<>Annulé")=0,"",_xlfn.MINIFS('Registre entretien'!$F$6:$F$105,'Registre entretien'!$B$6:$B$105,$A9,'Registre entretien'!$H$6:$H$105,"<>Terminé",'Registre entretien'!$H$6:$H$105,"<>Annulé"))) | N9: =IF($A9="","",IF($H9="Retiré","Retiré",IF($M9="","Aucune échéance",IF($M9<TODAY(),"Échu",IF($M9<=TODAY()+Paramètres!$B$9,"À planifier","À jour"))))) -> Aucune échéance
A10: EQ-005 | B10: Génératrice portative | C10: Équipement de chantier | D10: Honda EU7000iS | E10: HND-7000-4482 | F10: 45930 | G10: 5499 | H10: En réparation | I10: Entrepôt | J10: 1120 | K10: h | L10: =IF($A10="","",IF(COUNTIFS('Registre entretien'!$B$6:$B$105,$A10,'Registre entretien'!$H$6:$H$105,"Terminé")=0,"",_xlfn.MAXIFS('Registre entretien'!$G$6:$G$105,'Registre entretien'!$B$6:$B$105,$A10,'Registre entretien'!$H$6:$H$105,"Terminé"))) | M10: =IF($A10="","",IF(COUNTIFS('Registre entretien'!$B$6:$B$105,$A10,'Registre entretien'!$H$6:$H$105,"<>Terminé",'Registre entretien'!$H$6:$H$105,"<>Annulé")=0,"",_xlfn.MINIFS('Registre entretien'!$F$6:$F$105,'Registre entretien'!$B$6:$B$105,$A10,'Registre entretien'!$H$6:$H$105,"<>Terminé",'Registre entretien'!$H$6:$H$105,"<>Annulé"))) -> 46255 | N10: =IF($A10="","",IF($H10="Retiré","Retiré",IF($M10="","Aucune échéance",IF($M10<TODAY(),"Échu",IF($M10<=TODAY()+Paramètres!$B$9,"À planifier","À jour"))))) -> Échu
A11: EQ-006 | B11: Échelle coulissante 32 pi | C11: Outil manuel | D11: Featherlite 7932 | E11: FL-7932-1690 | F11: 46050 | G11: 689 | H11: Actif | I11: Camion EQ-001 | J11: 0 | K11: s. o. | L11: =IF($A11="","",IF(COUNTIFS('Registre entretien'!$B$6:$B$105,$A11,'Registre entretien'!$H$6:$H$105,"Terminé")=0,"",_xlfn.MAXIFS('Registre entretien'!$G$6:$G$105,'Registre entretien'!$B$6:$B$105,$A11,'Registre entretien'!$H$6:$H$105,"Terminé"))) | M11: =IF($A11="","",IF(COUNTIFS('Registre entretien'!$B$6:$B$105,$A11,'Registre entretien'!$H$6:$H$105,"<>Terminé",'Registre entretien'!$H$6:$H$105,"<>Annulé")=0,"",_xlfn.MINIFS('Registre entretien'!$F$6:$F$105,'Registre entretien'!$B$6:$B$105,$A11,'Registre entretien'!$H$6:$H$105,"<>Terminé",'Registre entretien'!$H$6:$H$105,"<>Annulé"))) -> 46285 | N11: =IF($A11="","",IF($H11="Retiré","Retiré",IF($M11="","Aucune échéance",IF($M11<TODAY(),"Échu",IF($M11<=TODAY()+Paramètres!$B$9,"À planifier","À jour"))))) -> À planifier
A12: EQ-007 | B12: Perceuse à percussion | C12: Outil électrique | D12: DeWalt DCD996 | E12: DW-996-2026-51 | F12: 46140 | G12: 279.99 | H12: Actif | I12: Atelier | J12: 85 | K12: h | L12: =IF($A12="","",IF(COUNTIFS('Registre entretien'!$B$6:$B$105,$A12,'Registre entretien'!$H$6:$H$105,"Terminé")=0,"",_xlfn.MAXIFS('Registre entretien'!$G$6:$G$105,'Registre entretien'!$B$6:$B$105,$A12,'Registre entretien'!$H$6:$H$105,"Terminé"))) -> 46161 | M12: =IF($A12="","",IF(COUNTIFS('Registre entretien'!$B$6:$B$105,$A12,'Registre entretien'!$H$6:$H$105,"<>Terminé",'Registre entretien'!$H$6:$H$105,"<>Annulé")=0,"",_xlfn.MINIFS('Registre entretien'!$F$6:$F$105,'Registre entretien'!$B$6:$B$105,$A12,'Registre entretien'!$H$6:$H$105,"<>Terminé",'Registre entretien'!$H$6:$H$105,"<>Annulé"))) | N12: =IF($A12="","",IF($H12="Retiré","Retiré",IF($M12="","Aucune échéance",IF($M12<TODAY(),"Échu",IF($M12<=TODAY()+Paramètres!$B$9,"À planifier","À jour"))))) -> Aucune échéance
A13: EQ-008 | B13: Imprimante multifonction | C13: Équipement de bureau | D13: Brother MFC-L8900CDW | E13: BR-MFC-29834 | F13: 45990 | G13: 749.99 | H13: Hors service | I13: Bureau | J13: 0 | K13: s. o. | L13: =IF($A13="","",IF(COUNTIFS('Registre entretien'!$B$6:$B$105,$A13,'Registre entretien'!$H$6:$H$105,"Terminé")=0,"",_xlfn.MAXIFS('Registre entretien'!$G$6:$G$105,'Registre entretien'!$B$6:$B$105,$A13,'Registre entretien'!$H$6:$H$105,"Terminé"))) -> 46132 | M13: =IF($A13="","",IF(COUNTIFS('Registre entretien'!$B$6:$B$105,$A13,'Registre entretien'!$H$6:$H$105,"<>Terminé",'Registre entretien'!$H$6:$H$105,"<>Annulé")=0,"",_xlfn.MINIFS('Registre entretien'!$F$6:$F$105,'Registre entretien'!$B$6:$B$105,$A13,'Registre entretien'!$H$6:$H$105,"<>Terminé",'Registre entretien'!$H$6:$H$105,"<>Annulé"))) | N13: =IF($A13="","",IF($H13="Retiré","Retiré",IF($M13="","Aucune échéance",IF($M13<TODAY(),"Échu",IF($M13<=TODAY()+Paramètres!$B$9,"À planifier","À jour"))))) -> Aucune échéance
L14: =IF($A14="","",IF(COUNTIFS('Registre entretien'!$B$6:$B$105,$A14,'Registre entretien'!$H$6:$H$105,"Terminé")=0,"",_xlfn.MAXIFS('Registre entretien'!$G$6:$G$105,'Registre entretien'!$B$6:$B$105,$A14,'Registre entretien'!$H$6:$H$105,"Terminé"))) | M14: =IF($A14="","",IF(COUNTIFS('Registre entretien'!$B$6:$B$105,$A14,'Registre entretien'!$H$6:$H$105,"<>Terminé",'Registre entretien'!$H$6:$H$105,"<>Annulé")=0,"",_xlfn.MINIFS('Registre entretien'!$F$6:$F$105,'Registre entretien'!$B$6:$B$105,$A14,'Registre entretien'!$H$6:$H$105,"<>Terminé",'Registre entretien'!$H$6:$H$105,"<>Annulé"))) | N14: =IF($A14="","",IF($H14="Retiré","Retiré",IF($M14="","Aucune échéance",IF($M14<TODAY(),"Échu",IF($M14<=TODAY()+Paramètres!$B$9,"À planifier","À jour")))))
L15: =IF($A15="","",IF(COUNTIFS('Registre entretien'!$B$6:$B$105,$A15,'Registre entretien'!$H$6:$H$105,"Terminé")=0,"",_xlfn.MAXIFS('Registre entretien'!$G$6:$G$105,'Registre entretien'!$B$6:$B$105,$A15,'Registre entretien'!$H$6:$H$105,"Terminé"))) | M15: =IF($A15="","",IF(COUNTIFS('Registre entretien'!$B$6:$B$105,$A15,'Registre entretien'!$H$6:$H$105,"<>Terminé",'Registre entretien'!$H$6:$H$105,"<>Annulé")=0,"",_xlfn.MINIFS('Registre entretien'!$F$6:$F$105,'Registre entretien'!$B$6:$B$105,$A15,'Registre entretien'!$H$6:$H$105,"<>Terminé",'Registre entretien'!$H$6:$H$105,"<>Annulé"))) | N15: =IF($A15="","",IF($H15="Retiré","Retiré",IF($M15="","Aucune échéance",IF($M15<TODAY(),"Échu",IF($M15<=TODAY()+Paramètres!$B$9,"À planifier","À jour")))))
L16: =IF($A16="","",IF(COUNTIFS('Registre entretien'!$B$6:$B$105,$A16,'Registre entretien'!$H$6:$H$105,"Terminé")=0,"",_xlfn.MAXIFS('Registre entretien'!$G$6:$G$105,'Registre entretien'!$B$6:$B$105,$A16,'Registre entretien'!$H$6:$H$105,"Terminé"))) | M16: =IF($A16="","",IF(COUNTIFS('Registre entretien'!$B$6:$B$105,$A16,'Registre entretien'!$H$6:$H$105,"<>Terminé",'Registre entretien'!$H$6:$H$105,"<>Annulé")=0,"",_xlfn.MINIFS('Registre entretien'!$F$6:$F$105,'Registre entretien'!$B$6:$B$105,$A16,'Registre entretien'!$H$6:$H$105,"<>Terminé",'Registre entretien'!$H$6:$H$105,"<>Annulé"))) | N16: =IF($A16="","",IF($H16="Retiré","Retiré",IF($M16="","Aucune échéance",IF($M16<TODAY(),"Échu",IF($M16<=TODAY()+Paramètres!$B$9,"À planifier","À jour")))))
L17: =IF($A17="","",IF(COUNTIFS('Registre entretien'!$B$6:$B$105,$A17,'Registre entretien'!$H$6:$H$105,"Terminé")=0,"",_xlfn.MAXIFS('Registre entretien'!$G$6:$G$105,'Registre entretien'!$B$6:$B$105,$A17,'Registre entretien'!$H$6:$H$105,"Terminé"))) | M17: =IF($A17="","",IF(COUNTIFS('Registre entretien'!$B$6:$B$105,$A17,'Registre entretien'!$H$6:$H$105,"<>Terminé",'Registre entretien'!$H$6:$H$105,"<>Annulé")=0,"",_xlfn.MINIFS('Registre entretien'!$F$6:$F$105,'Registre entretien'!$B$6:$B$105,$A17,'Registre entretien'!$H$6:$H$105,"<>Terminé",'Registre entretien'!$H$6:$H$105,"<>Annulé"))) | N17: =IF($A17="","",IF($H17="Retiré","Retiré",IF($M17="","Aucune échéance",IF($M17<TODAY(),"Échu",IF($M17<=TODAY()+Paramètres!$B$9,"À planifier","À jour")))))
L18: =IF($A18="","",IF(COUNTIFS('Registre entretien'!$B$6:$B$105,$A18,'Registre entretien'!$H$6:$H$105,"Terminé")=0,"",_xlfn.MAXIFS('Registre entretien'!$G$6:$G$105,'Registre entretien'!$B$6:$B$105,$A18,'Registre entretien'!$H$6:$H$105,"Terminé"))) | M18: =IF($A18="","",IF(COUNTIFS('Registre entretien'!$B$6:$B$105,$A18,'Registre entretien'!$H$6:$H$105,"<>Terminé",'Registre entretien'!$H$6:$H$105,"<>Annulé")=0,"",_xlfn.MINIFS('Registre entretien'!$F$6:$F$105,'Registre entretien'!$B$6:$B$105,$A18,'Registre entretien'!$H$6:$H$105,"<>Terminé",'Registre entretien'!$H$6:$H$105,"<>Annulé"))) | N18: =IF($A18="","",IF($H18="Retiré","Retiré",IF($M18="","Aucune échéance",IF($M18<TODAY(),"Échu",IF($M18<=TODAY()+Paramètres!$B$9,"À planifier","À jour")))))
L19: =IF($A19="","",IF(COUNTIFS('Registre entretien'!$B$6:$B$105,$A19,'Registre entretien'!$H$6:$H$105,"Terminé")=0,"",_xlfn.MAXIFS('Registre entretien'!$G$6:$G$105,'Registre entretien'!$B$6:$B$105,$A19,'Registre entretien'!$H$6:$H$105,"Terminé"))) | M19: =IF($A19="","",IF(COUNTIFS('Registre entretien'!$B$6:$B$105,$A19,'Registre entretien'!$H$6:$H$105,"<>Terminé",'Registre entretien'!$H$6:$H$105,"<>Annulé")=0,"",_xlfn.MINIFS('Registre entretien'!$F$6:$F$105,'Registre entretien'!$B$6:$B$105,$A19,'Registre entretien'!$H$6:$H$105,"<>Terminé",'Registre entretien'!$H$6:$H$105,"<>Annulé"))) | N19: =IF($A19="","",IF($H19="Retiré","Retiré",IF($M19="","Aucune échéance",IF($M19<TODAY(),"Échu",IF($M19<=TODAY()+Paramètres!$B$9,"À planifier","À jour")))))
L20: =IF($A20="","",IF(COUNTIFS('Registre entretien'!$B$6:$B$105,$A20,'Registre entretien'!$H$6:$H$105,"Terminé")=0,"",_xlfn.MAXIFS('Registre entretien'!$G$6:$G$105,'Registre entretien'!$B$6:$B$105,$A20,'Registre entretien'!$H$6:$H$105,"Terminé"))) | M20: =IF($A20="","",IF(COUNTIFS('Registre entretien'!$B$6:$B$105,$A20,'Registre entretien'!$H$6:$H$105,"<>Terminé",'Registre entretien'!$H$6:$H$105,"<>Annulé")=0,"",_xlfn.MINIFS('Registre entretien'!$F$6:$F$105,'Registre entretien'!$B$6:$B$105,$A20,'Registre entretien'!$H$6:$H$105,"<>Terminé",'Registre entretien'!$H$6:$H$105,"<>Annulé"))) | N20: =IF($A20="","",IF($H20="Retiré","Retiré",IF($M20="","Aucune échéance",IF($M20<TODAY(),"Échu",IF($M20<=TODAY()+Paramètres!$B$9,"À planifier","À jour")))))
L21: =IF($A21="","",IF(COUNTIFS('Registre entretien'!$B$6:$B$105,$A21,'Registre entretien'!$H$6:$H$105,"Terminé")=0,"",_xlfn.MAXIFS('Registre entretien'!$G$6:$G$105,'Registre entretien'!$B$6:$B$105,$A21,'Registre entretien'!$H$6:$H$105,"Terminé"))) | M21: =IF($A21="","",IF(COUNTIFS('Registre entretien'!$B$6:$B$105,$A21,'Registre entretien'!$H$6:$H$105,"<>Terminé",'Registre entretien'!$H$6:$H$105,"<>Annulé")=0,"",_xlfn.MINIFS('Registre entretien'!$F$6:$F$105,'Registre entretien'!$B$6:$B$105,$A21,'Registre entretien'!$H$6:$H$105,"<>Terminé",'Registre entretien'!$H$6:$H$105,"<>Annulé"))) | N21: =IF($A21="","",IF($H21="Retiré","Retiré",IF($M21="","Aucune échéance",IF($M21<TODAY(),"Échu",IF($M21<=TODAY()+Paramètres!$B$9,"À planifier","À jour")))))
L22: =IF($A22="","",IF(COUNTIFS('Registre entretien'!$B$6:$B$105,$A22,'Registre entretien'!$H$6:$H$105,"Terminé")=0,"",_xlfn.MAXIFS('Registre entretien'!$G$6:$G$105,'Registre entretien'!$B$6:$B$105,$A22,'Registre entretien'!$H$6:$H$105,"Terminé"))) | M22: =IF($A22="","",IF(COUNTIFS('Registre entretien'!$B$6:$B$105,$A22,'Registre entretien'!$H$6:$H$105,"<>Terminé",'Registre entretien'!$H$6:$H$105,"<>Annulé")=0,"",_xlfn.MINIFS('Registre entretien'!$F$6:$F$105,'Registre entretien'!$B$6:$B$105,$A22,'Registre entretien'!$H$6:$H$105,"<>Terminé",'Registre entretien'!$H$6:$H$105,"<>Annulé"))) | N22: =IF($A22="","",IF($H22="Retiré","Retiré",IF($M22="","Aucune échéance",IF($M22<TODAY(),"Échu",IF($M22<=TODAY()+Paramètres!$B$9,"À planifier","À jour")))))
L23: =IF($A23="","",IF(COUNTIFS('Registre entretien'!$B$6:$B$105,$A23,'Registre entretien'!$H$6:$H$105,"Terminé")=0,"",_xlfn.MAXIFS('Registre entretien'!$G$6:$G$105,'Registre entretien'!$B$6:$B$105,$A23,'Registre entretien'!$H$6:$H$105,"Terminé"))) | M23: =IF($A23="","",IF(COUNTIFS('Registre entretien'!$B$6:$B$105,$A23,'Registre entretien'!$H$6:$H$105,"<>Terminé",'Registre entretien'!$H$6:$H$105,"<>Annulé")=0,"",_xlfn.MINIFS('Registre entretien'!$F$6:$F$105,'Registre entretien'!$B$6:$B$105,$A23,'Registre entretien'!$H$6:$H$105,"<>Terminé",'Registre entretien'!$H$6:$H$105,"<>Annulé"))) | N23: =IF($A23="","",IF($H23="Retiré","Retiré",IF($M23="","Aucune échéance",IF($M23<TODAY(),"Échu",IF($M23<=TODAY()+Paramètres!$B$9,"À planifier","À jour")))))
L24: =IF($A24="","",IF(COUNTIFS('Registre entretien'!$B$6:$B$105,$A24,'Registre entretien'!$H$6:$H$105,"Terminé")=0,"",_xlfn.MAXIFS('Registre entretien'!$G$6:$G$105,'Registre entretien'!$B$6:$B$105,$A24,'Registre entretien'!$H$6:$H$105,"Terminé"))) | M24: =IF($A24="","",IF(COUNTIFS('Registre entretien'!$B$6:$B$105,$A24,'Registre entretien'!$H$6:$H$105,"<>Terminé",'Registre entretien'!$H$6:$H$105,"<>Annulé")=0,"",_xlfn.MINIFS('Registre entretien'!$F$6:$F$105,'Registre entretien'!$B$6:$B$105,$A24,'Registre entretien'!$H$6:$H$105,"<>Terminé",'Registre entretien'!$H$6:$H$105,"<>Annulé"))) | N24: =IF($A24="","",IF($H24="Retiré","Retiré",IF($M24="","Aucune échéance",IF($M24<TODAY(),"Échu",IF($M24<=TODAY()+Paramètres!$B$9,"À planifier","À jour")))))
L25: =IF($A25="","",IF(COUNTIFS('Registre entretien'!$B$6:$B$105,$A25,'Registre entretien'!$H$6:$H$105,"Terminé")=0,"",_xlfn.MAXIFS('Registre entretien'!$G$6:$G$105,'Registre entretien'!$B$6:$B$105,$A25,'Registre entretien'!$H$6:$H$105,"Terminé"))) | M25: =IF($A25="","",IF(COUNTIFS('Registre entretien'!$B$6:$B$105,$A25,'Registre entretien'!$H$6:$H$105,"<>Terminé",'Registre entretien'!$H$6:$H$105,"<>Annulé")=0,"",_xlfn.MINIFS('Registre entretien'!$F$6:$F$105,'Registre entretien'!$B$6:$B$105,$A25,'Registre entretien'!$H$6:$H$105,"<>Terminé",'Registre entretien'!$H$6:$H$105,"<>Annulé"))) | N25: =IF($A25="","",IF($H25="Retiré","Retiré",IF($M25="","Aucune échéance",IF($M25<TODAY(),"Échu",IF($M25<=TODAY()+Paramètres!$B$9,"À planifier","À jour")))))
... L105: =IF($A105="","",IF(COUNTIFS('Registre entretien'!$B$6:$B$105,$A105,'Registre entretien'!$H$6:$H$105,"Terminé")=0,"",_xlfn.MAXIFS('Registre entretien'!$G$6:$G$105,'Registre entretien'!$B$6:$B$105,$A105,'Registre entretien'!$H$6:$H$105,"Terminé"))) | M105: =IF($A105="","",IF(COUNTIFS('Registre entretien'!$B$6:$B$105,$A105,'Registre entretien'!$H$6:$H$105,"<>Terminé",'Registre entretien'!$H$6:$H$105,"<>Annulé")=0,"",_xlfn.MINIFS('Registre entretien'!$F$6:$F$105,'Registre entretien'!$B$6:$B$105,$A105,'Registre entretien'!$H$6:$H$105,"<>Terminé",'Registre entretien'!$H$6:$H$105,"<>Annulé"))) | N105: =IF($A105="","",IF($H105="Retiré","Retiré",IF($M105="","Aucune échéance",IF($M105<TODAY(),"Échu",IF($M105<=TODAY()+Paramètres!$B$9,"À planifier","À jour")))))

Sheet Registre entretien
A1: Registre d’entretien des équipements
A2: Inscrivez une ligne par entretien planifié, en cours ou terminé. Les colonnes grisées sont calculées automatiquement.
A3: Pour les entretiens terminés, inscrivez la date réelle, les heures de main-d’œuvre et les coûts applicables.
A5: No entretien | B5: ID équipement | C5: Équipement | D5: Type d’entretien | E5: Description des travaux | F5: Date prévue | G5: Date réelle | H5: Statut | I5: Intervenant | J5: Compteur à l’entretien | K5: Unité | L5: Heures de main-d’œuvre | M5: Coût main-d’œuvre | N5: Coût pièces | O5: Autres coûts | P5: Coût total | Q5: Prochaine échéance | R5: État de l’échéance
A6: ENT-2026-001 | B6: EQ-001 | C6: =IF($B6="","",IFERROR(VLOOKUP($B6,Équipements!$A$6:$N$105,2,FALSE()),"")) -> Camionnette de service Ford Transit | D6: Préventif | E6: Vidange d’huile et inspection générale | F6: 46080 | G6: 46081 | H6: Terminé | I6: Atelier mécanique Tremblay | J6: 62100 | K6: =IF($B6="","",IFERROR(VLOOKUP($B6,Équipements!$A$6:$N$105,11,FALSE()),"")) -> km | L6: 1.5 | M6: 165 | N6: 98.45 | O6: 12 | P6: =IF($A6="","",IFERROR(SUM($M6:$O6),0)) -> 275.45 | Q6: 46400 | R6: =IF($A6="","",IF($H6="Annulé","Annulé",IF($H6="Terminé","Terminé",IF($F6="","Date à préciser",IF($F6<TODAY(),"Échu",IF($F6<=TODAY()+Paramètres!$B$9,"À planifier","Planifié")))))) -> Terminé
A7: ENT-2026-002 | B7: EQ-001 | C7: =IF($B7="","",IFERROR(VLOOKUP($B7,Équipements!$A$6:$N$105,2,FALSE()),"")) -> Camionnette de service Ford Transit | D7: Inspection | E7: Inspection des freins avant la période hivernale | F7: 46252 | H7: Planifié | I7: Atelier mécanique Tremblay | J7: 72000 | K7: =IF($B7="","",IFERROR(VLOOKUP($B7,Équipements!$A$6:$N$105,11,FALSE()),"")) -> km | L7: 0 | M7: 0 | N7: 0 | O7: 0 | P7: =IF($A7="","",IFERROR(SUM($M7:$O7),0)) -> 0 | Q7: 46440 | R7: =IF($A7="","",IF($H7="Annulé","Annulé",IF($H7="Terminé","Terminé",IF($F7="","Date à préciser",IF($F7<TODAY(),"Échu",IF($F7<=TODAY()+Paramètres!$B$9,"À planifier","Planifié")))))) -> Échu
A8: ENT-2026-003 | B8: EQ-002 | C8: =IF($B8="","",IFERROR(VLOOKUP($B8,Équipements!$A$6:$N$105,2,FALSE()),"")) -> Scie circulaire portative | D8: Nettoyage | E8: Nettoyage des prises d’air et vérification de la lame | F8: 46140 | G8: 46140 | H8: Terminé | I8: Équipe interne | J8: 175 | K8: =IF($B8="","",IFERROR(VLOOKUP($B8,Équipements!$A$6:$N$105,11,FALSE()),"")) -> h | L8: 0.5 | M8: 0 | N8: 34.99 | O8: 0 | P8: =IF($A8="","",IFERROR(SUM($M8:$O8),0)) -> 34.99 | Q8: 46350 | R8: =IF($A8="","",IF($H8="Annulé","Annulé",IF($H8="Terminé","Terminé",IF($F8="","Date à préciser",IF($F8<TODAY(),"Échu",IF($F8<=TODAY()+Paramètres!$B$9,"À planifier","Planifié")))))) -> Terminé
A9: ENT-2026-004 | B9: EQ-003 | C9: =IF($B9="","",IFERROR(VLOOKUP($B9,Équipements!$A$6:$N$105,2,FALSE()),"")) -> Compresseur à air | D9: Préventif | E9: Vérification du niveau d’huile et drainage du réservoir | F9: 46270 | H9: Planifié | I9: Équipe interne | J9: 650 | K9: =IF($B9="","",IFERROR(VLOOKUP($B9,Équipements!$A$6:$N$105,11,FALSE()),"")) -> h | L9: 0 | M9: 0 | N9: 0 | O9: 0 | P9: =IF($A9="","",IFERROR(SUM($M9:$O9),0)) -> 0 | Q9: 46450 | R9: =IF($A9="","",IF($H9="Annulé","Annulé",IF($H9="Terminé","Terminé",IF($F9="","Date à préciser",IF($F9<TODAY(),"Échu",IF($F9<=TODAY()+Paramètres!$B$9,"À planifier","Planifié")))))) -> À planifier
A10: ENT-2026-005 | B10: EQ-004 | C10: =IF($B10="","",IFERROR(VLOOKUP($B10,Équipements!$A$6:$N$105,2,FALSE()),"")) -> Ordinateur portable administration | D10: Nettoyage | E10: Nettoyage du clavier, de l’écran et des ventilateurs | F10: 46200 | G10: 46200 | H10: Terminé | I10: Équipe interne | J10: 0 | K10: =IF($B10="","",IFERROR(VLOOKUP($B10,Équipements!$A$6:$N$105,11,FALSE()),"")) -> s. o. | L10: 0.75 | M10: 0 | N10: 18.99 | O10: 0 | P10: =IF($A10="","",IFERROR(SUM($M10:$O10),0)) -> 18.99 | Q10: 46370 | R10: =IF($A10="","",IF($H10="Annulé","Annulé",IF($H10="Terminé","Terminé",IF($F10="","Date à préciser",IF($F10<TODAY(),"Échu",IF($F10<=TODAY()+Paramètres!$B$9,"À planifier","Planifié")))))) -> Terminé
A11: ENT-2026-006 | B11: EQ-005 | C11: =IF($B11="","",IFERROR(VLOOKUP($B11,Équipements!$A$6:$N$105,2,FALSE()),"")) -> Génératrice portative | D11: Réparation | E11: Diagnostic du démarrage intermittent de la génératrice | F11: 46255 | H11: En cours | I11: Électro-Mécanique Québec | J11: 1120 | K11: =IF($B11="","",IFERROR(VLOOKUP($B11,Équipements!$A$6:$N$105,11,FALSE()),"")) -> h | L11: 0 | M11: 0 | N11: 0 | O11: 0 | P11: =IF($A11="","",IFERROR(SUM($M11:$O11),0)) -> 0 | Q11: 46300 | R11: =IF($A11="","",IF($H11="Annulé","Annulé",IF($H11="Terminé","Terminé",IF($F11="","Date à préciser",IF($F11<TODAY(),"Échu",IF($F11<=TODAY()+Paramètres!$B$9,"À planifier","Planifié")))))) -> Échu
A12: ENT-2026-007 | B12: EQ-006 | C12: =IF($B12="","",IFERROR(VLOOKUP($B12,Équipements!$A$6:$N$105,2,FALSE()),"")) -> Échelle coulissante 32 pi | D12: Inspection | E12: Inspection visuelle des barreaux, patins et crochets | F12: 46285 | H12: Planifié | I12: Équipe interne | J12: 0 | K12: =IF($B12="","",IFERROR(VLOOKUP($B12,Équipements!$A$6:$N$105,11,FALSE()),"")) -> s. o. | L12: 0.25 | M12: 0 | N12: 0 | O12: 0 | P12: =IF($A12="","",IFERROR(SUM($M12:$O12),0)) -> 0 | Q12: 46530 | R12: =IF($A12="","",IF($H12="Annulé","Annulé",IF($H12="Terminé","Terminé",IF($F12="","Date à préciser",IF($F12<TODAY(),"Échu",IF($F12<=TODAY()+Paramètres!$B$9,"À planifier","Planifié")))))) -> À planifier
A13: ENT-2026-008 | B13: EQ-007 | C13: =IF($B13="","",IFERROR(VLOOKUP($B13,Équipements!$A$6:$N$105,2,FALSE()),"")) -> Perceuse à percussion | D13: Correctif | E13: Remplacement du mandrin endommagé | F13: 46160 | G13: 46161 | H13: Terminé | I13: Services Techno Nord | J13: 78 | K13: =IF($B13="","",IFERROR(VLOOKUP($B13,Équipements!$A$6:$N$105,11,FALSE()),"")) -> h | L13: 0.75 | M13: 89 | N13: 64.99 | O13: 0 | P13: =IF($A13="","",IFERROR(SUM($M13:$O13),0)) -> 153.99 | Q13: 46355 | R13: =IF($A13="","",IF($H13="Annulé","Annulé",IF($H13="Terminé","Terminé",IF($F13="","Date à préciser",IF($F13<TODAY(),"Échu",IF($F13<=TODAY()+Paramètres!$B$9,"À planifier","Planifié")))))) -> Terminé
A14: ENT-2026-009 | B14: EQ-008 | C14: =IF($B14="","",IFERROR(VLOOKUP($B14,Équipements!$A$6:$N$105,2,FALSE()),"")) -> Imprimante multifonction | D14: Réparation | E14: Évaluation d’un défaut d’impression et bourrage papier fréquent | F14: 46130 | G14: 46132 | H14: Terminé | I14: Informatique Plus | J14: 0 | K14: =IF($B14="","",IFERROR(VLOOKUP($B14,Équipements!$A$6:$N$105,11,FALSE()),"")) -> s. o. | L14: 1 | M14: 125 | N14: 210 | O14: 0 | P14: =IF($A14="","",IFERROR(SUM($M14:$O14),0)) -> 335 | R14: =IF($A14="","",IF($H14="Annulé","Annulé",IF($H14="Terminé","Terminé",IF($F14="","Date à préciser",IF($F14<TODAY(),"Échu",IF($F14<=TODAY()+Paramètres!$B$9,"À planifier","Planifié")))))) -> Terminé
A15: ENT-2026-010 | B15: EQ-003 | C15: =IF($B15="","",IFERROR(VLOOKUP($B15,Équipements!$A$6:$N$105,2,FALSE()),"")) -> Compresseur à air | D15: Inspection | E15: Vérification annuelle de la soupape de sécurité | F15: 46340 | H15: Reporté | I15: Fournisseur externe | J15: 720 | K15: =IF($B15="","",IFERROR(VLOOKUP($B15,Équipements!$A$6:$N$105,11,FALSE()),"")) -> h | L15: 0 | M15: 0 | N15: 0 | O15: 0 | P15: =IF($A15="","",IFERROR(SUM($M15:$O15),0)) -> 0 | Q15: 46625 | R15: =IF($A15="","",IF($H15="Annulé","Annulé",IF($H15="Terminé","Terminé",IF($F15="","Date à préciser",IF($F15<TODAY(),"Échu",IF($F15<=TODAY()+Paramètres!$B$9,"À planifier","Planifié")))))) -> Planifié
C16: =IF($B16="","",IFERROR(VLOOKUP($B16,Équipements!$A$6:$N$105,2,FALSE()),"")) | K16: =IF($B16="","",IFERROR(VLOOKUP($B16,Équipements!$A$6:$N$105,11,FALSE()),"")) | P16: =IF($A16="","",IFERROR(SUM($M16:$O16),0)) | R16: =IF($A16="","",IF($H16="Annulé","Annulé",IF($H16="Terminé","Terminé",IF($F16="","Date à préciser",IF($F16<TODAY(),"Échu",IF($F16<=TODAY()+Paramètres!$B$9,"À planifier","Planifié"))))))
C17: =IF($B17="","",IFERROR(VLOOKUP($B17,Équipements!$A$6:$N$105,2,FALSE()),"")) | K17: =IF($B17="","",IFERROR(VLOOKUP($B17,Équipements!$A$6:$N$105,11,FALSE()),"")) | P17: =IF($A17="","",IFERROR(SUM($M17:$O17),0)) | R17: =IF($A17="","",IF($H17="Annulé","Annulé",IF($H17="Terminé","Terminé",IF($F17="","Date à préciser",IF($F17<TODAY(),"Échu",IF($F17<=TODAY()+Paramètres!$B$9,"À planifier","Planifié"))))))
C18: =IF($B18="","",IFERROR(VLOOKUP($B18,Équipements!$A$6:$N$105,2,FALSE()),"")) | K18: =IF($B18="","",IFERROR(VLOOKUP($B18,Équipements!$A$6:$N$105,11,FALSE()),"")) | P18: =IF($A18="","",IFERROR(SUM($M18:$O18),0)) | R18: =IF($A18="","",IF($H18="Annulé","Annulé",IF($H18="Terminé","Terminé",IF($F18="","Date à préciser",IF($F18<TODAY(),"Échu",IF($F18<=TODAY()+Paramètres!$B$9,"À planifier","Planifié"))))))
C19: =IF($B19="","",IFERROR(VLOOKUP($B19,Équipements!$A$6:$N$105,2,FALSE()),"")) | K19: =IF($B19="","",IFERROR(VLOOKUP($B19,Équipements!$A$6:$N$105,11,FALSE()),"")) | P19: =IF($A19="","",IFERROR(SUM($M19:$O19),0)) | R19: =IF($A19="","",IF($H19="Annulé","Annulé",IF($H19="Terminé","Terminé",IF($F19="","Date à préciser",IF($F19<TODAY(),"Échu",IF($F19<=TODAY()+Paramètres!$B$9,"À planifier","Planifié"))))))
C20: =IF($B20="","",IFERROR(VLOOKUP($B20,Équipements!$A$6:$N$105,2,FALSE()),"")) | K20: =IF($B20="","",IFERROR(VLOOKUP($B20,Équipements!$A$6:$N$105,11,FALSE()),"")) | P20: =IF($A20="","",IFERROR(SUM($M20:$O20),0)) | R20: =IF($A20="","",IF($H20="Annulé","Annulé",IF($H20="Terminé","Terminé",IF($F20="","Date à préciser",IF($F20<TODAY(),"Échu",IF($F20<=TODAY()+Paramètres!$B$9,"À planifier","Planifié"))))))
C21: =IF($B21="","",IFERROR(VLOOKUP($B21,Équipements!$A$6:$N$105,2,FALSE()),"")) | K21: =IF($B21="","",IFERROR(VLOOKUP($B21,Équipements!$A$6:$N$105,11,FALSE()),"")) | P21: =IF($A21="","",IFERROR(SUM($M21:$O21),0)) | R21: =IF($A21="","",IF($H21="Annulé","Annulé",IF($H21="Terminé","Terminé",IF($F21="","Date à préciser",IF($F21<TODAY(),"Échu",IF($F21<=TODAY()+Paramètres!$B$9,"À planifier","Planifié"))))))
C22: =IF($B22="","",IFERROR(VLOOKUP($B22,Équipements!$A$6:$N$105,2,FALSE()),"")) | K22: =IF($B22="","",IFERROR(VLOOKUP($B22,Équipements!$A$6:$N$105,11,FALSE()),"")) | P22: =IF($A22="","",IFERROR(SUM($M22:$O22),0)) | R22: =IF($A22="","",IF($H22="Annulé","Annulé",IF($H22="Terminé","Terminé",IF($F22="","Date à préciser",IF($F22<TODAY(),"Échu",IF($F22<=TODAY()+Paramètres!$B$9,"À planifier","Planifié"))))))
C23: =IF($B23="","",IFERROR(VLOOKUP($B23,Équipements!$A$6:$N$105,2,FALSE()),"")) | K23: =IF($B23="","",IFERROR(VLOOKUP($B23,Équipements!$A$6:$N$105,11,FALSE()),"")) | P23: =IF($A23="","",IFERROR(SUM($M23:$O23),0)) | R23: =IF($A23="","",IF($H23="Annulé","Annulé",IF($H23="Terminé","Terminé",IF($F23="","Date à préciser",IF($F23<TODAY(),"Échu",IF($F23<=TODAY()+Paramètres!$B$9,"À planifier","Planifié"))))))
C24: =IF($B24="","",IFERROR(VLOOKUP($B24,Équipements!$A$6:$N$105,2,FALSE()),"")) | K24: =IF($B24="","",IFERROR(VLOOKUP($B24,Équipements!$A$6:$N$105,11,FALSE()),"")) | P24: =IF($A24="","",IFERROR(SUM($M24:$O24),0)) | R24: =IF($A24="","",IF($H24="Annulé","Annulé",IF($H24="Terminé","Terminé",IF($F24="","Date à préciser",IF($F24<TODAY(),"Échu",IF($F24<=TODAY()+Paramètres!$B$9,"À planifier","Planifié"))))))
C25: =IF($B25="","",IFERROR(VLOOKUP($B25,Équipements!$A$6:$N$105,2,FALSE()),"")) | K25: =IF($B25="","",IFERROR(VLOOKUP($B25,Équipements!$A$6:$N$105,11,FALSE()),"")) | P25: =IF($A25="","",IFERROR(SUM($M25:$O25),0)) | R25: =IF($A25="","",IF($H25="Annulé","Annulé",IF($H25="Terminé","Terminé",IF($F25="","Date à préciser",IF($F25<TODAY(),"Échu",IF($F25<=TODAY()+Paramètres!$B$9,"À planifier","Planifié"))))))
C26: =IF($B26="","",IFERROR(VLOOKUP($B26,Équipements!$A$6:$N$105,2,FALSE()),"")) | K26: =IF($B26="","",IFERROR(VLOOKUP($B26,Équipements!$A$6:$N$105,11,FALSE()),"")) | P26: =IF($A26="","",IFERROR(SUM($M26:$O26),0)) | R26: =IF($A26="","",IF($H26="Annulé","Annulé",IF($H26="Terminé","Terminé",IF($F26="","Date à préciser",IF($F26<TODAY(),"Échu",IF($F26<=TODAY()+Paramètres!$B$9,"À planifier","Planifié"))))))
C27: =IF($B27="","",IFERROR(VLOOKUP($B27,Équipements!$A$6:$N$105,2,FALSE()),"")) | K27: =IF($B27="","",IFERROR(VLOOKUP($B27,Équipements!$A$6:$N$105,11,FALSE()),"")) | P27: =IF($A27="","",IFERROR(SUM($M27:$O27),0)) | R27: =IF($A27="","",IF($H27="Annulé","Annulé",IF($H27="Terminé","Terminé",IF($F27="","Date à préciser",IF($F27<TODAY(),"Échu",IF($F27<=TODAY()+Paramètres!$B$9,"À planifier","Planifié"))))))
... C105: =IF($B105="","",IFERROR(VLOOKUP($B105,Équipements!$A$6:$N$105,2,FALSE()),"")) | K105: =IF($B105="","",IFERROR(VLOOKUP($B105,Équipements!$A$6:$N$105,11,FALSE()),"")) | P105: =IF($A105="","",IFERROR(SUM($M105:$O105),0)) | R105: =IF($A105="","",IF($H105="Annulé","Annulé",IF($H105="Terminé","Terminé",IF($F105="","Date à préciser",IF($F105<TODAY(),"Échu",IF($F105<=TODAY()+Paramètres!$B$9,"À planifier","Planifié"))))))

Sheet Paramètres
A1: Paramètres et listes de référence
A2: Modifiez les listes et le délai d’alerte au besoin. Les changements se répercutent dans le registre et le tableau de bord.
A4: Les paramètres doivent être révisés selon les pratiques de votre entreprise. Les fréquences d’entretien sont des valeurs internes de planification et ne remplacent pas les recommandations des fabricants.
A8: Paramètre | B8: Valeur | D8: Catégorie | F8: Statut d’équipement | H8: Type d’entretien | J8: Statut d’entretien | L8: Intervenant | N8: Unité du compteur
A9: Délai d’alerte avant échéance (jours) | B9: 30 | D9: Véhicule | F9: Actif | H9: Préventif | J9: Planifié | L9: Équipe interne | N9: km
D10: Outil électrique | F10: En réparation | H10: Correctif | J10: En cours | L10: Atelier mécanique Tremblay | N10: h
D11: Outil manuel | F11: Hors service | H11: Inspection | J11: Terminé | L11: Services Techno Nord | N11: s. o.
D12: Équipement informatique | F12: Retiré | H12: Calibration | J12: Reporté | L12: Électro-Mécanique Québec
D13: Équipement de chantier | H13: Nettoyage | J13: Annulé | L13: Informatique Plus
D14: Équipement de bureau | H14: Réparation | L14: Fournisseur externe
D15: Machinerie légère | L15: À déterminer
A18: Ajoutez de nouvelles valeurs à la fin des tableaux de cette feuille. Les listes déroulantes des autres feuilles doivent inclure automatiquement les nouvelles entrées.
