Workbook

Sheet Tableau de bord
A1: Tableau de bord — suivi budgétaire réel et prévisionnel
A2: Les cellules jaunes de la zone de sélection sont modifiables. Les indicateurs et contrôles sont calculés à partir des feuilles Suivi budgétaire et Transactions.
A4: Année financière | B4: 2026
A5: Mois analysé | B5: Mars
A6: Méthode de prévision | B6: Réel disponible + budget futur
A8: Indicateurs principaux
A10: Revenus budgétés | B10: =IFERROR(SUMIFS('Suivi budgétaire'!$E$5:$E$104,'Suivi budgétaire'!$C$5:$C$104,"Revenus"),0)
A11: Revenus réels | B11: =IFERROR(SUMIFS('Suivi budgétaire'!$F$5:$F$104,'Suivi budgétaire'!$C$5:$C$104,"Revenus"),0)
A12: Revenus prévisionnels | B12: =IFERROR(SUMIFS('Suivi budgétaire'!$H$5:$H$104,'Suivi budgétaire'!$C$5:$C$104,"Revenus"),0)
A13: Dépenses budgétées | B13: =IFERROR(SUMIFS('Suivi budgétaire'!$E$5:$E$104,'Suivi budgétaire'!$C$5:$C$104,"Dépenses"),0)
A14: Dépenses réelles | B14: =IFERROR(SUMIFS('Suivi budgétaire'!$F$5:$F$104,'Suivi budgétaire'!$C$5:$C$104,"Dépenses"),0)
A15: Dépenses prévisionnelles | B15: =IFERROR(SUMIFS('Suivi budgétaire'!$H$5:$H$104,'Suivi budgétaire'!$C$5:$C$104,"Dépenses"),0)
A16: Résultat budgété | B16: =IFERROR(B10-B13,0)
A17: Résultat prévisionnel | B17: =IFERROR(B12-B15,0)
A18: Écart prévisionnel du résultat | B18: =IFERROR(B17-B16,0)
A19: Nombre de postes défavorables | B19: =IFERROR(COUNTIF('Suivi budgétaire'!$M$5:$M$104,"Défavorable"),0)
A20: Moyenne mensuelle du résultat prévisionnel | B20: =IFERROR(AVERAGE(G25:G36),0)
A23: Synthèse mensuelle | J23: Dépenses prévisionnelles par catégorie
A24: Mois | B24: Revenus budgétés | C24: Revenus prévisionnels | D24: Dépenses budgétées | E24: Dépenses prévisionnelles | F24: Résultat budgété | G24: Résultat prévisionnel | H24: Écart du résultat | J24: Catégorie | K24: Dépenses prévisionnelles
A25: ='Paramètres'!$G$5 | B25: =IFERROR(SUMIFS('Suivi budgétaire'!$E$5:$E$104,'Suivi budgétaire'!$A$5:$A$104,A25,'Suivi budgétaire'!$C$5:$C$104,"Revenus"),0) | C25: =IFERROR(SUMIFS('Suivi budgétaire'!$H$5:$H$104,'Suivi budgétaire'!$A$5:$A$104,A25,'Suivi budgétaire'!$C$5:$C$104,"Revenus"),0) | D25: =IFERROR(SUMIFS('Suivi budgétaire'!$E$5:$E$104,'Suivi budgétaire'!$A$5:$A$104,A25,'Suivi budgétaire'!$C$5:$C$104,"Dépenses"),0) | E25: =IFERROR(SUMIFS('Suivi budgétaire'!$H$5:$H$104,'Suivi budgétaire'!$A$5:$A$104,A25,'Suivi budgétaire'!$C$5:$C$104,"Dépenses"),0) | F25: =IFERROR(B25-D25,0) | G25: =IFERROR(C25-E25,0) | H25: =IFERROR(G25-F25,0) | J25: ='Paramètres'!$K$7 | K25: =IFERROR(SUMIFS('Suivi budgétaire'!$H$5:$H$104,'Suivi budgétaire'!$D$5:$D$104,J25,'Suivi budgétaire'!$C$5:$C$104,"Dépenses"),0)
A26: ='Paramètres'!$G$6 | B26: =IFERROR(SUMIFS('Suivi budgétaire'!$E$5:$E$104,'Suivi budgétaire'!$A$5:$A$104,A26,'Suivi budgétaire'!$C$5:$C$104,"Revenus"),0) | C26: =IFERROR(SUMIFS('Suivi budgétaire'!$H$5:$H$104,'Suivi budgétaire'!$A$5:$A$104,A26,'Suivi budgétaire'!$C$5:$C$104,"Revenus"),0) | D26: =IFERROR(SUMIFS('Suivi budgétaire'!$E$5:$E$104,'Suivi budgétaire'!$A$5:$A$104,A26,'Suivi budgétaire'!$C$5:$C$104,"Dépenses"),0) | E26: =IFERROR(SUMIFS('Suivi budgétaire'!$H$5:$H$104,'Suivi budgétaire'!$A$5:$A$104,A26,'Suivi budgétaire'!$C$5:$C$104,"Dépenses"),0) | F26: =IFERROR(B26-D26,0) | G26: =IFERROR(C26-E26,0) | H26: =IFERROR(G26-F26,0) | J26: ='Paramètres'!$K$8 | K26: =IFERROR(SUMIFS('Suivi budgétaire'!$H$5:$H$104,'Suivi budgétaire'!$D$5:$D$104,J26,'Suivi budgétaire'!$C$5:$C$104,"Dépenses"),0)
A27: ='Paramètres'!$G$7 | B27: =IFERROR(SUMIFS('Suivi budgétaire'!$E$5:$E$104,'Suivi budgétaire'!$A$5:$A$104,A27,'Suivi budgétaire'!$C$5:$C$104,"Revenus"),0) | C27: =IFERROR(SUMIFS('Suivi budgétaire'!$H$5:$H$104,'Suivi budgétaire'!$A$5:$A$104,A27,'Suivi budgétaire'!$C$5:$C$104,"Revenus"),0) | D27: =IFERROR(SUMIFS('Suivi budgétaire'!$E$5:$E$104,'Suivi budgétaire'!$A$5:$A$104,A27,'Suivi budgétaire'!$C$5:$C$104,"Dépenses"),0) | E27: =IFERROR(SUMIFS('Suivi budgétaire'!$H$5:$H$104,'Suivi budgétaire'!$A$5:$A$104,A27,'Suivi budgétaire'!$C$5:$C$104,"Dépenses"),0) | F27: =IFERROR(B27-D27,0) | G27: =IFERROR(C27-E27,0) | H27: =IFERROR(G27-F27,0) | J27: ='Paramètres'!$K$9 | K27: =IFERROR(SUMIFS('Suivi budgétaire'!$H$5:$H$104,'Suivi budgétaire'!$D$5:$D$104,J27,'Suivi budgétaire'!$C$5:$C$104,"Dépenses"),0)
A28: ='Paramètres'!$G$8 | B28: =IFERROR(SUMIFS('Suivi budgétaire'!$E$5:$E$104,'Suivi budgétaire'!$A$5:$A$104,A28,'Suivi budgétaire'!$C$5:$C$104,"Revenus"),0) | C28: =IFERROR(SUMIFS('Suivi budgétaire'!$H$5:$H$104,'Suivi budgétaire'!$A$5:$A$104,A28,'Suivi budgétaire'!$C$5:$C$104,"Revenus"),0) | D28: =IFERROR(SUMIFS('Suivi budgétaire'!$E$5:$E$104,'Suivi budgétaire'!$A$5:$A$104,A28,'Suivi budgétaire'!$C$5:$C$104,"Dépenses"),0) | E28: =IFERROR(SUMIFS('Suivi budgétaire'!$H$5:$H$104,'Suivi budgétaire'!$A$5:$A$104,A28,'Suivi budgétaire'!$C$5:$C$104,"Dépenses"),0) | F28: =IFERROR(B28-D28,0) | G28: =IFERROR(C28-E28,0) | H28: =IFERROR(G28-F28,0) | J28: ='Paramètres'!$K$11 | K28: =IFERROR(SUMIFS('Suivi budgétaire'!$H$5:$H$104,'Suivi budgétaire'!$D$5:$D$104,J28,'Suivi budgétaire'!$C$5:$C$104,"Dépenses"),0)
A29: ='Paramètres'!$G$9 | B29: =IFERROR(SUMIFS('Suivi budgétaire'!$E$5:$E$104,'Suivi budgétaire'!$A$5:$A$104,A29,'Suivi budgétaire'!$C$5:$C$104,"Revenus"),0) | C29: =IFERROR(SUMIFS('Suivi budgétaire'!$H$5:$H$104,'Suivi budgétaire'!$A$5:$A$104,A29,'Suivi budgétaire'!$C$5:$C$104,"Revenus"),0) | D29: =IFERROR(SUMIFS('Suivi budgétaire'!$E$5:$E$104,'Suivi budgétaire'!$A$5:$A$104,A29,'Suivi budgétaire'!$C$5:$C$104,"Dépenses"),0) | E29: =IFERROR(SUMIFS('Suivi budgétaire'!$H$5:$H$104,'Suivi budgétaire'!$A$5:$A$104,A29,'Suivi budgétaire'!$C$5:$C$104,"Dépenses"),0) | F29: =IFERROR(B29-D29,0) | G29: =IFERROR(C29-E29,0) | H29: =IFERROR(G29-F29,0) | J29: ='Paramètres'!$K$12 | K29: =IFERROR(SUMIFS('Suivi budgétaire'!$H$5:$H$104,'Suivi budgétaire'!$D$5:$D$104,J29,'Suivi budgétaire'!$C$5:$C$104,"Dépenses"),0)
A30: ='Paramètres'!$G$10 | B30: =IFERROR(SUMIFS('Suivi budgétaire'!$E$5:$E$104,'Suivi budgétaire'!$A$5:$A$104,A30,'Suivi budgétaire'!$C$5:$C$104,"Revenus"),0) | C30: =IFERROR(SUMIFS('Suivi budgétaire'!$H$5:$H$104,'Suivi budgétaire'!$A$5:$A$104,A30,'Suivi budgétaire'!$C$5:$C$104,"Revenus"),0) | D30: =IFERROR(SUMIFS('Suivi budgétaire'!$E$5:$E$104,'Suivi budgétaire'!$A$5:$A$104,A30,'Suivi budgétaire'!$C$5:$C$104,"Dépenses"),0) | E30: =IFERROR(SUMIFS('Suivi budgétaire'!$H$5:$H$104,'Suivi budgétaire'!$A$5:$A$104,A30,'Suivi budgétaire'!$C$5:$C$104,"Dépenses"),0) | F30: =IFERROR(B30-D30,0) | G30: =IFERROR(C30-E30,0) | H30: =IFERROR(G30-F30,0) | J30: ='Paramètres'!$K$13 | K30: =IFERROR(SUMIFS('Suivi budgétaire'!$H$5:$H$104,'Suivi budgétaire'!$D$5:$D$104,J30,'Suivi budgétaire'!$C$5:$C$104,"Dépenses"),0)
A31: ='Paramètres'!$G$11 | B31: =IFERROR(SUMIFS('Suivi budgétaire'!$E$5:$E$104,'Suivi budgétaire'!$A$5:$A$104,A31,'Suivi budgétaire'!$C$5:$C$104,"Revenus"),0) | C31: =IFERROR(SUMIFS('Suivi budgétaire'!$H$5:$H$104,'Suivi budgétaire'!$A$5:$A$104,A31,'Suivi budgétaire'!$C$5:$C$104,"Revenus"),0) | D31: =IFERROR(SUMIFS('Suivi budgétaire'!$E$5:$E$104,'Suivi budgétaire'!$A$5:$A$104,A31,'Suivi budgétaire'!$C$5:$C$104,"Dépenses"),0) | E31: =IFERROR(SUMIFS('Suivi budgétaire'!$H$5:$H$104,'Suivi budgétaire'!$A$5:$A$104,A31,'Suivi budgétaire'!$C$5:$C$104,"Dépenses"),0) | F31: =IFERROR(B31-D31,0) | G31: =IFERROR(C31-E31,0) | H31: =IFERROR(G31-F31,0) | J31: ='Paramètres'!$K$14 | K31: =IFERROR(SUMIFS('Suivi budgétaire'!$H$5:$H$104,'Suivi budgétaire'!$D$5:$D$104,J31,'Suivi budgétaire'!$C$5:$C$104,"Dépenses"),0)
A32: ='Paramètres'!$G$12 | B32: =IFERROR(SUMIFS('Suivi budgétaire'!$E$5:$E$104,'Suivi budgétaire'!$A$5:$A$104,A32,'Suivi budgétaire'!$C$5:$C$104,"Revenus"),0) | C32: =IFERROR(SUMIFS('Suivi budgétaire'!$H$5:$H$104,'Suivi budgétaire'!$A$5:$A$104,A32,'Suivi budgétaire'!$C$5:$C$104,"Revenus"),0) | D32: =IFERROR(SUMIFS('Suivi budgétaire'!$E$5:$E$104,'Suivi budgétaire'!$A$5:$A$104,A32,'Suivi budgétaire'!$C$5:$C$104,"Dépenses"),0) | E32: =IFERROR(SUMIFS('Suivi budgétaire'!$H$5:$H$104,'Suivi budgétaire'!$A$5:$A$104,A32,'Suivi budgétaire'!$C$5:$C$104,"Dépenses"),0) | F32: =IFERROR(B32-D32,0) | G32: =IFERROR(C32-E32,0) | H32: =IFERROR(G32-F32,0) | J32: ="" | K32: =""
A33: ='Paramètres'!$G$13 | B33: =IFERROR(SUMIFS('Suivi budgétaire'!$E$5:$E$104,'Suivi budgétaire'!$A$5:$A$104,A33,'Suivi budgétaire'!$C$5:$C$104,"Revenus"),0) | C33: =IFERROR(SUMIFS('Suivi budgétaire'!$H$5:$H$104,'Suivi budgétaire'!$A$5:$A$104,A33,'Suivi budgétaire'!$C$5:$C$104,"Revenus"),0) | D33: =IFERROR(SUMIFS('Suivi budgétaire'!$E$5:$E$104,'Suivi budgétaire'!$A$5:$A$104,A33,'Suivi budgétaire'!$C$5:$C$104,"Dépenses"),0) | E33: =IFERROR(SUMIFS('Suivi budgétaire'!$H$5:$H$104,'Suivi budgétaire'!$A$5:$A$104,A33,'Suivi budgétaire'!$C$5:$C$104,"Dépenses"),0) | F33: =IFERROR(B33-D33,0) | G33: =IFERROR(C33-E33,0) | H33: =IFERROR(G33-F33,0) | J33: ="" | K33: =""
A34: ='Paramètres'!$G$14 | B34: =IFERROR(SUMIFS('Suivi budgétaire'!$E$5:$E$104,'Suivi budgétaire'!$A$5:$A$104,A34,'Suivi budgétaire'!$C$5:$C$104,"Revenus"),0) | C34: =IFERROR(SUMIFS('Suivi budgétaire'!$H$5:$H$104,'Suivi budgétaire'!$A$5:$A$104,A34,'Suivi budgétaire'!$C$5:$C$104,"Revenus"),0) | D34: =IFERROR(SUMIFS('Suivi budgétaire'!$E$5:$E$104,'Suivi budgétaire'!$A$5:$A$104,A34,'Suivi budgétaire'!$C$5:$C$104,"Dépenses"),0) | E34: =IFERROR(SUMIFS('Suivi budgétaire'!$H$5:$H$104,'Suivi budgétaire'!$A$5:$A$104,A34,'Suivi budgétaire'!$C$5:$C$104,"Dépenses"),0) | F34: =IFERROR(B34-D34,0) | G34: =IFERROR(C34-E34,0) | H34: =IFERROR(G34-F34,0) | J34: ="" | K34: =""
A35: ='Paramètres'!$G$15 | B35: =IFERROR(SUMIFS('Suivi budgétaire'!$E$5:$E$104,'Suivi budgétaire'!$A$5:$A$104,A35,'Suivi budgétaire'!$C$5:$C$104,"Revenus"),0) | C35: =IFERROR(SUMIFS('Suivi budgétaire'!$H$5:$H$104,'Suivi budgétaire'!$A$5:$A$104,A35,'Suivi budgétaire'!$C$5:$C$104,"Revenus"),0) | D35: =IFERROR(SUMIFS('Suivi budgétaire'!$E$5:$E$104,'Suivi budgétaire'!$A$5:$A$104,A35,'Suivi budgétaire'!$C$5:$C$104,"Dépenses"),0) | E35: =IFERROR(SUMIFS('Suivi budgétaire'!$H$5:$H$104,'Suivi budgétaire'!$A$5:$A$104,A35,'Suivi budgétaire'!$C$5:$C$104,"Dépenses"),0) | F35: =IFERROR(B35-D35,0) | G35: =IFERROR(C35-E35,0) | H35: =IFERROR(G35-F35,0) | J35: ="" | K35: =""
A36: ='Paramètres'!$G$16 | B36: =IFERROR(SUMIFS('Suivi budgétaire'!$E$5:$E$104,'Suivi budgétaire'!$A$5:$A$104,A36,'Suivi budgétaire'!$C$5:$C$104,"Revenus"),0) | C36: =IFERROR(SUMIFS('Suivi budgétaire'!$H$5:$H$104,'Suivi budgétaire'!$A$5:$A$104,A36,'Suivi budgétaire'!$C$5:$C$104,"Revenus"),0) | D36: =IFERROR(SUMIFS('Suivi budgétaire'!$E$5:$E$104,'Suivi budgétaire'!$A$5:$A$104,A36,'Suivi budgétaire'!$C$5:$C$104,"Dépenses"),0) | E36: =IFERROR(SUMIFS('Suivi budgétaire'!$H$5:$H$104,'Suivi budgétaire'!$A$5:$A$104,A36,'Suivi budgétaire'!$C$5:$C$104,"Dépenses"),0) | F36: =IFERROR(B36-D36,0) | G36: =IFERROR(C36-E36,0) | H36: =IFERROR(G36-F36,0) | J36: ="" | K36: =""
A37: ="" | B37: ="" | C37: ="" | D37: ="" | E37: ="" | F37: ="" | G37: ="" | H37: ="" | J37: ="" | K37: =""
A38: ="" | B38: ="" | C38: ="" | D38: ="" | E38: ="" | F38: ="" | G38: ="" | H38: ="" | J38: ="" | K38: =""
A39: ="" | B39: ="" | C39: ="" | D39: ="" | E39: ="" | F39: ="" | G39: ="" | H39: ="" | J39: ="" | K39: =""
A40: ="" | B40: ="" | C40: ="" | D40: ="" | E40: ="" | F40: ="" | G40: ="" | H40: ="" | J40: ="" | K40: =""
A41: ="" | B41: ="" | C41: ="" | D41: ="" | E41: ="" | F41: ="" | G41: ="" | H41: ="" | J41: ="" | K41: =""
A42: ="" | B42: ="" | C42: ="" | D42: ="" | E42: ="" | F42: ="" | G42: ="" | H42: ="" | J42: ="" | K42: =""
A43: ="" | B43: ="" | C43: ="" | D43: ="" | E43: ="" | F43: ="" | G43: ="" | H43: ="" | J43: ="" | K43: =""
A44: ="" | B44: ="" | C44: ="" | D44: ="" | E44: ="" | F44: ="" | G44: ="" | H44: ="" | J44: ="" | K44: =""
A45: ="" | B45: ="" | C45: ="" | D45: ="" | E45: ="" | F45: ="" | G45: ="" | H45: ="" | J45: ="" | K45: =""
...

Sheet Suivi budgétaire
A1: Suivi budgétaire réel et prévisionnel
A2: Saisissez les cellules jaunes : Mois, Type de poste, Catégorie, Budget mensuel et Commentaire. Les colonnes grises sont calculées.
A4: Mois | B4: No mois | C4: Type de poste | D4: Catégorie | E4: Budget mensuel | F4: Réel à date | G4: Prévision future | H4: Prévision totale | I4: Écart réel | J4: Écart prévisionnel | K4: Écart réel % | L4: Écart prévisionnel % | M4: Statut budgétaire | N4: Commentaire
A5: Janvier | B5: =IFERROR(MATCH(A5,'Paramètres'!$G$5:$G$16,0),"") | C5: Revenus | D5: Ventes de services | E5: 7000 | F5: =IF(OR(A5="",C5="",D5="",E5=""),"",IFERROR(SUMIFS('Transactions'!$J$5:$J$104,'Transactions'!$C$5:$C$104,B5,'Transactions'!$E$5:$E$104,C5,'Transactions'!$F$5:$F$104,D5,'Transactions'!$I$5:$I$104,"Réel"),0)) | G5: =IF(OR(A5="",C5="",D5="",E5=""),"",IFERROR(SUMIFS('Transactions'!$J$5:$J$104,'Transactions'!$C$5:$C$104,B5,'Transactions'!$E$5:$E$104,C5,'Transactions'!$F$5:$F$104,D5,'Transactions'!$I$5:$I$104,"Prévisionnel"),0)) | H5: =IF(OR(A5="",C5="",D5="",E5=""),"",IFERROR(F5+G5,0)) | I5: =IF(OR(A5="",C5="",D5="",E5=""),"",IFERROR(F5-E5,0)) | J5: =IF(OR(A5="",C5="",D5="",E5=""),"",IFERROR(H5-E5,0)) | K5: =IF(OR(A5="",C5="",D5="",E5=""),"",IFERROR(I5/E5,0)) | L5: =IF(OR(A5="",C5="",D5="",E5=""),"",IFERROR(J5/E5,0)) | M5: =IF(OR(A5="",C5="",D5="",E5=""),"",IFERROR(IF(C5="Revenus",IF(L5>=0,"Conforme",IF(L5>=-'Paramètres'!$B$8,"À surveiller","Défavorable")),IF(L5<=0,"Conforme",IF(L5<='Paramètres'!$B$8,"À surveiller","Défavorable"))),"À surveiller"))
A6: Janvier | B6: =IFERROR(MATCH(A6,'Paramètres'!$G$5:$G$16,0),"") | C6: Dépenses | D6: Logiciels et abonnements | E6: 200 | F6: =IF(OR(A6="",C6="",D6="",E6=""),"",IFERROR(SUMIFS('Transactions'!$J$5:$J$104,'Transactions'!$C$5:$C$104,B6,'Transactions'!$E$5:$E$104,C6,'Transactions'!$F$5:$F$104,D6,'Transactions'!$I$5:$I$104,"Réel"),0)) | G6: =IF(OR(A6="",C6="",D6="",E6=""),"",IFERROR(SUMIFS('Transactions'!$J$5:$J$104,'Transactions'!$C$5:$C$104,B6,'Transactions'!$E$5:$E$104,C6,'Transactions'!$F$5:$F$104,D6,'Transactions'!$I$5:$I$104,"Prévisionnel"),0)) | H6: =IF(OR(A6="",C6="",D6="",E6=""),"",IFERROR(F6+G6,0)) | I6: =IF(OR(A6="",C6="",D6="",E6=""),"",IFERROR(F6-E6,0)) | J6: =IF(OR(A6="",C6="",D6="",E6=""),"",IFERROR(H6-E6,0)) | K6: =IF(OR(A6="",C6="",D6="",E6=""),"",IFERROR(I6/E6,0)) | L6: =IF(OR(A6="",C6="",D6="",E6=""),"",IFERROR(J6/E6,0)) | M6: =IF(OR(A6="",C6="",D6="",E6=""),"",IFERROR(IF(C6="Revenus",IF(L6>=0,"Conforme",IF(L6>=-'Paramètres'!$B$8,"À surveiller","Défavorable")),IF(L6<=0,"Conforme",IF(L6<='Paramètres'!$B$8,"À surveiller","Défavorable"))),"À surveiller"))
A7: Février | B7: =IFERROR(MATCH(A7,'Paramètres'!$G$5:$G$16,0),"") | C7: Revenus | D7: Ventes de services | E7: 7000 | F7: =IF(OR(A7="",C7="",D7="",E7=""),"",IFERROR(SUMIFS('Transactions'!$J$5:$J$104,'Transactions'!$C$5:$C$104,B7,'Transactions'!$E$5:$E$104,C7,'Transactions'!$F$5:$F$104,D7,'Transactions'!$I$5:$I$104,"Réel"),0)) | G7: =IF(OR(A7="",C7="",D7="",E7=""),"",IFERROR(SUMIFS('Transactions'!$J$5:$J$104,'Transactions'!$C$5:$C$104,B7,'Transactions'!$E$5:$E$104,C7,'Transactions'!$F$5:$F$104,D7,'Transactions'!$I$5:$I$104,"Prévisionnel"),0)) | H7: =IF(OR(A7="",C7="",D7="",E7=""),"",IFERROR(F7+G7,0)) | I7: =IF(OR(A7="",C7="",D7="",E7=""),"",IFERROR(F7-E7,0)) | J7: =IF(OR(A7="",C7="",D7="",E7=""),"",IFERROR(H7-E7,0)) | K7: =IF(OR(A7="",C7="",D7="",E7=""),"",IFERROR(I7/E7,0)) | L7: =IF(OR(A7="",C7="",D7="",E7=""),"",IFERROR(J7/E7,0)) | M7: =IF(OR(A7="",C7="",D7="",E7=""),"",IFERROR(IF(C7="Revenus",IF(L7>=0,"Conforme",IF(L7>=-'Paramètres'!$B$8,"À surveiller","Défavorable")),IF(L7<=0,"Conforme",IF(L7<='Paramètres'!$B$8,"À surveiller","Défavorable"))),"À surveiller"))
A8: Février | B8: =IFERROR(MATCH(A8,'Paramètres'!$G$5:$G$16,0),"") | C8: Dépenses | D8: Publicité et marketing | E8: 750 | F8: =IF(OR(A8="",C8="",D8="",E8=""),"",IFERROR(SUMIFS('Transactions'!$J$5:$J$104,'Transactions'!$C$5:$C$104,B8,'Transactions'!$E$5:$E$104,C8,'Transactions'!$F$5:$F$104,D8,'Transactions'!$I$5:$I$104,"Réel"),0)) | G8: =IF(OR(A8="",C8="",D8="",E8=""),"",IFERROR(SUMIFS('Transactions'!$J$5:$J$104,'Transactions'!$C$5:$C$104,B8,'Transactions'!$E$5:$E$104,C8,'Transactions'!$F$5:$F$104,D8,'Transactions'!$I$5:$I$104,"Prévisionnel"),0)) | H8: =IF(OR(A8="",C8="",D8="",E8=""),"",IFERROR(F8+G8,0)) | I8: =IF(OR(A8="",C8="",D8="",E8=""),"",IFERROR(F8-E8,0)) | J8: =IF(OR(A8="",C8="",D8="",E8=""),"",IFERROR(H8-E8,0)) | K8: =IF(OR(A8="",C8="",D8="",E8=""),"",IFERROR(I8/E8,0)) | L8: =IF(OR(A8="",C8="",D8="",E8=""),"",IFERROR(J8/E8,0)) | M8: =IF(OR(A8="",C8="",D8="",E8=""),"",IFERROR(IF(C8="Revenus",IF(L8>=0,"Conforme",IF(L8>=-'Paramètres'!$B$8,"À surveiller","Défavorable")),IF(L8<=0,"Conforme",IF(L8<='Paramètres'!$B$8,"À surveiller","Défavorable"))),"À surveiller"))
A9: Février | B9: =IFERROR(MATCH(A9,'Paramètres'!$G$5:$G$16,0),"") | C9: Revenus | D9: Ventes de produits | E9: 1000 | F9: =IF(OR(A9="",C9="",D9="",E9=""),"",IFERROR(SUMIFS('Transactions'!$J$5:$J$104,'Transactions'!$C$5:$C$104,B9,'Transactions'!$E$5:$E$104,C9,'Transactions'!$F$5:$F$104,D9,'Transactions'!$I$5:$I$104,"Réel"),0)) | G9: =IF(OR(A9="",C9="",D9="",E9=""),"",IFERROR(SUMIFS('Transactions'!$J$5:$J$104,'Transactions'!$C$5:$C$104,B9,'Transactions'!$E$5:$E$104,C9,'Transactions'!$F$5:$F$104,D9,'Transactions'!$I$5:$I$104,"Prévisionnel"),0)) | H9: =IF(OR(A9="",C9="",D9="",E9=""),"",IFERROR(F9+G9,0)) | I9: =IF(OR(A9="",C9="",D9="",E9=""),"",IFERROR(F9-E9,0)) | J9: =IF(OR(A9="",C9="",D9="",E9=""),"",IFERROR(H9-E9,0)) | K9: =IF(OR(A9="",C9="",D9="",E9=""),"",IFERROR(I9/E9,0)) | L9: =IF(OR(A9="",C9="",D9="",E9=""),"",IFERROR(J9/E9,0)) | M9: =IF(OR(A9="",C9="",D9="",E9=""),"",IFERROR(IF(C9="Revenus",IF(L9>=0,"Conforme",IF(L9>=-'Paramètres'!$B$8,"À surveiller","Défavorable")),IF(L9<=0,"Conforme",IF(L9<='Paramètres'!$B$8,"À surveiller","Défavorable"))),"À surveiller"))
A10: Mars | B10: =IFERROR(MATCH(A10,'Paramètres'!$G$5:$G$16,0),"") | C10: Dépenses | D10: Honoraires professionnels | E10: 500 | F10: =IF(OR(A10="",C10="",D10="",E10=""),"",IFERROR(SUMIFS('Transactions'!$J$5:$J$104,'Transactions'!$C$5:$C$104,B10,'Transactions'!$E$5:$E$104,C10,'Transactions'!$F$5:$F$104,D10,'Transactions'!$I$5:$I$104,"Réel"),0)) | G10: =IF(OR(A10="",C10="",D10="",E10=""),"",IFERROR(SUMIFS('Transactions'!$J$5:$J$104,'Transactions'!$C$5:$C$104,B10,'Transactions'!$E$5:$E$104,C10,'Transactions'!$F$5:$F$104,D10,'Transactions'!$I$5:$I$104,"Prévisionnel"),0)) | H10: =IF(OR(A10="",C10="",D10="",E10=""),"",IFERROR(F10+G10,0)) | I10: =IF(OR(A10="",C10="",D10="",E10=""),"",IFERROR(F10-E10,0)) | J10: =IF(OR(A10="",C10="",D10="",E10=""),"",IFERROR(H10-E10,0)) | K10: =IF(OR(A10="",C10="",D10="",E10=""),"",IFERROR(I10/E10,0)) | L10: =IF(OR(A10="",C10="",D10="",E10=""),"",IFERROR(J10/E10,0)) | M10: =IF(OR(A10="",C10="",D10="",E10=""),"",IFERROR(IF(C10="Revenus",IF(L10>=0,"Conforme",IF(L10>=-'Paramètres'!$B$8,"À surveiller","Défavorable")),IF(L10<=0,"Conforme",IF(L10<='Paramètres'!$B$8,"À surveiller","Défavorable"))),"À surveiller"))
A11: Mars | B11: =IFERROR(MATCH(A11,'Paramètres'!$G$5:$G$16,0),"") | C11: Dépenses | D11: Déplacements et kilométrage | E11: 300 | F11: =IF(OR(A11="",C11="",D11="",E11=""),"",IFERROR(SUMIFS('Transactions'!$J$5:$J$104,'Transactions'!$C$5:$C$104,B11,'Transactions'!$E$5:$E$104,C11,'Transactions'!$F$5:$F$104,D11,'Transactions'!$I$5:$I$104,"Réel"),0)) | G11: =IF(OR(A11="",C11="",D11="",E11=""),"",IFERROR(SUMIFS('Transactions'!$J$5:$J$104,'Transactions'!$C$5:$C$104,B11,'Transactions'!$E$5:$E$104,C11,'Transactions'!$F$5:$F$104,D11,'Transactions'!$I$5:$I$104,"Prévisionnel"),0)) | H11: =IF(OR(A11="",C11="",D11="",E11=""),"",IFERROR(F11+G11,0)) | I11: =IF(OR(A11="",C11="",D11="",E11=""),"",IFERROR(F11-E11,0)) | J11: =IF(OR(A11="",C11="",D11="",E11=""),"",IFERROR(H11-E11,0)) | K11: =IF(OR(A11="",C11="",D11="",E11=""),"",IFERROR(I11/E11,0)) | L11: =IF(OR(A11="",C11="",D11="",E11=""),"",IFERROR(J11/E11,0)) | M11: =IF(OR(A11="",C11="",D11="",E11=""),"",IFERROR(IF(C11="Revenus",IF(L11>=0,"Conforme",IF(L11>=-'Paramètres'!$B$8,"À surveiller","Défavorable")),IF(L11<=0,"Conforme",IF(L11<='Paramètres'!$B$8,"À surveiller","Défavorable"))),"À surveiller"))
A12: Avril | B12: =IFERROR(MATCH(A12,'Paramètres'!$G$5:$G$16,0),"") | C12: Dépenses | D12: Loyer et espace de travail | E12: 950 | F12: =IF(OR(A12="",C12="",D12="",E12=""),"",IFERROR(SUMIFS('Transactions'!$J$5:$J$104,'Transactions'!$C$5:$C$104,B12,'Transactions'!$E$5:$E$104,C12,'Transactions'!$F$5:$F$104,D12,'Transactions'!$I$5:$I$104,"Réel"),0)) | G12: =IF(OR(A12="",C12="",D12="",E12=""),"",IFERROR(SUMIFS('Transactions'!$J$5:$J$104,'Transactions'!$C$5:$C$104,B12,'Transactions'!$E$5:$E$104,C12,'Transactions'!$F$5:$F$104,D12,'Transactions'!$I$5:$I$104,"Prévisionnel"),0)) | H12: =IF(OR(A12="",C12="",D12="",E12=""),"",IFERROR(F12+G12,0)) | I12: =IF(OR(A12="",C12="",D12="",E12=""),"",IFERROR(F12-E12,0)) | J12: =IF(OR(A12="",C12="",D12="",E12=""),"",IFERROR(H12-E12,0)) | K12: =IF(OR(A12="",C12="",D12="",E12=""),"",IFERROR(I12/E12,0)) | L12: =IF(OR(A12="",C12="",D12="",E12=""),"",IFERROR(J12/E12,0)) | M12: =IF(OR(A12="",C12="",D12="",E12=""),"",IFERROR(IF(C12="Revenus",IF(L12>=0,"Conforme",IF(L12>=-'Paramètres'!$B$8,"À surveiller","Défavorable")),IF(L12<=0,"Conforme",IF(L12<='Paramètres'!$B$8,"À surveiller","Défavorable"))),"À surveiller"))
A13: Avril | B13: =IFERROR(MATCH(A13,'Paramètres'!$G$5:$G$16,0),"") | C13: Revenus | D13: Ventes de services | E13: 8000 | F13: =IF(OR(A13="",C13="",D13="",E13=""),"",IFERROR(SUMIFS('Transactions'!$J$5:$J$104,'Transactions'!$C$5:$C$104,B13,'Transactions'!$E$5:$E$104,C13,'Transactions'!$F$5:$F$104,D13,'Transactions'!$I$5:$I$104,"Réel"),0)) | G13: =IF(OR(A13="",C13="",D13="",E13=""),"",IFERROR(SUMIFS('Transactions'!$J$5:$J$104,'Transactions'!$C$5:$C$104,B13,'Transactions'!$E$5:$E$104,C13,'Transactions'!$F$5:$F$104,D13,'Transactions'!$I$5:$I$104,"Prévisionnel"),0)) | H13: =IF(OR(A13="",C13="",D13="",E13=""),"",IFERROR(F13+G13,0)) | I13: =IF(OR(A13="",C13="",D13="",E13=""),"",IFERROR(F13-E13,0)) | J13: =IF(OR(A13="",C13="",D13="",E13=""),"",IFERROR(H13-E13,0)) | K13: =IF(OR(A13="",C13="",D13="",E13=""),"",IFERROR(I13/E13,0)) | L13: =IF(OR(A13="",C13="",D13="",E13=""),"",IFERROR(J13/E13,0)) | M13: =IF(OR(A13="",C13="",D13="",E13=""),"",IFERROR(IF(C13="Revenus",IF(L13>=0,"Conforme",IF(L13>=-'Paramètres'!$B$8,"À surveiller","Défavorable")),IF(L13<=0,"Conforme",IF(L13<='Paramètres'!$B$8,"À surveiller","Défavorable"))),"À surveiller"))
A14: Mai | B14: =IFERROR(MATCH(A14,'Paramètres'!$G$5:$G$16,0),"") | C14: Dépenses | D14: Fournitures de bureau | E14: 250 | F14: =IF(OR(A14="",C14="",D14="",E14=""),"",IFERROR(SUMIFS('Transactions'!$J$5:$J$104,'Transactions'!$C$5:$C$104,B14,'Transactions'!$E$5:$E$104,C14,'Transactions'!$F$5:$F$104,D14,'Transactions'!$I$5:$I$104,"Réel"),0)) | G14: =IF(OR(A14="",C14="",D14="",E14=""),"",IFERROR(SUMIFS('Transactions'!$J$5:$J$104,'Transactions'!$C$5:$C$104,B14,'Transactions'!$E$5:$E$104,C14,'Transactions'!$F$5:$F$104,D14,'Transactions'!$I$5:$I$104,"Prévisionnel"),0)) | H14: =IF(OR(A14="",C14="",D14="",E14=""),"",IFERROR(F14+G14,0)) | I14: =IF(OR(A14="",C14="",D14="",E14=""),"",IFERROR(F14-E14,0)) | J14: =IF(OR(A14="",C14="",D14="",E14=""),"",IFERROR(H14-E14,0)) | K14: =IF(OR(A14="",C14="",D14="",E14=""),"",IFERROR(I14/E14,0)) | L14: =IF(OR(A14="",C14="",D14="",E14=""),"",IFERROR(J14/E14,0)) | M14: =IF(OR(A14="",C14="",D14="",E14=""),"",IFERROR(IF(C14="Revenus",IF(L14>=0,"Conforme",IF(L14>=-'Paramètres'!$B$8,"À surveiller","Défavorable")),IF(L14<=0,"Conforme",IF(L14<='Paramètres'!$B$8,"À surveiller","Défavorable"))),"À surveiller"))
B15: =IFERROR(MATCH(A15,'Paramètres'!$G$5:$G$16,0),"") | F15: =IF(OR(A15="",C15="",D15="",E15=""),"",IFERROR(SUMIFS('Transactions'!$J$5:$J$104,'Transactions'!$C$5:$C$104,B15,'Transactions'!$E$5:$E$104,C15,'Transactions'!$F$5:$F$104,D15,'Transactions'!$I$5:$I$104,"Réel"),0)) | G15: =IF(OR(A15="",C15="",D15="",E15=""),"",IFERROR(SUMIFS('Transactions'!$J$5:$J$104,'Transactions'!$C$5:$C$104,B15,'Transactions'!$E$5:$E$104,C15,'Transactions'!$F$5:$F$104,D15,'Transactions'!$I$5:$I$104,"Prévisionnel"),0)) | H15: =IF(OR(A15="",C15="",D15="",E15=""),"",IFERROR(F15+G15,0)) | I15: =IF(OR(A15="",C15="",D15="",E15=""),"",IFERROR(F15-E15,0)) | J15: =IF(OR(A15="",C15="",D15="",E15=""),"",IFERROR(H15-E15,0)) | K15: =IF(OR(A15="",C15="",D15="",E15=""),"",IFERROR(I15/E15,0)) | L15: =IF(OR(A15="",C15="",D15="",E15=""),"",IFERROR(J15/E15,0)) | M15: =IF(OR(A15="",C15="",D15="",E15=""),"",IFERROR(IF(C15="Revenus",IF(L15>=0,"Conforme",IF(L15>=-'Paramètres'!$B$8,"À surveiller","Défavorable")),IF(L15<=0,"Conforme",IF(L15<='Paramètres'!$B$8,"À surveiller","Défavorable"))),"À surveiller"))
B16: =IFERROR(MATCH(A16,'Paramètres'!$G$5:$G$16,0),"") | F16: =IF(OR(A16="",C16="",D16="",E16=""),"",IFERROR(SUMIFS('Transactions'!$J$5:$J$104,'Transactions'!$C$5:$C$104,B16,'Transactions'!$E$5:$E$104,C16,'Transactions'!$F$5:$F$104,D16,'Transactions'!$I$5:$I$104,"Réel"),0)) | G16: =IF(OR(A16="",C16="",D16="",E16=""),"",IFERROR(SUMIFS('Transactions'!$J$5:$J$104,'Transactions'!$C$5:$C$104,B16,'Transactions'!$E$5:$E$104,C16,'Transactions'!$F$5:$F$104,D16,'Transactions'!$I$5:$I$104,"Prévisionnel"),0)) | H16: =IF(OR(A16="",C16="",D16="",E16=""),"",IFERROR(F16+G16,0)) | I16: =IF(OR(A16="",C16="",D16="",E16=""),"",IFERROR(F16-E16,0)) | J16: =IF(OR(A16="",C16="",D16="",E16=""),"",IFERROR(H16-E16,0)) | K16: =IF(OR(A16="",C16="",D16="",E16=""),"",IFERROR(I16/E16,0)) | L16: =IF(OR(A16="",C16="",D16="",E16=""),"",IFERROR(J16/E16,0)) | M16: =IF(OR(A16="",C16="",D16="",E16=""),"",IFERROR(IF(C16="Revenus",IF(L16>=0,"Conforme",IF(L16>=-'Paramètres'!$B$8,"À surveiller","Défavorable")),IF(L16<=0,"Conforme",IF(L16<='Paramètres'!$B$8,"À surveiller","Défavorable"))),"À surveiller"))
B17: =IFERROR(MATCH(A17,'Paramètres'!$G$5:$G$16,0),"") | F17: =IF(OR(A17="",C17="",D17="",E17=""),"",IFERROR(SUMIFS('Transactions'!$J$5:$J$104,'Transactions'!$C$5:$C$104,B17,'Transactions'!$E$5:$E$104,C17,'Transactions'!$F$5:$F$104,D17,'Transactions'!$I$5:$I$104,"Réel"),0)) | G17: =IF(OR(A17="",C17="",D17="",E17=""),"",IFERROR(SUMIFS('Transactions'!$J$5:$J$104,'Transactions'!$C$5:$C$104,B17,'Transactions'!$E$5:$E$104,C17,'Transactions'!$F$5:$F$104,D17,'Transactions'!$I$5:$I$104,"Prévisionnel"),0)) | H17: =IF(OR(A17="",C17="",D17="",E17=""),"",IFERROR(F17+G17,0)) | I17: =IF(OR(A17="",C17="",D17="",E17=""),"",IFERROR(F17-E17,0)) | J17: =IF(OR(A17="",C17="",D17="",E17=""),"",IFERROR(H17-E17,0)) | K17: =IF(OR(A17="",C17="",D17="",E17=""),"",IFERROR(I17/E17,0)) | L17: =IF(OR(A17="",C17="",D17="",E17=""),"",IFERROR(J17/E17,0)) | M17: =IF(OR(A17="",C17="",D17="",E17=""),"",IFERROR(IF(C17="Revenus",IF(L17>=0,"Conforme",IF(L17>=-'Paramètres'!$B$8,"À surveiller","Défavorable")),IF(L17<=0,"Conforme",IF(L17<='Paramètres'!$B$8,"À surveiller","Défavorable"))),"À surveiller"))
B18: =IFERROR(MATCH(A18,'Paramètres'!$G$5:$G$16,0),"") | F18: =IF(OR(A18="",C18="",D18="",E18=""),"",IFERROR(SUMIFS('Transactions'!$J$5:$J$104,'Transactions'!$C$5:$C$104,B18,'Transactions'!$E$5:$E$104,C18,'Transactions'!$F$5:$F$104,D18,'Transactions'!$I$5:$I$104,"Réel"),0)) | G18: =IF(OR(A18="",C18="",D18="",E18=""),"",IFERROR(SUMIFS('Transactions'!$J$5:$J$104,'Transactions'!$C$5:$C$104,B18,'Transactions'!$E$5:$E$104,C18,'Transactions'!$F$5:$F$104,D18,'Transactions'!$I$5:$I$104,"Prévisionnel"),0)) | H18: =IF(OR(A18="",C18="",D18="",E18=""),"",IFERROR(F18+G18,0)) | I18: =IF(OR(A18="",C18="",D18="",E18=""),"",IFERROR(F18-E18,0)) | J18: =IF(OR(A18="",C18="",D18="",E18=""),"",IFERROR(H18-E18,0)) | K18: =IF(OR(A18="",C18="",D18="",E18=""),"",IFERROR(I18/E18,0)) | L18: =IF(OR(A18="",C18="",D18="",E18=""),"",IFERROR(J18/E18,0)) | M18: =IF(OR(A18="",C18="",D18="",E18=""),"",IFERROR(IF(C18="Revenus",IF(L18>=0,"Conforme",IF(L18>=-'Paramètres'!$B$8,"À surveiller","Défavorable")),IF(L18<=0,"Conforme",IF(L18<='Paramètres'!$B$8,"À surveiller","Défavorable"))),"À surveiller"))
B19: =IFERROR(MATCH(A19,'Paramètres'!$G$5:$G$16,0),"") | F19: =IF(OR(A19="",C19="",D19="",E19=""),"",IFERROR(SUMIFS('Transactions'!$J$5:$J$104,'Transactions'!$C$5:$C$104,B19,'Transactions'!$E$5:$E$104,C19,'Transactions'!$F$5:$F$104,D19,'Transactions'!$I$5:$I$104,"Réel"),0)) | G19: =IF(OR(A19="",C19="",D19="",E19=""),"",IFERROR(SUMIFS('Transactions'!$J$5:$J$104,'Transactions'!$C$5:$C$104,B19,'Transactions'!$E$5:$E$104,C19,'Transactions'!$F$5:$F$104,D19,'Transactions'!$I$5:$I$104,"Prévisionnel"),0)) | H19: =IF(OR(A19="",C19="",D19="",E19=""),"",IFERROR(F19+G19,0)) | I19: =IF(OR(A19="",C19="",D19="",E19=""),"",IFERROR(F19-E19,0)) | J19: =IF(OR(A19="",C19="",D19="",E19=""),"",IFERROR(H19-E19,0)) | K19: =IF(OR(A19="",C19="",D19="",E19=""),"",IFERROR(I19/E19,0)) | L19: =IF(OR(A19="",C19="",D19="",E19=""),"",IFERROR(J19/E19,0)) | M19: =IF(OR(A19="",C19="",D19="",E19=""),"",IFERROR(IF(C19="Revenus",IF(L19>=0,"Conforme",IF(L19>=-'Paramètres'!$B$8,"À surveiller","Défavorable")),IF(L19<=0,"Conforme",IF(L19<='Paramètres'!$B$8,"À surveiller","Défavorable"))),"À surveiller"))
B20: =IFERROR(MATCH(A20,'Paramètres'!$G$5:$G$16,0),"") | F20: =IF(OR(A20="",C20="",D20="",E20=""),"",IFERROR(SUMIFS('Transactions'!$J$5:$J$104,'Transactions'!$C$5:$C$104,B20,'Transactions'!$E$5:$E$104,C20,'Transactions'!$F$5:$F$104,D20,'Transactions'!$I$5:$I$104,"Réel"),0)) | G20: =IF(OR(A20="",C20="",D20="",E20=""),"",IFERROR(SUMIFS('Transactions'!$J$5:$J$104,'Transactions'!$C$5:$C$104,B20,'Transactions'!$E$5:$E$104,C20,'Transactions'!$F$5:$F$104,D20,'Transactions'!$I$5:$I$104,"Prévisionnel"),0)) | H20: =IF(OR(A20="",C20="",D20="",E20=""),"",IFERROR(F20+G20,0)) | I20: =IF(OR(A20="",C20="",D20="",E20=""),"",IFERROR(F20-E20,0)) | J20: =IF(OR(A20="",C20="",D20="",E20=""),"",IFERROR(H20-E20,0)) | K20: =IF(OR(A20="",C20="",D20="",E20=""),"",IFERROR(I20/E20,0)) | L20: =IF(OR(A20="",C20="",D20="",E20=""),"",IFERROR(J20/E20,0)) | M20: =IF(OR(A20="",C20="",D20="",E20=""),"",IFERROR(IF(C20="Revenus",IF(L20>=0,"Conforme",IF(L20>=-'Paramètres'!$B$8,"À surveiller","Défavorable")),IF(L20<=0,"Conforme",IF(L20<='Paramètres'!$B$8,"À surveiller","Défavorable"))),"À surveiller"))
B21: =IFERROR(MATCH(A21,'Paramètres'!$G$5:$G$16,0),"") | F21: =IF(OR(A21="",C21="",D21="",E21=""),"",IFERROR(SUMIFS('Transactions'!$J$5:$J$104,'Transactions'!$C$5:$C$104,B21,'Transactions'!$E$5:$E$104,C21,'Transactions'!$F$5:$F$104,D21,'Transactions'!$I$5:$I$104,"Réel"),0)) | G21: =IF(OR(A21="",C21="",D21="",E21=""),"",IFERROR(SUMIFS('Transactions'!$J$5:$J$104,'Transactions'!$C$5:$C$104,B21,'Transactions'!$E$5:$E$104,C21,'Transactions'!$F$5:$F$104,D21,'Transactions'!$I$5:$I$104,"Prévisionnel"),0)) | H21: =IF(OR(A21="",C21="",D21="",E21=""),"",IFERROR(F21+G21,0)) | I21: =IF(OR(A21="",C21="",D21="",E21=""),"",IFERROR(F21-E21,0)) | J21: =IF(OR(A21="",C21="",D21="",E21=""),"",IFERROR(H21-E21,0)) | K21: =IF(OR(A21="",C21="",D21="",E21=""),"",IFERROR(I21/E21,0)) | L21: =IF(OR(A21="",C21="",D21="",E21=""),"",IFERROR(J21/E21,0)) | M21: =IF(OR(A21="",C21="",D21="",E21=""),"",IFERROR(IF(C21="Revenus",IF(L21>=0,"Conforme",IF(L21>=-'Paramètres'!$B$8,"À surveiller","Défavorable")),IF(L21<=0,"Conforme",IF(L21<='Paramètres'!$B$8,"À surveiller","Défavorable"))),"À surveiller"))
B22: =IFERROR(MATCH(A22,'Paramètres'!$G$5:$G$16,0),"") | F22: =IF(OR(A22="",C22="",D22="",E22=""),"",IFERROR(SUMIFS('Transactions'!$J$5:$J$104,'Transactions'!$C$5:$C$104,B22,'Transactions'!$E$5:$E$104,C22,'Transactions'!$F$5:$F$104,D22,'Transactions'!$I$5:$I$104,"Réel"),0)) | G22: =IF(OR(A22="",C22="",D22="",E22=""),"",IFERROR(SUMIFS('Transactions'!$J$5:$J$104,'Transactions'!$C$5:$C$104,B22,'Transactions'!$E$5:$E$104,C22,'Transactions'!$F$5:$F$104,D22,'Transactions'!$I$5:$I$104,"Prévisionnel"),0)) | H22: =IF(OR(A22="",C22="",D22="",E22=""),"",IFERROR(F22+G22,0)) | I22: =IF(OR(A22="",C22="",D22="",E22=""),"",IFERROR(F22-E22,0)) | J22: =IF(OR(A22="",C22="",D22="",E22=""),"",IFERROR(H22-E22,0)) | K22: =IF(OR(A22="",C22="",D22="",E22=""),"",IFERROR(I22/E22,0)) | L22: =IF(OR(A22="",C22="",D22="",E22=""),"",IFERROR(J22/E22,0)) | M22: =IF(OR(A22="",C22="",D22="",E22=""),"",IFERROR(IF(C22="Revenus",IF(L22>=0,"Conforme",IF(L22>=-'Paramètres'!$B$8,"À surveiller","Défavorable")),IF(L22<=0,"Conforme",IF(L22<='Paramètres'!$B$8,"À surveiller","Défavorable"))),"À surveiller"))
B23: =IFERROR(MATCH(A23,'Paramètres'!$G$5:$G$16,0),"") | F23: =IF(OR(A23="",C23="",D23="",E23=""),"",IFERROR(SUMIFS('Transactions'!$J$5:$J$104,'Transactions'!$C$5:$C$104,B23,'Transactions'!$E$5:$E$104,C23,'Transactions'!$F$5:$F$104,D23,'Transactions'!$I$5:$I$104,"Réel"),0)) | G23: =IF(OR(A23="",C23="",D23="",E23=""),"",IFERROR(SUMIFS('Transactions'!$J$5:$J$104,'Transactions'!$C$5:$C$104,B23,'Transactions'!$E$5:$E$104,C23,'Transactions'!$F$5:$F$104,D23,'Transactions'!$I$5:$I$104,"Prévisionnel"),0)) | H23: =IF(OR(A23="",C23="",D23="",E23=""),"",IFERROR(F23+G23,0)) | I23: =IF(OR(A23="",C23="",D23="",E23=""),"",IFERROR(F23-E23,0)) | J23: =IF(OR(A23="",C23="",D23="",E23=""),"",IFERROR(H23-E23,0)) | K23: =IF(OR(A23="",C23="",D23="",E23=""),"",IFERROR(I23/E23,0)) | L23: =IF(OR(A23="",C23="",D23="",E23=""),"",IFERROR(J23/E23,0)) | M23: =IF(OR(A23="",C23="",D23="",E23=""),"",IFERROR(IF(C23="Revenus",IF(L23>=0,"Conforme",IF(L23>=-'Paramètres'!$B$8,"À surveiller","Défavorable")),IF(L23<=0,"Conforme",IF(L23<='Paramètres'!$B$8,"À surveiller","Défavorable"))),"À surveiller"))
B24: =IFERROR(MATCH(A24,'Paramètres'!$G$5:$G$16,0),"") | F24: =IF(OR(A24="",C24="",D24="",E24=""),"",IFERROR(SUMIFS('Transactions'!$J$5:$J$104,'Transactions'!$C$5:$C$104,B24,'Transactions'!$E$5:$E$104,C24,'Transactions'!$F$5:$F$104,D24,'Transactions'!$I$5:$I$104,"Réel"),0)) | G24: =IF(OR(A24="",C24="",D24="",E24=""),"",IFERROR(SUMIFS('Transactions'!$J$5:$J$104,'Transactions'!$C$5:$C$104,B24,'Transactions'!$E$5:$E$104,C24,'Transactions'!$F$5:$F$104,D24,'Transactions'!$I$5:$I$104,"Prévisionnel"),0)) | H24: =IF(OR(A24="",C24="",D24="",E24=""),"",IFERROR(F24+G24,0)) | I24: =IF(OR(A24="",C24="",D24="",E24=""),"",IFERROR(F24-E24,0)) | J24: =IF(OR(A24="",C24="",D24="",E24=""),"",IFERROR(H24-E24,0)) | K24: =IF(OR(A24="",C24="",D24="",E24=""),"",IFERROR(I24/E24,0)) | L24: =IF(OR(A24="",C24="",D24="",E24=""),"",IFERROR(J24/E24,0)) | M24: =IF(OR(A24="",C24="",D24="",E24=""),"",IFERROR(IF(C24="Revenus",IF(L24>=0,"Conforme",IF(L24>=-'Paramètres'!$B$8,"À surveiller","Défavorable")),IF(L24<=0,"Conforme",IF(L24<='Paramètres'!$B$8,"À surveiller","Défavorable"))),"À surveiller"))
B25: =IFERROR(MATCH(A25,'Paramètres'!$G$5:$G$16,0),"") | F25: =IF(OR(A25="",C25="",D25="",E25=""),"",IFERROR(SUMIFS('Transactions'!$J$5:$J$104,'Transactions'!$C$5:$C$104,B25,'Transactions'!$E$5:$E$104,C25,'Transactions'!$F$5:$F$104,D25,'Transactions'!$I$5:$I$104,"Réel"),0)) | G25: =IF(OR(A25="",C25="",D25="",E25=""),"",IFERROR(SUMIFS('Transactions'!$J$5:$J$104,'Transactions'!$C$5:$C$104,B25,'Transactions'!$E$5:$E$104,C25,'Transactions'!$F$5:$F$104,D25,'Transactions'!$I$5:$I$104,"Prévisionnel"),0)) | H25: =IF(OR(A25="",C25="",D25="",E25=""),"",IFERROR(F25+G25,0)) | I25: =IF(OR(A25="",C25="",D25="",E25=""),"",IFERROR(F25-E25,0)) | J25: =IF(OR(A25="",C25="",D25="",E25=""),"",IFERROR(H25-E25,0)) | K25: =IF(OR(A25="",C25="",D25="",E25=""),"",IFERROR(I25/E25,0)) | L25: =IF(OR(A25="",C25="",D25="",E25=""),"",IFERROR(J25/E25,0)) | M25: =IF(OR(A25="",C25="",D25="",E25=""),"",IFERROR(IF(C25="Revenus",IF(L25>=0,"Conforme",IF(L25>=-'Paramètres'!$B$8,"À surveiller","Défavorable")),IF(L25<=0,"Conforme",IF(L25<='Paramètres'!$B$8,"À surveiller","Défavorable"))),"À surveiller"))
B26: =IFERROR(MATCH(A26,'Paramètres'!$G$5:$G$16,0),"") | F26: =IF(OR(A26="",C26="",D26="",E26=""),"",IFERROR(SUMIFS('Transactions'!$J$5:$J$104,'Transactions'!$C$5:$C$104,B26,'Transactions'!$E$5:$E$104,C26,'Transactions'!$F$5:$F$104,D26,'Transactions'!$I$5:$I$104,"Réel"),0)) | G26: =IF(OR(A26="",C26="",D26="",E26=""),"",IFERROR(SUMIFS('Transactions'!$J$5:$J$104,'Transactions'!$C$5:$C$104,B26,'Transactions'!$E$5:$E$104,C26,'Transactions'!$F$5:$F$104,D26,'Transactions'!$I$5:$I$104,"Prévisionnel"),0)) | H26: =IF(OR(A26="",C26="",D26="",E26=""),"",IFERROR(F26+G26,0)) | I26: =IF(OR(A26="",C26="",D26="",E26=""),"",IFERROR(F26-E26,0)) | J26: =IF(OR(A26="",C26="",D26="",E26=""),"",IFERROR(H26-E26,0)) | K26: =IF(OR(A26="",C26="",D26="",E26=""),"",IFERROR(I26/E26,0)) | L26: =IF(OR(A26="",C26="",D26="",E26=""),"",IFERROR(J26/E26,0)) | M26: =IF(OR(A26="",C26="",D26="",E26=""),"",IFERROR(IF(C26="Revenus",IF(L26>=0,"Conforme",IF(L26>=-'Paramètres'!$B$8,"À surveiller","Défavorable")),IF(L26<=0,"Conforme",IF(L26<='Paramètres'!$B$8,"À surveiller","Défavorable"))),"À surveiller"))
... B104: =IFERROR(MATCH(A104,'Paramètres'!$G$5:$G$16,0),"") | F104: =IF(OR(A104="",C104="",D104="",E104=""),"",IFERROR(SUMIFS('Transactions'!$J$5:$J$104,'Transactions'!$C$5:$C$104,B104,'Transactions'!$E$5:$E$104,C104,'Transactions'!$F$5:$F$104,D104,'Transactions'!$I$5:$I$104,"Réel"),0)) | G104: =IF(OR(A104="",C104="",D104="",E104=""),"",IFERROR(SUMIFS('Transactions'!$J$5:$J$104,'Transactions'!$C$5:$C$104,B104,'Transactions'!$E$5:$E$104,C104,'Transactions'!$F$5:$F$104,D104,'Transactions'!$I$5:$I$104,"Prévisionnel"),0)) | H104: =IF(OR(A104="",C104="",D104="",E104=""),"",IFERROR(F104+G104,0)) | I104: =IF(OR(A104="",C104="",D104="",E104=""),"",IFERROR(F104-E104,0)) | J104: =IF(OR(A104="",C104="",D104="",E104=""),"",IFERROR(H104-E104,0)) | K104: =IF(OR(A104="",C104="",D104="",E104=""),"",IFERROR(I104/E104,0)) | L104: =IF(OR(A104="",C104="",D104="",E104=""),"",IFERROR(J104/E104,0)) | M104: =IF(OR(A104="",C104="",D104="",E104=""),"",IFERROR(IF(C104="Revenus",IF(L104>=0,"Conforme",IF(L104>=-'Paramètres'!$B$8,"À surveiller","Défavorable")),IF(L104<=0,"Conforme",IF(L104<='Paramètres'!$B$8,"À surveiller","Défavorable"))),"À surveiller"))

Sheet Transactions
A1: Transactions réelles et prévisionnelles
A2: Saisissez les cellules jaunes. Les colonnes grises sont calculées automatiquement. Les transactions annulées sont exclues du suivi.
A4: ID transaction | B4: Date | C4: Mois | D4: Mois affiché | E4: Type de poste | F4: Catégorie | G4: Description | H4: Fournisseur ou client | I4: Statut | J4: Montant avant taxes | K4: TPS | L4: TVQ | M4: Montant total | N4: Mois réalisé | O4: Commentaire
A5: TR-0001 | B5: 46037 | C5: =IF(B5="","",IFERROR(MONTH(B5),"")) | D5: =IFERROR(VLOOKUP(C5,'Paramètres'!$F$5:$G$16,2,FALSE),"") | E5: Revenus | F5: Ventes de services | G5: Mandat de consultation janvier | H5: Atelier Boréal inc. | I5: Réel | J5: 7500 | K5: 0 | L5: 0 | M5: =IF(A5="","",IFERROR(J5+K5+L5,0)) | N5: =IF(A5="","",IF(I5="Réel","Oui","Non"))
A6: TR-0002 | B6: 46053 | C6: =IF(B6="","",IFERROR(MONTH(B6),"")) | D6: =IFERROR(VLOOKUP(C6,'Paramètres'!$F$5:$G$16,2,FALSE),"") | E6: Dépenses | F6: Logiciels et abonnements | G6: Abonnement logiciel de gestion | H6: Gestionnaire en ligne | I6: Réel | J6: 185 | K6: 0 | L6: 0 | M6: =IF(A6="","",IFERROR(J6+K6+L6,0)) | N6: =IF(A6="","",IF(I6="Réel","Oui","Non"))
A7: TR-0003 | B7: 46063 | C7: =IF(B7="","",IFERROR(MONTH(B7),"")) | D7: =IFERROR(VLOOKUP(C7,'Paramètres'!$F$5:$G$16,2,FALSE),"") | E7: Dépenses | F7: Publicité et marketing | G7: Campagne numérique février | H7: Médias Nordik | I7: Réel | J7: 620 | K7: 0 | L7: 0 | M7: =IF(A7="","",IFERROR(J7+K7+L7,0)) | N7: =IF(A7="","",IF(I7="Réel","Oui","Non"))
A8: TR-0004 | B8: 46081 | C8: =IF(B8="","",IFERROR(MONTH(B8),"")) | D8: =IFERROR(VLOOKUP(C8,'Paramètres'!$F$5:$G$16,2,FALSE),"") | E8: Revenus | F8: Ventes de services | G8: Formation en entreprise | H8: Groupe Laurentien | I8: Réel | J8: 5200 | K8: 0 | L8: 0 | M8: =IF(A8="","",IFERROR(J8+K8+L8,0)) | N8: =IF(A8="","",IF(I8="Réel","Oui","Non"))
A9: TR-0005 | B9: 46086 | C9: =IF(B9="","",IFERROR(MONTH(B9),"")) | D9: =IFERROR(VLOOKUP(C9,'Paramètres'!$F$5:$G$16,2,FALSE),"") | E9: Dépenses | F9: Honoraires professionnels | G9: Services de tenue de livres | H9: Cabinet Roy CPA | I9: Réel | J9: 480 | K9: 0 | L9: 0 | M9: =IF(A9="","",IFERROR(J9+K9+L9,0)) | N9: =IF(A9="","",IF(I9="Réel","Oui","Non"))
A10: TR-0006 | B10: 46099 | C10: =IF(B10="","",IFERROR(MONTH(B10),"")) | D10: =IFERROR(VLOOKUP(C10,'Paramètres'!$F$5:$G$16,2,FALSE),"") | E10: Dépenses | F10: Déplacements et kilométrage | G10: Déplacement chez un client | H10: Client régional | I10: Réel | J10: 215 | K10: 0 | L10: 0 | M10: =IF(A10="","",IFERROR(J10+K10+L10,0)) | N10: =IF(A10="","",IF(I10="Réel","Oui","Non"))
A11: TR-0007 | B11: 46113 | C11: =IF(B11="","",IFERROR(MONTH(B11),"")) | D11: =IFERROR(VLOOKUP(C11,'Paramètres'!$F$5:$G$16,2,FALSE),"") | E11: Dépenses | F11: Loyer et espace de travail | G11: Location d’un bureau partagé | H11: Espace Travail Montréal | I11: Prévisionnel | J11: 950 | K11: 0 | L11: 0 | M11: =IF(A11="","",IFERROR(J11+K11+L11,0)) | N11: =IF(A11="","",IF(I11="Réel","Oui","Non"))
A12: TR-0008 | B12: 46127 | C12: =IF(B12="","",IFERROR(MONTH(B12),"")) | D12: =IFERROR(VLOOKUP(C12,'Paramètres'!$F$5:$G$16,2,FALSE),"") | E12: Revenus | F12: Ventes de services | G12: Projet d’implantation | H12: Coopérative du Fleuve | I12: Prévisionnel | J12: 8000 | K12: 0 | L12: 0 | M12: =IF(A12="","",IFERROR(J12+K12+L12,0)) | N12: =IF(A12="","",IF(I12="Réel","Oui","Non"))
A13: TR-0009 | B13: 46154 | C13: =IF(B13="","",IFERROR(MONTH(B13),"")) | D13: =IFERROR(VLOOKUP(C13,'Paramètres'!$F$5:$G$16,2,FALSE),"") | E13: Dépenses | F13: Fournitures de bureau | G13: Papier et matériel de bureau | H13: Fournitures Québec | I13: Prévisionnel | J13: 165 | K13: 0 | L13: 0 | M13: =IF(A13="","",IFERROR(J13+K13+L13,0)) | N13: =IF(A13="","",IF(I13="Réel","Oui","Non"))
A14: TR-0010 | B14: 46193 | C14: =IF(B14="","",IFERROR(MONTH(B14),"")) | D14: =IFERROR(VLOOKUP(C14,'Paramètres'!$F$5:$G$16,2,FALSE),"") | E14: Dépenses | F14: Assurances | G14: Renouvellement annuel d’assurance | H14: Assurances Boréales | I14: Prévisionnel | J14: 1280 | K14: 0 | L14: 0 | M14: =IF(A14="","",IFERROR(J14+K14+L14,0)) | N14: =IF(A14="","",IF(I14="Réel","Oui","Non"))
C15: =IF(B15="","",IFERROR(MONTH(B15),"")) | D15: =IFERROR(VLOOKUP(C15,'Paramètres'!$F$5:$G$16,2,FALSE),"") | M15: =IF(A15="","",IFERROR(J15+K15+L15,0)) | N15: =IF(A15="","",IF(I15="Réel","Oui","Non"))
C16: =IF(B16="","",IFERROR(MONTH(B16),"")) | D16: =IFERROR(VLOOKUP(C16,'Paramètres'!$F$5:$G$16,2,FALSE),"") | M16: =IF(A16="","",IFERROR(J16+K16+L16,0)) | N16: =IF(A16="","",IF(I16="Réel","Oui","Non"))
C17: =IF(B17="","",IFERROR(MONTH(B17),"")) | D17: =IFERROR(VLOOKUP(C17,'Paramètres'!$F$5:$G$16,2,FALSE),"") | M17: =IF(A17="","",IFERROR(J17+K17+L17,0)) | N17: =IF(A17="","",IF(I17="Réel","Oui","Non"))
C18: =IF(B18="","",IFERROR(MONTH(B18),"")) | D18: =IFERROR(VLOOKUP(C18,'Paramètres'!$F$5:$G$16,2,FALSE),"") | M18: =IF(A18="","",IFERROR(J18+K18+L18,0)) | N18: =IF(A18="","",IF(I18="Réel","Oui","Non"))
C19: =IF(B19="","",IFERROR(MONTH(B19),"")) | D19: =IFERROR(VLOOKUP(C19,'Paramètres'!$F$5:$G$16,2,FALSE),"") | M19: =IF(A19="","",IFERROR(J19+K19+L19,0)) | N19: =IF(A19="","",IF(I19="Réel","Oui","Non"))
C20: =IF(B20="","",IFERROR(MONTH(B20),"")) | D20: =IFERROR(VLOOKUP(C20,'Paramètres'!$F$5:$G$16,2,FALSE),"") | M20: =IF(A20="","",IFERROR(J20+K20+L20,0)) | N20: =IF(A20="","",IF(I20="Réel","Oui","Non"))
C21: =IF(B21="","",IFERROR(MONTH(B21),"")) | D21: =IFERROR(VLOOKUP(C21,'Paramètres'!$F$5:$G$16,2,FALSE),"") | M21: =IF(A21="","",IFERROR(J21+K21+L21,0)) | N21: =IF(A21="","",IF(I21="Réel","Oui","Non"))
C22: =IF(B22="","",IFERROR(MONTH(B22),"")) | D22: =IFERROR(VLOOKUP(C22,'Paramètres'!$F$5:$G$16,2,FALSE),"") | M22: =IF(A22="","",IFERROR(J22+K22+L22,0)) | N22: =IF(A22="","",IF(I22="Réel","Oui","Non"))
C23: =IF(B23="","",IFERROR(MONTH(B23),"")) | D23: =IFERROR(VLOOKUP(C23,'Paramètres'!$F$5:$G$16,2,FALSE),"") | M23: =IF(A23="","",IFERROR(J23+K23+L23,0)) | N23: =IF(A23="","",IF(I23="Réel","Oui","Non"))
C24: =IF(B24="","",IFERROR(MONTH(B24),"")) | D24: =IFERROR(VLOOKUP(C24,'Paramètres'!$F$5:$G$16,2,FALSE),"") | M24: =IF(A24="","",IFERROR(J24+K24+L24,0)) | N24: =IF(A24="","",IF(I24="Réel","Oui","Non"))
C25: =IF(B25="","",IFERROR(MONTH(B25),"")) | D25: =IFERROR(VLOOKUP(C25,'Paramètres'!$F$5:$G$16,2,FALSE),"") | M25: =IF(A25="","",IFERROR(J25+K25+L25,0)) | N25: =IF(A25="","",IF(I25="Réel","Oui","Non"))
C26: =IF(B26="","",IFERROR(MONTH(B26),"")) | D26: =IFERROR(VLOOKUP(C26,'Paramètres'!$F$5:$G$16,2,FALSE),"") | M26: =IF(A26="","",IFERROR(J26+K26+L26,0)) | N26: =IF(A26="","",IF(I26="Réel","Oui","Non"))
... C104: =IF(B104="","",IFERROR(MONTH(B104),"")) | D104: =IFERROR(VLOOKUP(C104,'Paramètres'!$F$5:$G$16,2,FALSE),"") | M104: =IF(A104="","",IFERROR(J104+K104+L104,0)) | N104: =IF(A104="","",IF(I104="Réel","Oui","Non"))

Sheet Paramètres
A1: Paramètres du modèle de suivi budgétaire
A2: Les cellules jaunes sont modifiables. Les listes servent aux validations du suivi budgétaire et des transactions.
A3: Paramètres généraux | F3: Mois | I3: Types de poste | K3: Catégories | N3: Statuts de transaction | P3: Méthode de prévision
A4: Champ | B4: Valeur | F4: No mois | G4: Mois | I4: Type de poste | K4: Catégorie | L4: Type de poste | N4: Statut | P4: Méthode
A5: Année financière | B5: 2026 | F5: 1 | G5: Janvier | I5: Revenus | K5: Ventes de services | L5: Revenus | N5: Réel | P5: Réel disponible + budget futur
A6: Mois de début de l’exercice | B6: 1 | F6: 2 | G6: Février | I6: Dépenses | K6: Ventes de produits | L6: Revenus | N6: Prévisionnel | P6: Annualisation du réel
A7: Devise | B7: CAD | F7: 3 | G7: Mars | K7: Honoraires professionnels | L7: Dépenses | N7: Annulé | P7: Saisie manuelle
A8: Seuil d’alerte sur écart défavorable | B8: 0.1 | F8: 4 | G8: Avril | K8: Publicité et marketing | L8: Dépenses
A9: Seuil minimal pour indicateur significatif | B9: 100 | F9: 5 | G9: Mai | K9: Loyer et espace de travail | L9: Dépenses
F10: 6 | G10: Juin | K10: Télécommunications | L10: Dépenses
F11: 7 | G11: Juillet | K11: Logiciels et abonnements | L11: Dépenses
F12: 8 | G12: Août | K12: Fournitures de bureau | L12: Dépenses
F13: 9 | G13: Septembre | K13: Déplacements et kilométrage | L13: Dépenses
F14: 10 | G14: Octobre | K14: Assurances | L14: Dépenses
F15: 11 | G15: Novembre | K15: Frais bancaires | L15: Dépenses
F16: 12 | G16: Décembre | K16: Salaires et sous-traitance | L16: Dépenses
