Workbook

Sheet Tableau de bord
A1: Suivi des vacances employés
A2: Année de suivi | B2: ='Paramètres'!$B$3 | D2: Date de référence | E2: ='Paramètres'!$B$4
A4: Les jours déduits représentent uniquement les demandes de type Vacances dont le statut est Approuvée.
A6: Nombre d’employés actifs | B6: =COUNTIF('Employés'!$E$5:$E$104,"Actif") | D6: Banque annuelle totale | E6: =IFERROR(SUMIFS('Employés'!$F$5:$F$104,'Employés'!$E$5:$E$104,"Actif"),0) | G6: Jours de vacances approuvés | H6: =IFERROR(SUM('Employés'!$G$5:$G$104),0)
A8: Solde total disponible | B8: =IFERROR(SUM('Employés'!$H$5:$H$104),0) | D8: Demandes en attente | E8: =COUNTIF('Demandes de vacances'!$I$5:$I$104,"En attente") | G8: Employés avec solde négatif | H8: =COUNTIF('Employés'!$H$5:$H$104,"<0")
A13: No employé | B13: Employé | C13: Service | D13: Banque annuelle | E13: Jours approuvés | F13: Solde disponible | G13: Situation
A14: =IF('Employés'!$A$5="","",'Employés'!$A$5) | B14: =IF($A14="","",'Employés'!$B$5) | C14: =IF($A14="","",'Employés'!$C$5) | D14: =IF($A14="","",'Employés'!$F$5) | E14: =IF($A14="","",'Employés'!$G$5) | F14: =IF($A14="","",'Employés'!$H$5) | G14: =IF($A14="","",IF($F14<0,"Solde négatif",IF($F14=0,"Banque épuisée","Disponible")))
A15: =IF('Employés'!$A$6="","",'Employés'!$A$6) | B15: =IF($A15="","",'Employés'!$B$6) | C15: =IF($A15="","",'Employés'!$C$6) | D15: =IF($A15="","",'Employés'!$F$6) | E15: =IF($A15="","",'Employés'!$G$6) | F15: =IF($A15="","",'Employés'!$H$6) | G15: =IF($A15="","",IF($F15<0,"Solde négatif",IF($F15=0,"Banque épuisée","Disponible")))
A16: =IF('Employés'!$A$7="","",'Employés'!$A$7) | B16: =IF($A16="","",'Employés'!$B$7) | C16: =IF($A16="","",'Employés'!$C$7) | D16: =IF($A16="","",'Employés'!$F$7) | E16: =IF($A16="","",'Employés'!$G$7) | F16: =IF($A16="","",'Employés'!$H$7) | G16: =IF($A16="","",IF($F16<0,"Solde négatif",IF($F16=0,"Banque épuisée","Disponible")))
A17: =IF('Employés'!$A$8="","",'Employés'!$A$8) | B17: =IF($A17="","",'Employés'!$B$8) | C17: =IF($A17="","",'Employés'!$C$8) | D17: =IF($A17="","",'Employés'!$F$8) | E17: =IF($A17="","",'Employés'!$G$8) | F17: =IF($A17="","",'Employés'!$H$8) | G17: =IF($A17="","",IF($F17<0,"Solde négatif",IF($F17=0,"Banque épuisée","Disponible")))
A18: =IF('Employés'!$A$9="","",'Employés'!$A$9) | B18: =IF($A18="","",'Employés'!$B$9) | C18: =IF($A18="","",'Employés'!$C$9) | D18: =IF($A18="","",'Employés'!$F$9) | E18: =IF($A18="","",'Employés'!$G$9) | F18: =IF($A18="","",'Employés'!$H$9) | G18: =IF($A18="","",IF($F18<0,"Solde négatif",IF($F18=0,"Banque épuisée","Disponible")))
A19: =IF('Employés'!$A$10="","",'Employés'!$A$10) | B19: =IF($A19="","",'Employés'!$B$10) | C19: =IF($A19="","",'Employés'!$C$10) | D19: =IF($A19="","",'Employés'!$F$10) | E19: =IF($A19="","",'Employés'!$G$10) | F19: =IF($A19="","",'Employés'!$H$10) | G19: =IF($A19="","",IF($F19<0,"Solde négatif",IF($F19=0,"Banque épuisée","Disponible")))
A20: =IF('Employés'!$A$11="","",'Employés'!$A$11) | B20: =IF($A20="","",'Employés'!$B$11) | C20: =IF($A20="","",'Employés'!$C$11) | D20: =IF($A20="","",'Employés'!$F$11) | E20: =IF($A20="","",'Employés'!$G$11) | F20: =IF($A20="","",'Employés'!$H$11) | G20: =IF($A20="","",IF($F20<0,"Solde négatif",IF($F20=0,"Banque épuisée","Disponible")))
A21: =IF('Employés'!$A$12="","",'Employés'!$A$12) | B21: =IF($A21="","",'Employés'!$B$12) | C21: =IF($A21="","",'Employés'!$C$12) | D21: =IF($A21="","",'Employés'!$F$12) | E21: =IF($A21="","",'Employés'!$G$12) | F21: =IF($A21="","",'Employés'!$H$12) | G21: =IF($A21="","",IF($F21<0,"Solde négatif",IF($F21=0,"Banque épuisée","Disponible")))
A22: =IF('Employés'!$A$13="","",'Employés'!$A$13) | B22: =IF($A22="","",'Employés'!$B$13) | C22: =IF($A22="","",'Employés'!$C$13) | D22: =IF($A22="","",'Employés'!$F$13) | E22: =IF($A22="","",'Employés'!$G$13) | F22: =IF($A22="","",'Employés'!$H$13) | G22: =IF($A22="","",IF($F22<0,"Solde négatif",IF($F22=0,"Banque épuisée","Disponible")))
A23: =IF('Employés'!$A$14="","",'Employés'!$A$14) | B23: =IF($A23="","",'Employés'!$B$14) | C23: =IF($A23="","",'Employés'!$C$14) | D23: =IF($A23="","",'Employés'!$F$14) | E23: =IF($A23="","",'Employés'!$G$14) | F23: =IF($A23="","",'Employés'!$H$14) | G23: =IF($A23="","",IF($F23<0,"Solde négatif",IF($F23=0,"Banque épuisée","Disponible"))) | I23: Demandes en attente de décision
A24: =IF('Employés'!$A$15="","",'Employés'!$A$15) | B24: =IF($A24="","",'Employés'!$B$15) | C24: =IF($A24="","",'Employés'!$C$15) | D24: =IF($A24="","",'Employés'!$F$15) | E24: =IF($A24="","",'Employés'!$G$15) | F24: =IF($A24="","",'Employés'!$H$15) | G24: =IF($A24="","",IF($F24<0,"Solde négatif",IF($F24=0,"Banque épuisée","Disponible"))) | I24: No demande | J24: Employé | K24: Type d’absence | L24: Date de début | M24: Date de fin | N24: Jours ouvrables demandés | O24: Commentaires
A25: =IF('Employés'!$A$16="","",'Employés'!$A$16) | B25: =IF($A25="","",'Employés'!$B$16) | C25: =IF($A25="","",'Employés'!$C$16) | D25: =IF($A25="","",'Employés'!$F$16) | E25: =IF($A25="","",'Employés'!$G$16) | F25: =IF($A25="","",'Employés'!$H$16) | G25: =IF($A25="","",IF($F25<0,"Solde négatif",IF($F25=0,"Banque épuisée","Disponible"))) | I25: =IF('Demandes de vacances'!$I$7="En attente",'Demandes de vacances'!$A$7,"") | J25: =IF($I25="","",'Demandes de vacances'!$C$7) | K25: =IF($I25="","",'Demandes de vacances'!$E$7) | L25: =IF($I25="","",'Demandes de vacances'!$F$7) | M25: =IF($I25="","",'Demandes de vacances'!$G$7) | N25: =IF($I25="","",'Demandes de vacances'!$H$7) | O25: =IF($I25="","",'Demandes de vacances'!$M$7)
A26: =IF('Employés'!$A$17="","",'Employés'!$A$17) | B26: =IF($A26="","",'Employés'!$B$17) | C26: =IF($A26="","",'Employés'!$C$17) | D26: =IF($A26="","",'Employés'!$F$17) | E26: =IF($A26="","",'Employés'!$G$17) | F26: =IF($A26="","",'Employés'!$H$17) | G26: =IF($A26="","",IF($F26<0,"Solde négatif",IF($F26=0,"Banque épuisée","Disponible"))) | I26: =IF('Demandes de vacances'!$I$10="En attente",'Demandes de vacances'!$A$10,"") | J26: =IF($I26="","",'Demandes de vacances'!$C$10) | K26: =IF($I26="","",'Demandes de vacances'!$E$10) | L26: =IF($I26="","",'Demandes de vacances'!$F$10) | M26: =IF($I26="","",'Demandes de vacances'!$G$10) | N26: =IF($I26="","",'Demandes de vacances'!$H$10) | O26: =IF($I26="","",'Demandes de vacances'!$M$10)
A27: =IF('Employés'!$A$18="","",'Employés'!$A$18) | B27: =IF($A27="","",'Employés'!$B$18) | C27: =IF($A27="","",'Employés'!$C$18) | D27: =IF($A27="","",'Employés'!$F$18) | E27: =IF($A27="","",'Employés'!$G$18) | F27: =IF($A27="","",'Employés'!$H$18) | G27: =IF($A27="","",IF($F27<0,"Solde négatif",IF($F27=0,"Banque épuisée","Disponible")))
A28: =IF('Employés'!$A$19="","",'Employés'!$A$19) | B28: =IF($A28="","",'Employés'!$B$19) | C28: =IF($A28="","",'Employés'!$C$19) | D28: =IF($A28="","",'Employés'!$F$19) | E28: =IF($A28="","",'Employés'!$G$19) | F28: =IF($A28="","",'Employés'!$H$19) | G28: =IF($A28="","",IF($F28<0,"Solde négatif",IF($F28=0,"Banque épuisée","Disponible"))) | I28: Pour consulter toutes les demandes ou filtrer les demandes ajoutées, utiliser les filtres de la feuille « Demandes de vacances ».
A29: =IF('Employés'!$A$20="","",'Employés'!$A$20) | B29: =IF($A29="","",'Employés'!$B$20) | C29: =IF($A29="","",'Employés'!$C$20) | D29: =IF($A29="","",'Employés'!$F$20) | E29: =IF($A29="","",'Employés'!$G$20) | F29: =IF($A29="","",'Employés'!$H$20) | G29: =IF($A29="","",IF($F29<0,"Solde négatif",IF($F29=0,"Banque épuisée","Disponible")))
A30: =IF('Employés'!$A$21="","",'Employés'!$A$21) | B30: =IF($A30="","",'Employés'!$B$21) | C30: =IF($A30="","",'Employés'!$C$21) | D30: =IF($A30="","",'Employés'!$F$21) | E30: =IF($A30="","",'Employés'!$G$21) | F30: =IF($A30="","",'Employés'!$H$21) | G30: =IF($A30="","",IF($F30<0,"Solde négatif",IF($F30=0,"Banque épuisée","Disponible")))
A31: =IF('Employés'!$A$22="","",'Employés'!$A$22) | B31: =IF($A31="","",'Employés'!$B$22) | C31: =IF($A31="","",'Employés'!$C$22) | D31: =IF($A31="","",'Employés'!$F$22) | E31: =IF($A31="","",'Employés'!$G$22) | F31: =IF($A31="","",'Employés'!$H$22) | G31: =IF($A31="","",IF($F31<0,"Solde négatif",IF($F31=0,"Banque épuisée","Disponible")))
A32: =IF('Employés'!$A$23="","",'Employés'!$A$23) | B32: =IF($A32="","",'Employés'!$B$23) | C32: =IF($A32="","",'Employés'!$C$23) | D32: =IF($A32="","",'Employés'!$F$23) | E32: =IF($A32="","",'Employés'!$G$23) | F32: =IF($A32="","",'Employés'!$H$23) | G32: =IF($A32="","",IF($F32<0,"Solde négatif",IF($F32=0,"Banque épuisée","Disponible")))
A33: =IF('Employés'!$A$24="","",'Employés'!$A$24) | B33: =IF($A33="","",'Employés'!$B$24) | C33: =IF($A33="","",'Employés'!$C$24) | D33: =IF($A33="","",'Employés'!$F$24) | E33: =IF($A33="","",'Employés'!$G$24) | F33: =IF($A33="","",'Employés'!$H$24) | G33: =IF($A33="","",IF($F33<0,"Solde négatif",IF($F33=0,"Banque épuisée","Disponible")))
A34: =IF('Employés'!$A$25="","",'Employés'!$A$25) | B34: =IF($A34="","",'Employés'!$B$25) | C34: =IF($A34="","",'Employés'!$C$25) | D34: =IF($A34="","",'Employés'!$F$25) | E34: =IF($A34="","",'Employés'!$G$25) | F34: =IF($A34="","",'Employés'!$H$25) | G34: =IF($A34="","",IF($F34<0,"Solde négatif",IF($F34=0,"Banque épuisée","Disponible")))
A35: =IF('Employés'!$A$26="","",'Employés'!$A$26) | B35: =IF($A35="","",'Employés'!$B$26) | C35: =IF($A35="","",'Employés'!$C$26) | D35: =IF($A35="","",'Employés'!$F$26) | E35: =IF($A35="","",'Employés'!$G$26) | F35: =IF($A35="","",'Employés'!$H$26) | G35: =IF($A35="","",IF($F35<0,"Solde négatif",IF($F35=0,"Banque épuisée","Disponible")))
A36: =IF('Employés'!$A$27="","",'Employés'!$A$27) | B36: =IF($A36="","",'Employés'!$B$27) | C36: =IF($A36="","",'Employés'!$C$27) | D36: =IF($A36="","",'Employés'!$F$27) | E36: =IF($A36="","",'Employés'!$G$27) | F36: =IF($A36="","",'Employés'!$H$27) | G36: =IF($A36="","",IF($F36<0,"Solde négatif",IF($F36=0,"Banque épuisée","Disponible")))
A37: =IF('Employés'!$A$28="","",'Employés'!$A$28) | B37: =IF($A37="","",'Employés'!$B$28) | C37: =IF($A37="","",'Employés'!$C$28) | D37: =IF($A37="","",'Employés'!$F$28) | E37: =IF($A37="","",'Employés'!$G$28) | F37: =IF($A37="","",'Employés'!$H$28) | G37: =IF($A37="","",IF($F37<0,"Solde négatif",IF($F37=0,"Banque épuisée","Disponible")))
A38: =IF('Employés'!$A$29="","",'Employés'!$A$29) | B38: =IF($A38="","",'Employés'!$B$29) | C38: =IF($A38="","",'Employés'!$C$29) | D38: =IF($A38="","",'Employés'!$F$29) | E38: =IF($A38="","",'Employés'!$G$29) | F38: =IF($A38="","",'Employés'!$H$29) | G38: =IF($A38="","",IF($F38<0,"Solde négatif",IF($F38=0,"Banque épuisée","Disponible")))
A39: =IF('Employés'!$A$30="","",'Employés'!$A$30) | B39: =IF($A39="","",'Employés'!$B$30) | C39: =IF($A39="","",'Employés'!$C$30) | D39: =IF($A39="","",'Employés'!$F$30) | E39: =IF($A39="","",'Employés'!$G$30) | F39: =IF($A39="","",'Employés'!$H$30) | G39: =IF($A39="","",IF($F39<0,"Solde négatif",IF($F39=0,"Banque épuisée","Disponible")))
A40: =IF('Employés'!$A$31="","",'Employés'!$A$31) | B40: =IF($A40="","",'Employés'!$B$31) | C40: =IF($A40="","",'Employés'!$C$31) | D40: =IF($A40="","",'Employés'!$F$31) | E40: =IF($A40="","",'Employés'!$G$31) | F40: =IF($A40="","",'Employés'!$H$31) | G40: =IF($A40="","",IF($F40<0,"Solde négatif",IF($F40=0,"Banque épuisée","Disponible")))
A41: =IF('Employés'!$A$32="","",'Employés'!$A$32) | B41: =IF($A41="","",'Employés'!$B$32) | C41: =IF($A41="","",'Employés'!$C$32) | D41: =IF($A41="","",'Employés'!$F$32) | E41: =IF($A41="","",'Employés'!$G$32) | F41: =IF($A41="","",'Employés'!$H$32) | G41: =IF($A41="","",IF($F41<0,"Solde négatif",IF($F41=0,"Banque épuisée","Disponible")))
A42: =IF('Employés'!$A$33="","",'Employés'!$A$33) | B42: =IF($A42="","",'Employés'!$B$33) | C42: =IF($A42="","",'Employés'!$C$33) | D42: =IF($A42="","",'Employés'!$F$33) | E42: =IF($A42="","",'Employés'!$G$33) | F42: =IF($A42="","",'Employés'!$H$33) | G42: =IF($A42="","",IF($F42<0,"Solde négatif",IF($F42=0,"Banque épuisée","Disponible")))
A43: =IF('Employés'!$A$34="","",'Employés'!$A$34) | B43: =IF($A43="","",'Employés'!$B$34) | C43: =IF($A43="","",'Employés'!$C$34) | D43: =IF($A43="","",'Employés'!$F$34) | E43: =IF($A43="","",'Employés'!$G$34) | F43: =IF($A43="","",'Employés'!$H$34) | G43: =IF($A43="","",IF($F43<0,"Solde négatif",IF($F43=0,"Banque épuisée","Disponible")))
A44: =IF('Employés'!$A$35="","",'Employés'!$A$35) | B44: =IF($A44="","",'Employés'!$B$35) | C44: =IF($A44="","",'Employés'!$C$35) | D44: =IF($A44="","",'Employés'!$F$35) | E44: =IF($A44="","",'Employés'!$G$35) | F44: =IF($A44="","",'Employés'!$H$35) | G44: =IF($A44="","",IF($F44<0,"Solde négatif",IF($F44=0,"Banque épuisée","Disponible")))
A45: =IF('Employés'!$A$36="","",'Employés'!$A$36) | B45: =IF($A45="","",'Employés'!$B$36) | C45: =IF($A45="","",'Employés'!$C$36) | D45: =IF($A45="","",'Employés'!$F$36) | E45: =IF($A45="","",'Employés'!$G$36) | F45: =IF($A45="","",'Employés'!$H$36) | G45: =IF($A45="","",IF($F45<0,"Solde négatif",IF($F45=0,"Banque épuisée","Disponible")))
A46: =IF('Employés'!$A$37="","",'Employés'!$A$37) | B46: =IF($A46="","",'Employés'!$B$37) | C46: =IF($A46="","",'Employés'!$C$37) | D46: =IF($A46="","",'Employés'!$F$37) | E46: =IF($A46="","",'Employés'!$G$37) | F46: =IF($A46="","",'Employés'!$H$37) | G46: =IF($A46="","",IF($F46<0,"Solde négatif",IF($F46=0,"Banque épuisée","Disponible")))
A47: =IF('Employés'!$A$38="","",'Employés'!$A$38) | B47: =IF($A47="","",'Employés'!$B$38) | C47: =IF($A47="","",'Employés'!$C$38) | D47: =IF($A47="","",'Employés'!$F$38) | E47: =IF($A47="","",'Employés'!$G$38) | F47: =IF($A47="","",'Employés'!$H$38) | G47: =IF($A47="","",IF($F47<0,"Solde négatif",IF($F47=0,"Banque épuisée","Disponible")))
...

Sheet Employés
A1: Registre des employés
A2: Saisir ou confirmer la banque annuelle de vacances attribuée à chaque employé. Les jours approuvés et le solde sont calculés automatiquement.
A4: No employé | B4: Prénom et nom | C4: Service | D4: Date d’embauche | E4: Statut d’emploi | F4: Banque annuelle (jours) | G4: Jours approuvés | H4: Solde disponible | I4: Alerte solde | J4: Commentaires
A5: EMP-001 | B5: Marie-Claude Tremblay | C5: Administration | D5: 46034 | E5: Actif | F5: 20 | G5: =IF($A5="","",IFERROR(SUMIFS('Demandes de vacances'!$J$5:$J$104,'Demandes de vacances'!$B$5:$B$104,$A5,'Demandes de vacances'!$I$5:$I$104,"Approuvée",'Demandes de vacances'!$E$5:$E$104,"Vacances"),0)) | H5: =IF($A5="","",IFERROR($F5-$G5,0)) | I5: =IF($A5="","",IF($H5<0,"Solde négatif","")) | J5: Adjointe administrative
A6: EMP-002 | B6: Jean-François Gagnon | C6: Opérations | D6: 46055 | E6: Actif | F6: 15 | G6: =IF($A6="","",IFERROR(SUMIFS('Demandes de vacances'!$J$5:$J$104,'Demandes de vacances'!$B$5:$B$104,$A6,'Demandes de vacances'!$I$5:$I$104,"Approuvée",'Demandes de vacances'!$E$5:$E$104,"Vacances"),0)) | H6: =IF($A6="","",IFERROR($F6-$G6,0)) | I6: =IF($A6="","",IF($H6<0,"Solde négatif","")) | J6: Technicien terrain
A7: EMP-003 | B7: Amélie Bouchard | C7: Ventes | D7: 46031 | E7: Actif | F7: 15 | G7: =IF($A7="","",IFERROR(SUMIFS('Demandes de vacances'!$J$5:$J$104,'Demandes de vacances'!$B$5:$B$104,$A7,'Demandes de vacances'!$I$5:$I$104,"Approuvée",'Demandes de vacances'!$E$5:$E$104,"Vacances"),0)) | H7: =IF($A7="","",IFERROR($F7-$G7,0)) | I7: =IF($A7="","",IF($H7<0,"Solde négatif","")) | J7: Représentante
A8: EMP-004 | B8: Samuel Roy | C8: Comptabilité | D8: 46097 | E8: Actif | F8: 20 | G8: =IF($A8="","",IFERROR(SUMIFS('Demandes de vacances'!$J$5:$J$104,'Demandes de vacances'!$B$5:$B$104,$A8,'Demandes de vacances'!$I$5:$I$104,"Approuvée",'Demandes de vacances'!$E$5:$E$104,"Vacances"),0)) | H8: =IF($A8="","",IFERROR($F8-$G8,0)) | I8: =IF($A8="","",IF($H8<0,"Solde négatif","")) | J8: Technicien comptable
A9: EMP-005 | B9: Karine Lavoie | C9: Service à la clientèle | D9: 46148 | E9: Actif | F9: 10 | G9: =IF($A9="","",IFERROR(SUMIFS('Demandes de vacances'!$J$5:$J$104,'Demandes de vacances'!$B$5:$B$104,$A9,'Demandes de vacances'!$I$5:$I$104,"Approuvée",'Demandes de vacances'!$E$5:$E$104,"Vacances"),0)) | H9: =IF($A9="","",IFERROR($F9-$G9,0)) | I9: =IF($A9="","",IF($H9<0,"Solde négatif","")) | J9: Horaire à temps partiel
A10: EMP-006 | B10: Philippe Martel | C10: Direction | D10: 46027 | E10: Actif | F10: 25 | G10: =IF($A10="","",IFERROR(SUMIFS('Demandes de vacances'!$J$5:$J$104,'Demandes de vacances'!$B$5:$B$104,$A10,'Demandes de vacances'!$I$5:$I$104,"Approuvée",'Demandes de vacances'!$E$5:$E$104,"Vacances"),0)) | H10: =IF($A10="","",IFERROR($F10-$G10,0)) | I10: =IF($A10="","",IF($H10<0,"Solde négatif","")) | J10: Directeur général
G11: =IF($A11="","",IFERROR(SUMIFS('Demandes de vacances'!$J$5:$J$104,'Demandes de vacances'!$B$5:$B$104,$A11,'Demandes de vacances'!$I$5:$I$104,"Approuvée",'Demandes de vacances'!$E$5:$E$104,"Vacances"),0)) | H11: =IF($A11="","",IFERROR($F11-$G11,0)) | I11: =IF($A11="","",IF($H11<0,"Solde négatif",""))
G12: =IF($A12="","",IFERROR(SUMIFS('Demandes de vacances'!$J$5:$J$104,'Demandes de vacances'!$B$5:$B$104,$A12,'Demandes de vacances'!$I$5:$I$104,"Approuvée",'Demandes de vacances'!$E$5:$E$104,"Vacances"),0)) | H12: =IF($A12="","",IFERROR($F12-$G12,0)) | I12: =IF($A12="","",IF($H12<0,"Solde négatif",""))
G13: =IF($A13="","",IFERROR(SUMIFS('Demandes de vacances'!$J$5:$J$104,'Demandes de vacances'!$B$5:$B$104,$A13,'Demandes de vacances'!$I$5:$I$104,"Approuvée",'Demandes de vacances'!$E$5:$E$104,"Vacances"),0)) | H13: =IF($A13="","",IFERROR($F13-$G13,0)) | I13: =IF($A13="","",IF($H13<0,"Solde négatif",""))
G14: =IF($A14="","",IFERROR(SUMIFS('Demandes de vacances'!$J$5:$J$104,'Demandes de vacances'!$B$5:$B$104,$A14,'Demandes de vacances'!$I$5:$I$104,"Approuvée",'Demandes de vacances'!$E$5:$E$104,"Vacances"),0)) | H14: =IF($A14="","",IFERROR($F14-$G14,0)) | I14: =IF($A14="","",IF($H14<0,"Solde négatif",""))
G15: =IF($A15="","",IFERROR(SUMIFS('Demandes de vacances'!$J$5:$J$104,'Demandes de vacances'!$B$5:$B$104,$A15,'Demandes de vacances'!$I$5:$I$104,"Approuvée",'Demandes de vacances'!$E$5:$E$104,"Vacances"),0)) | H15: =IF($A15="","",IFERROR($F15-$G15,0)) | I15: =IF($A15="","",IF($H15<0,"Solde négatif",""))
G16: =IF($A16="","",IFERROR(SUMIFS('Demandes de vacances'!$J$5:$J$104,'Demandes de vacances'!$B$5:$B$104,$A16,'Demandes de vacances'!$I$5:$I$104,"Approuvée",'Demandes de vacances'!$E$5:$E$104,"Vacances"),0)) | H16: =IF($A16="","",IFERROR($F16-$G16,0)) | I16: =IF($A16="","",IF($H16<0,"Solde négatif",""))
G17: =IF($A17="","",IFERROR(SUMIFS('Demandes de vacances'!$J$5:$J$104,'Demandes de vacances'!$B$5:$B$104,$A17,'Demandes de vacances'!$I$5:$I$104,"Approuvée",'Demandes de vacances'!$E$5:$E$104,"Vacances"),0)) | H17: =IF($A17="","",IFERROR($F17-$G17,0)) | I17: =IF($A17="","",IF($H17<0,"Solde négatif",""))
G18: =IF($A18="","",IFERROR(SUMIFS('Demandes de vacances'!$J$5:$J$104,'Demandes de vacances'!$B$5:$B$104,$A18,'Demandes de vacances'!$I$5:$I$104,"Approuvée",'Demandes de vacances'!$E$5:$E$104,"Vacances"),0)) | H18: =IF($A18="","",IFERROR($F18-$G18,0)) | I18: =IF($A18="","",IF($H18<0,"Solde négatif",""))
G19: =IF($A19="","",IFERROR(SUMIFS('Demandes de vacances'!$J$5:$J$104,'Demandes de vacances'!$B$5:$B$104,$A19,'Demandes de vacances'!$I$5:$I$104,"Approuvée",'Demandes de vacances'!$E$5:$E$104,"Vacances"),0)) | H19: =IF($A19="","",IFERROR($F19-$G19,0)) | I19: =IF($A19="","",IF($H19<0,"Solde négatif",""))
G20: =IF($A20="","",IFERROR(SUMIFS('Demandes de vacances'!$J$5:$J$104,'Demandes de vacances'!$B$5:$B$104,$A20,'Demandes de vacances'!$I$5:$I$104,"Approuvée",'Demandes de vacances'!$E$5:$E$104,"Vacances"),0)) | H20: =IF($A20="","",IFERROR($F20-$G20,0)) | I20: =IF($A20="","",IF($H20<0,"Solde négatif",""))
G21: =IF($A21="","",IFERROR(SUMIFS('Demandes de vacances'!$J$5:$J$104,'Demandes de vacances'!$B$5:$B$104,$A21,'Demandes de vacances'!$I$5:$I$104,"Approuvée",'Demandes de vacances'!$E$5:$E$104,"Vacances"),0)) | H21: =IF($A21="","",IFERROR($F21-$G21,0)) | I21: =IF($A21="","",IF($H21<0,"Solde négatif",""))
G22: =IF($A22="","",IFERROR(SUMIFS('Demandes de vacances'!$J$5:$J$104,'Demandes de vacances'!$B$5:$B$104,$A22,'Demandes de vacances'!$I$5:$I$104,"Approuvée",'Demandes de vacances'!$E$5:$E$104,"Vacances"),0)) | H22: =IF($A22="","",IFERROR($F22-$G22,0)) | I22: =IF($A22="","",IF($H22<0,"Solde négatif",""))
... G104: =IF($A104="","",IFERROR(SUMIFS('Demandes de vacances'!$J$5:$J$104,'Demandes de vacances'!$B$5:$B$104,$A104,'Demandes de vacances'!$I$5:$I$104,"Approuvée",'Demandes de vacances'!$E$5:$E$104,"Vacances"),0)) | H104: =IF($A104="","",IFERROR($F104-$G104,0)) | I104: =IF($A104="","",IF($H104<0,"Solde négatif",""))

Sheet Demandes de vacances
A1: Registre des demandes de vacances
A2: Saisir une demande par ligne. Seules les demandes de type Vacances dont le statut est Approuvée réduisent la banque annuelle de l’employé.
A4: No demande | B4: No employé | C4: Nom de l’employé | D4: Service | E4: Type d’absence | F4: Date de début | G4: Date de fin | H4: Jours ouvrables demandés | I4: Statut | J4: Jours déduits | K4: Approuvé par | L4: Date d’approbation | M4: Commentaires
A5: VAC-2026-001 | B5: EMP-001 | C5: =IF($B5="","",IFERROR(VLOOKUP($B5,'Employés'!$A$5:$J$104,2,FALSE),"")) | D5: =IF($B5="","",IFERROR(VLOOKUP($B5,'Employés'!$A$5:$J$104,3,FALSE),"")) | E5: Vacances | F5: 46209 | G5: 46213 | H5: =IF($A5="","",IF(OR($F5="",$G5=""),"",IFERROR(NETWORKDAYS.INTL($F5,$G5,'Paramètres'!$B$6,'Paramètres'!$K$4:$K$103),0))) | I5: Approuvée | J5: =IF($A5="","",IF(AND($E5="Vacances",$I5="Approuvée"),$H5,0)) | K5: Philippe Martel | L5: 46157 | M5: Vacances d’été
A6: VAC-2026-002 | B6: EMP-002 | C6: =IF($B6="","",IFERROR(VLOOKUP($B6,'Employés'!$A$5:$J$104,2,FALSE),"")) | D6: =IF($B6="","",IFERROR(VLOOKUP($B6,'Employés'!$A$5:$J$104,3,FALSE),"")) | E6: Vacances | F6: 46196 | G6: 46197 | H6: =IF($A6="","",IF(OR($F6="",$G6=""),"",IFERROR(NETWORKDAYS.INTL($F6,$G6,'Paramètres'!$B$6,'Paramètres'!$K$4:$K$103),0))) | I6: Approuvée | J6: =IF($A6="","",IF(AND($E6="Vacances",$I6="Approuvée"),$H6,0)) | K6: Philippe Martel | L6: 46144 | M6: La Fête nationale est exclue du calcul
A7: VAC-2026-003 | B7: EMP-003 | C7: =IF($B7="","",IFERROR(VLOOKUP($B7,'Employés'!$A$5:$J$104,2,FALSE),"")) | D7: =IF($B7="","",IFERROR(VLOOKUP($B7,'Employés'!$A$5:$J$104,3,FALSE),"")) | E7: Vacances | F7: 46223 | G7: 46227 | H7: =IF($A7="","",IF(OR($F7="",$G7=""),"",IFERROR(NETWORKDAYS.INTL($F7,$G7,'Paramètres'!$B$6,'Paramètres'!$K$4:$K$103),0))) | I7: En attente | J7: =IF($A7="","",IF(AND($E7="Vacances",$I7="Approuvée"),$H7,0)) | K7: Philippe Martel | M7: À confirmer selon la couverture des ventes
A8: VAC-2026-004 | B8: EMP-004 | C8: =IF($B8="","",IFERROR(VLOOKUP($B8,'Employés'!$A$5:$J$104,2,FALSE),"")) | D8: =IF($B8="","",IFERROR(VLOOKUP($B8,'Employés'!$A$5:$J$104,3,FALSE),"")) | E8: Vacances | F8: 46237 | G8: 46241 | H8: =IF($A8="","",IF(OR($F8="",$G8=""),"",IFERROR(NETWORKDAYS.INTL($F8,$G8,'Paramètres'!$B$6,'Paramètres'!$K$4:$K$103),0))) | I8: Approuvée | J8: =IF($A8="","",IF(AND($E8="Vacances",$I8="Approuvée"),$H8,0)) | K8: Philippe Martel | L8: 46176 | M8: Vacances familiales
A9: VAC-2026-005 | B9: EMP-005 | C9: =IF($B9="","",IFERROR(VLOOKUP($B9,'Employés'!$A$5:$J$104,2,FALSE),"")) | D9: =IF($B9="","",IFERROR(VLOOKUP($B9,'Employés'!$A$5:$J$104,3,FALSE),"")) | E9: Vacances | F9: 46204 | G9: 46209 | H9: =IF($A9="","",IF(OR($F9="",$G9=""),"",IFERROR(NETWORKDAYS.INTL($F9,$G9,'Paramètres'!$B$6,'Paramètres'!$K$4:$K$103),0))) | I9: Approuvée | J9: =IF($A9="","",IF(AND($E9="Vacances",$I9="Approuvée"),$H9,0)) | K9: Marie-Claude Tremblay | L9: 46162 | M9: Le 1er juillet est exclu du calcul
A10: VAC-2026-006 | B10: EMP-006 | C10: =IF($B10="","",IFERROR(VLOOKUP($B10,'Employés'!$A$5:$J$104,2,FALSE),"")) | D10: =IF($B10="","",IFERROR(VLOOKUP($B10,'Employés'!$A$5:$J$104,3,FALSE),"")) | E10: Vacances | F10: 46377 | G10: 46387 | H10: =IF($A10="","",IF(OR($F10="",$G10=""),"",IFERROR(NETWORKDAYS.INTL($F10,$G10,'Paramètres'!$B$6,'Paramètres'!$K$4:$K$103),0))) | I10: En attente | J10: =IF($A10="","",IF(AND($E10="Vacances",$I10="Approuvée"),$H10,0)) | M10: Fermeture des Fêtes à confirmer
A11: VAC-2026-007 | B11: EMP-001 | C11: =IF($B11="","",IFERROR(VLOOKUP($B11,'Employés'!$A$5:$J$104,2,FALSE),"")) | D11: =IF($B11="","",IFERROR(VLOOKUP($B11,'Employés'!$A$5:$J$104,3,FALSE),"")) | E11: Congé personnel | F11: 46269 | G11: 46269 | H11: =IF($A11="","",IF(OR($F11="",$G11=""),"",IFERROR(NETWORKDAYS.INTL($F11,$G11,'Paramètres'!$B$6,'Paramètres'!$K$4:$K$103),0))) | I11: Approuvée | J11: =IF($A11="","",IF(AND($E11="Vacances",$I11="Approuvée"),$H11,0)) | K11: Philippe Martel | L11: 46252 | M11: Ne doit pas réduire la banque de vacances
A12: VAC-2026-008 | B12: EMP-002 | C12: =IF($B12="","",IFERROR(VLOOKUP($B12,'Employés'!$A$5:$J$104,2,FALSE),"")) | D12: =IF($B12="","",IFERROR(VLOOKUP($B12,'Employés'!$A$5:$J$104,3,FALSE),"")) | E12: Vacances | F12: 46309 | G12: 46312 | H12: =IF($A12="","",IF(OR($F12="",$G12=""),"",IFERROR(NETWORKDAYS.INTL($F12,$G12,'Paramètres'!$B$6,'Paramètres'!$K$4:$K$103),0))) | I12: Refusée | J12: =IF($A12="","",IF(AND($E12="Vacances",$I12="Approuvée"),$H12,0)) | K12: Philippe Martel | L12: 46275 | M12: Période de forte activité
A13: VAC-2026-009 | B13: EMP-003 | C13: =IF($B13="","",IFERROR(VLOOKUP($B13,'Employés'!$A$5:$J$104,2,FALSE),"")) | D13: =IF($B13="","",IFERROR(VLOOKUP($B13,'Employés'!$A$5:$J$104,3,FALSE),"")) | E13: Vacances | F13: 46384 | G13: 46386 | H13: =IF($A13="","",IF(OR($F13="",$G13=""),"",IFERROR(NETWORKDAYS.INTL($F13,$G13,'Paramètres'!$B$6,'Paramètres'!$K$4:$K$103),0))) | I13: Annulée | J13: =IF($A13="","",IF(AND($E13="Vacances",$I13="Approuvée"),$H13,0)) | K13: Philippe Martel | L13: 46351 | M13: Demande annulée par l’employée
C14: =IF($B14="","",IFERROR(VLOOKUP($B14,'Employés'!$A$5:$J$104,2,FALSE),"")) | D14: =IF($B14="","",IFERROR(VLOOKUP($B14,'Employés'!$A$5:$J$104,3,FALSE),"")) | H14: =IF($A14="","",IF(OR($F14="",$G14=""),"",IFERROR(NETWORKDAYS.INTL($F14,$G14,'Paramètres'!$B$6,'Paramètres'!$K$4:$K$103),0))) | J14: =IF($A14="","",IF(AND($E14="Vacances",$I14="Approuvée"),$H14,0))
C15: =IF($B15="","",IFERROR(VLOOKUP($B15,'Employés'!$A$5:$J$104,2,FALSE),"")) | D15: =IF($B15="","",IFERROR(VLOOKUP($B15,'Employés'!$A$5:$J$104,3,FALSE),"")) | H15: =IF($A15="","",IF(OR($F15="",$G15=""),"",IFERROR(NETWORKDAYS.INTL($F15,$G15,'Paramètres'!$B$6,'Paramètres'!$K$4:$K$103),0))) | J15: =IF($A15="","",IF(AND($E15="Vacances",$I15="Approuvée"),$H15,0))
C16: =IF($B16="","",IFERROR(VLOOKUP($B16,'Employés'!$A$5:$J$104,2,FALSE),"")) | D16: =IF($B16="","",IFERROR(VLOOKUP($B16,'Employés'!$A$5:$J$104,3,FALSE),"")) | H16: =IF($A16="","",IF(OR($F16="",$G16=""),"",IFERROR(NETWORKDAYS.INTL($F16,$G16,'Paramètres'!$B$6,'Paramètres'!$K$4:$K$103),0))) | J16: =IF($A16="","",IF(AND($E16="Vacances",$I16="Approuvée"),$H16,0))
C17: =IF($B17="","",IFERROR(VLOOKUP($B17,'Employés'!$A$5:$J$104,2,FALSE),"")) | D17: =IF($B17="","",IFERROR(VLOOKUP($B17,'Employés'!$A$5:$J$104,3,FALSE),"")) | H17: =IF($A17="","",IF(OR($F17="",$G17=""),"",IFERROR(NETWORKDAYS.INTL($F17,$G17,'Paramètres'!$B$6,'Paramètres'!$K$4:$K$103),0))) | J17: =IF($A17="","",IF(AND($E17="Vacances",$I17="Approuvée"),$H17,0))
C18: =IF($B18="","",IFERROR(VLOOKUP($B18,'Employés'!$A$5:$J$104,2,FALSE),"")) | D18: =IF($B18="","",IFERROR(VLOOKUP($B18,'Employés'!$A$5:$J$104,3,FALSE),"")) | H18: =IF($A18="","",IF(OR($F18="",$G18=""),"",IFERROR(NETWORKDAYS.INTL($F18,$G18,'Paramètres'!$B$6,'Paramètres'!$K$4:$K$103),0))) | J18: =IF($A18="","",IF(AND($E18="Vacances",$I18="Approuvée"),$H18,0))
C19: =IF($B19="","",IFERROR(VLOOKUP($B19,'Employés'!$A$5:$J$104,2,FALSE),"")) | D19: =IF($B19="","",IFERROR(VLOOKUP($B19,'Employés'!$A$5:$J$104,3,FALSE),"")) | H19: =IF($A19="","",IF(OR($F19="",$G19=""),"",IFERROR(NETWORKDAYS.INTL($F19,$G19,'Paramètres'!$B$6,'Paramètres'!$K$4:$K$103),0))) | J19: =IF($A19="","",IF(AND($E19="Vacances",$I19="Approuvée"),$H19,0))
C20: =IF($B20="","",IFERROR(VLOOKUP($B20,'Employés'!$A$5:$J$104,2,FALSE),"")) | D20: =IF($B20="","",IFERROR(VLOOKUP($B20,'Employés'!$A$5:$J$104,3,FALSE),"")) | H20: =IF($A20="","",IF(OR($F20="",$G20=""),"",IFERROR(NETWORKDAYS.INTL($F20,$G20,'Paramètres'!$B$6,'Paramètres'!$K$4:$K$103),0))) | J20: =IF($A20="","",IF(AND($E20="Vacances",$I20="Approuvée"),$H20,0))
C21: =IF($B21="","",IFERROR(VLOOKUP($B21,'Employés'!$A$5:$J$104,2,FALSE),"")) | D21: =IF($B21="","",IFERROR(VLOOKUP($B21,'Employés'!$A$5:$J$104,3,FALSE),"")) | H21: =IF($A21="","",IF(OR($F21="",$G21=""),"",IFERROR(NETWORKDAYS.INTL($F21,$G21,'Paramètres'!$B$6,'Paramètres'!$K$4:$K$103),0))) | J21: =IF($A21="","",IF(AND($E21="Vacances",$I21="Approuvée"),$H21,0))
C22: =IF($B22="","",IFERROR(VLOOKUP($B22,'Employés'!$A$5:$J$104,2,FALSE),"")) | D22: =IF($B22="","",IFERROR(VLOOKUP($B22,'Employés'!$A$5:$J$104,3,FALSE),"")) | H22: =IF($A22="","",IF(OR($F22="",$G22=""),"",IFERROR(NETWORKDAYS.INTL($F22,$G22,'Paramètres'!$B$6,'Paramètres'!$K$4:$K$103),0))) | J22: =IF($A22="","",IF(AND($E22="Vacances",$I22="Approuvée"),$H22,0))
C23: =IF($B23="","",IFERROR(VLOOKUP($B23,'Employés'!$A$5:$J$104,2,FALSE),"")) | D23: =IF($B23="","",IFERROR(VLOOKUP($B23,'Employés'!$A$5:$J$104,3,FALSE),"")) | H23: =IF($A23="","",IF(OR($F23="",$G23=""),"",IFERROR(NETWORKDAYS.INTL($F23,$G23,'Paramètres'!$B$6,'Paramètres'!$K$4:$K$103),0))) | J23: =IF($A23="","",IF(AND($E23="Vacances",$I23="Approuvée"),$H23,0))
C24: =IF($B24="","",IFERROR(VLOOKUP($B24,'Employés'!$A$5:$J$104,2,FALSE),"")) | D24: =IF($B24="","",IFERROR(VLOOKUP($B24,'Employés'!$A$5:$J$104,3,FALSE),"")) | H24: =IF($A24="","",IF(OR($F24="",$G24=""),"",IFERROR(NETWORKDAYS.INTL($F24,$G24,'Paramètres'!$B$6,'Paramètres'!$K$4:$K$103),0))) | J24: =IF($A24="","",IF(AND($E24="Vacances",$I24="Approuvée"),$H24,0))
C25: =IF($B25="","",IFERROR(VLOOKUP($B25,'Employés'!$A$5:$J$104,2,FALSE),"")) | D25: =IF($B25="","",IFERROR(VLOOKUP($B25,'Employés'!$A$5:$J$104,3,FALSE),"")) | H25: =IF($A25="","",IF(OR($F25="",$G25=""),"",IFERROR(NETWORKDAYS.INTL($F25,$G25,'Paramètres'!$B$6,'Paramètres'!$K$4:$K$103),0))) | J25: =IF($A25="","",IF(AND($E25="Vacances",$I25="Approuvée"),$H25,0))
... C104: =IF($B104="","",IFERROR(VLOOKUP($B104,'Employés'!$A$5:$J$104,2,FALSE),"")) | D104: =IF($B104="","",IFERROR(VLOOKUP($B104,'Employés'!$A$5:$J$104,3,FALSE),"")) | H104: =IF($A104="","",IF(OR($F104="",$G104=""),"",IFERROR(NETWORKDAYS.INTL($F104,$G104,'Paramètres'!$B$6,'Paramètres'!$K$4:$K$103),0))) | J104: =IF($A104="","",IF(AND($E104="Vacances",$I104="Approuvée"),$H104,0))

Sheet Paramètres
A1: Paramètres de suivi des vacances
A2: Les banques de vacances doivent être établies par l’employeur selon les politiques internes, les contrats de travail et les obligations applicables au Québec. Ce classeur ne remplace pas une validation en paie, auprès de la CNESST, de Revenu Québec ou de l’ARC.
A3: Année de suivi | B3: 2026 | C3: Année administrative de référence | E3: Statut | G3: Type d’absence | I3: Service | K3: Date fériée ou fermeture | L3: Description
A4: Date de référence du tableau de bord | B4: 46203 | C4: Date utilisée pour le suivi administratif | E4: En attente | G4: Vacances | I4: Administration | K4: 46023 | L4: Jour de l’An
A5: Jours ouvrables par semaine | B5: 5 | C5: Paramètre informatif de l’employeur | E5: Approuvée | G5: Congé personnel | I5: Direction | K5: 46115 | L5: Vendredi saint
A6: Code de fin de semaine Excel | B6: 1 | C6: Code 1 : samedi et dimanche | E6: Refusée | G6: Congé sans solde | I6: Opérations | K6: 46160 | L6: Journée nationale des patriotes
A7: Unité de suivi | B7: Jours | C7: Suivi administratif en jours ouvrables | E7: Annulée | G7: Autre absence | I7: Ventes | K7: 46197 | L7: Fête nationale du Québec
I8: Comptabilité | K8: 46204 | L8: Fête du Canada
I9: Service à la clientèle | K9: 46272 | L9: Fête du Travail
K10: 46307 | L10: Action de grâce
I11: Statut d’emploi | K11: 46381 | L11: Noël
I12: Actif | K12: 46382 | L12: Lendemain de Noël
I13: En congé
I14: Terminé
