Workbook

Sheet Tableau de bord
A1: Suivi des frais de déplacement employés
A2: Tableau de bord des réclamations de déplacement | H2: =TODAY()
A4: Période d’analyse
A5: Date de début | B5: 46023
A6: Date de fin | B6: 46387
A8: Montant total réclamé | C8: Montant approuvé | E8: Montant à approuver | G8: Kilométrage total
A9: =SUMIFS('Déplacements'!$N$5:$N$104,'Déplacements'!$B$5:$B$104,">="&$B$5,'Déplacements'!$B$5:$B$104,"<="&$B$6) | C9: =SUMIFS('Déplacements'!$N$5:$N$104,'Déplacements'!$P$5:$P$104,"Approuvé") | E9: =SUMIFS('Déplacements'!$N$5:$N$104,'Déplacements'!$P$5:$P$104,"Soumis") | G9: =SUM('Déplacements'!$H$5:$H$104)
A14: Reçus manquants | C14: Réclamations refusées | E14: Montant remboursé | G14: Contrôle de période
A15: =COUNTIFS('Déplacements'!$O$5:$O$104,"Non",'Déplacements'!$E$5:$E$104,"<>Kilométrage") | C15: =COUNTIF('Déplacements'!$P$5:$P$104,"Refusé") | E15: =SUMIFS('Déplacements'!$N$5:$N$104,'Déplacements'!$P$5:$P$104,"Remboursé") | G15: =IF($B$5<=$B$6,"Période valide","Vérifier les dates")
A21: Catégorie | B21: Montant approuvé | C21: Nombre de réclamations approuvées
A22: Kilométrage | B22: =SUMIFS('Déplacements'!$N$5:$N$104,'Déplacements'!$E$5:$E$104,A22,'Déplacements'!$P$5:$P$104,"Approuvé") | C22: =COUNTIFS('Déplacements'!$E$5:$E$104,A22,'Déplacements'!$P$5:$P$104,"Approuvé")
A23: Stationnement | B23: =SUMIFS('Déplacements'!$N$5:$N$104,'Déplacements'!$E$5:$E$104,A23,'Déplacements'!$P$5:$P$104,"Approuvé") | C23: =COUNTIFS('Déplacements'!$E$5:$E$104,A23,'Déplacements'!$P$5:$P$104,"Approuvé")
A24: Péage | B24: =SUMIFS('Déplacements'!$N$5:$N$104,'Déplacements'!$E$5:$E$104,A24,'Déplacements'!$P$5:$P$104,"Approuvé") | C24: =COUNTIFS('Déplacements'!$E$5:$E$104,A24,'Déplacements'!$P$5:$P$104,"Approuvé")
A25: Repas | B25: =SUMIFS('Déplacements'!$N$5:$N$104,'Déplacements'!$E$5:$E$104,A25,'Déplacements'!$P$5:$P$104,"Approuvé") | C25: =COUNTIFS('Déplacements'!$E$5:$E$104,A25,'Déplacements'!$P$5:$P$104,"Approuvé")
A26: Hébergement | B26: =SUMIFS('Déplacements'!$N$5:$N$104,'Déplacements'!$E$5:$E$104,A26,'Déplacements'!$P$5:$P$104,"Approuvé") | C26: =COUNTIFS('Déplacements'!$E$5:$E$104,A26,'Déplacements'!$P$5:$P$104,"Approuvé")
A27: Autre | B27: =SUMIFS('Déplacements'!$N$5:$N$104,'Déplacements'!$E$5:$E$104,A27,'Déplacements'!$P$5:$P$104,"Approuvé") | C27: =COUNTIFS('Déplacements'!$E$5:$E$104,A27,'Déplacements'!$P$5:$P$104,"Approuvé")
B28: ="" | C28: =""
B29: ="" | C29: =""
B30: ="" | C30: =""
B31: ="" | C31: =""
B32: ="" | C32: =""
B33: ="" | C33: =""
B34: ="" | C34: =""
B35: ="" | C35: =""
B36: ="" | C36: =""
B37: ="" | C37: =""
B38: ="" | C38: =""
B39: ="" | C39: =""
A40: Les montants, taux de kilométrage et taux de taxes sont configurables dans la feuille Paramètres. Les montants de remboursement doivent être validés selon la politique interne de l’entreprise avant le traitement de la paie ou le remboursement. | B40: ="" | C40: =""
B41: ="" | C41: =""
B42: ="" | C42: =""
B43: ="" | C43: =""
B44: ="" | C44: =""
B45: ="" | C45: =""
B46: ="" | C46: =""
B47: ="" | C47: =""
B48: ="" | C48: =""
B49: ="" | C49: =""
B50: ="" | C50: =""
B51: ="" | C51: =""
...

Sheet Déplacements
A1: Registre des frais de déplacement
A2: Saisir une ligne par dépense ou déplacement. Les cellules jaunes sont à remplir. Les cellules grises sont calculées automatiquement.
A4: No réclamation | B4: Date | C4: Employé | D4: Projet ou client | E4: Catégorie | F4: Description ou trajet | G4: Ville ou destination | H4: Distance (km) | I4: Taux km applicable | J4: Montant avant taxes | K4: Traitement taxes | L4: TPS estimée | M4: TVQ estimée | N4: Montant remboursable | O4: Reçu joint | P4: Statut | Q4: Approuvé par | R4: Date d’approbation | S4: Mois | T4: Contrôle
A5: FD-2026-001 | B5: 46028 | C5: Marie-Claude Tremblay | D5: Client Nordik inc. | E5: Kilométrage | F5: Bureau Montréal vers Laval | G5: Laval | H5: 42 | I5: =IF(A5="","",IF(E5="Kilométrage",IFERROR(IF(VLOOKUP(C5,'Employés'!$B$5:$E$104,4,FALSE)="",'Paramètres'!$B$7,VLOOKUP(C5,'Employés'!$B$5:$E$104,4,FALSE)),0),0)) | J5: 0 | K5: Non applicable | L5: =IF(A5="","",IF(E5="Kilométrage",0,IFERROR(J5*IF(OR(K5="Taxable TPS et TVQ",K5="TPS seulement"),'Paramètres'!$B$5,0),0))) | M5: =IF(A5="","",IF(E5="Kilométrage",0,IFERROR(J5*IF(OR(K5="Taxable TPS et TVQ",K5="TVQ seulement"),'Paramètres'!$B$6,0),0))) | N5: =IF(A5="","",IF(E5="Kilométrage",IFERROR(H5*I5,0),IFERROR(J5+L5+M5,0))) | O5: Non | P5: Remboursé | Q5: Sophie Gagnon | R5: 46030 | S5: =IF(B5="","",YEAR(B5)&"-"&RIGHT("0"&MONTH(B5),2)) | T5: =IF(A5="","",IF(AND(E5="Kilométrage",H5<=0),"Vérifier la distance",IF(AND(E5<>"Kilométrage",J5<=0),"Vérifier le montant",IF(AND(E5<>"Kilométrage",O5="Non"),"Reçu manquant",IF(AND(P5="Approuvé",Q5=""),"Approbateur requis",IF(AND(P5="Approuvé",R5=""),"Date d’approbation requise","OK"))))))
A6: FD-2026-002 | B6: 46028 | C6: Marie-Claude Tremblay | D6: Client Nordik inc. | E6: Stationnement | F6: Stationnement client | G6: Laval | H6: 0 | I6: =IF(A6="","",IF(E6="Kilométrage",IFERROR(IF(VLOOKUP(C6,'Employés'!$B$5:$E$104,4,FALSE)="",'Paramètres'!$B$7,VLOOKUP(C6,'Employés'!$B$5:$E$104,4,FALSE)),0),0)) | J6: 18 | K6: Taxable TPS et TVQ | L6: =IF(A6="","",IF(E6="Kilométrage",0,IFERROR(J6*IF(OR(K6="Taxable TPS et TVQ",K6="TPS seulement"),'Paramètres'!$B$5,0),0))) | M6: =IF(A6="","",IF(E6="Kilométrage",0,IFERROR(J6*IF(OR(K6="Taxable TPS et TVQ",K6="TVQ seulement"),'Paramètres'!$B$6,0),0))) | N6: =IF(A6="","",IF(E6="Kilométrage",IFERROR(H6*I6,0),IFERROR(J6+L6+M6,0))) | O6: Oui | P6: Remboursé | Q6: Sophie Gagnon | R6: 46030 | S6: =IF(B6="","",YEAR(B6)&"-"&RIGHT("0"&MONTH(B6),2)) | T6: =IF(A6="","",IF(AND(E6="Kilométrage",H6<=0),"Vérifier la distance",IF(AND(E6<>"Kilométrage",J6<=0),"Vérifier le montant",IF(AND(E6<>"Kilométrage",O6="Non"),"Reçu manquant",IF(AND(P6="Approuvé",Q6=""),"Approbateur requis",IF(AND(P6="Approuvé",R6=""),"Date d’approbation requise","OK"))))))
A7: FD-2026-003 | B7: 46036 | C7: Alexandre Roy | D7: Projet Horizon | E7: Kilométrage | F7: Québec vers Lévis | G7: Lévis | H7: 36.5 | I7: =IF(A7="","",IF(E7="Kilométrage",IFERROR(IF(VLOOKUP(C7,'Employés'!$B$5:$E$104,4,FALSE)="",'Paramètres'!$B$7,VLOOKUP(C7,'Employés'!$B$5:$E$104,4,FALSE)),0),0)) | J7: 0 | K7: Non applicable | L7: =IF(A7="","",IF(E7="Kilométrage",0,IFERROR(J7*IF(OR(K7="Taxable TPS et TVQ",K7="TPS seulement"),'Paramètres'!$B$5,0),0))) | M7: =IF(A7="","",IF(E7="Kilométrage",0,IFERROR(J7*IF(OR(K7="Taxable TPS et TVQ",K7="TVQ seulement"),'Paramètres'!$B$6,0),0))) | N7: =IF(A7="","",IF(E7="Kilométrage",IFERROR(H7*I7,0),IFERROR(J7+L7+M7,0))) | O7: Non | P7: Approuvé | Q7: Sophie Gagnon | R7: 46037 | S7: =IF(B7="","",YEAR(B7)&"-"&RIGHT("0"&MONTH(B7),2)) | T7: =IF(A7="","",IF(AND(E7="Kilométrage",H7<=0),"Vérifier la distance",IF(AND(E7<>"Kilométrage",J7<=0),"Vérifier le montant",IF(AND(E7<>"Kilométrage",O7="Non"),"Reçu manquant",IF(AND(P7="Approuvé",Q7=""),"Approbateur requis",IF(AND(P7="Approuvé",R7=""),"Date d’approbation requise","OK"))))))
A8: FD-2026-004 | B8: 46036 | C8: Alexandre Roy | D8: Projet Horizon | E8: Péage | F8: Pont à péage | G8: Lévis | H8: 0 | I8: =IF(A8="","",IF(E8="Kilométrage",IFERROR(IF(VLOOKUP(C8,'Employés'!$B$5:$E$104,4,FALSE)="",'Paramètres'!$B$7,VLOOKUP(C8,'Employés'!$B$5:$E$104,4,FALSE)),0),0)) | J8: 5.75 | K8: Taxable TPS et TVQ | L8: =IF(A8="","",IF(E8="Kilométrage",0,IFERROR(J8*IF(OR(K8="Taxable TPS et TVQ",K8="TPS seulement"),'Paramètres'!$B$5,0),0))) | M8: =IF(A8="","",IF(E8="Kilométrage",0,IFERROR(J8*IF(OR(K8="Taxable TPS et TVQ",K8="TVQ seulement"),'Paramètres'!$B$6,0),0))) | N8: =IF(A8="","",IF(E8="Kilométrage",IFERROR(H8*I8,0),IFERROR(J8+L8+M8,0))) | O8: Oui | P8: Approuvé | Q8: Sophie Gagnon | R8: 46037 | S8: =IF(B8="","",YEAR(B8)&"-"&RIGHT("0"&MONTH(B8),2)) | T8: =IF(A8="","",IF(AND(E8="Kilométrage",H8<=0),"Vérifier la distance",IF(AND(E8<>"Kilométrage",J8<=0),"Vérifier le montant",IF(AND(E8<>"Kilométrage",O8="Non"),"Reçu manquant",IF(AND(P8="Approuvé",Q8=""),"Approbateur requis",IF(AND(P8="Approuvé",R8=""),"Date d’approbation requise","OK"))))))
A9: FD-2026-005 | B9: 46056 | C9: Karine Bouchard | D9: Atelier Bâtiment Plus | E9: Kilométrage | F9: Sherbrooke vers Magog | G9: Magog | H9: 64 | I9: =IF(A9="","",IF(E9="Kilométrage",IFERROR(IF(VLOOKUP(C9,'Employés'!$B$5:$E$104,4,FALSE)="",'Paramètres'!$B$7,VLOOKUP(C9,'Employés'!$B$5:$E$104,4,FALSE)),0),0)) | J9: 0 | K9: Non applicable | L9: =IF(A9="","",IF(E9="Kilométrage",0,IFERROR(J9*IF(OR(K9="Taxable TPS et TVQ",K9="TPS seulement"),'Paramètres'!$B$5,0),0))) | M9: =IF(A9="","",IF(E9="Kilométrage",0,IFERROR(J9*IF(OR(K9="Taxable TPS et TVQ",K9="TVQ seulement"),'Paramètres'!$B$6,0),0))) | N9: =IF(A9="","",IF(E9="Kilométrage",IFERROR(H9*I9,0),IFERROR(J9+L9+M9,0))) | O9: Non | P9: Soumis | S9: =IF(B9="","",YEAR(B9)&"-"&RIGHT("0"&MONTH(B9),2)) | T9: =IF(A9="","",IF(AND(E9="Kilométrage",H9<=0),"Vérifier la distance",IF(AND(E9<>"Kilométrage",J9<=0),"Vérifier le montant",IF(AND(E9<>"Kilométrage",O9="Non"),"Reçu manquant",IF(AND(P9="Approuvé",Q9=""),"Approbateur requis",IF(AND(P9="Approuvé",R9=""),"Date d’approbation requise","OK"))))))
A10: FD-2026-006 | B10: 46056 | C10: Karine Bouchard | D10: Atelier Bâtiment Plus | E10: Repas | F10: Repas avec cliente | G10: Magog | H10: 0 | I10: =IF(A10="","",IF(E10="Kilométrage",IFERROR(IF(VLOOKUP(C10,'Employés'!$B$5:$E$104,4,FALSE)="",'Paramètres'!$B$7,VLOOKUP(C10,'Employés'!$B$5:$E$104,4,FALSE)),0),0)) | J10: 26.5 | K10: Taxable TPS et TVQ | L10: =IF(A10="","",IF(E10="Kilométrage",0,IFERROR(J10*IF(OR(K10="Taxable TPS et TVQ",K10="TPS seulement"),'Paramètres'!$B$5,0),0))) | M10: =IF(A10="","",IF(E10="Kilométrage",0,IFERROR(J10*IF(OR(K10="Taxable TPS et TVQ",K10="TVQ seulement"),'Paramètres'!$B$6,0),0))) | N10: =IF(A10="","",IF(E10="Kilométrage",IFERROR(H10*I10,0),IFERROR(J10+L10+M10,0))) | O10: Oui | P10: Soumis | S10: =IF(B10="","",YEAR(B10)&"-"&RIGHT("0"&MONTH(B10),2)) | T10: =IF(A10="","",IF(AND(E10="Kilométrage",H10<=0),"Vérifier la distance",IF(AND(E10<>"Kilométrage",J10<=0),"Vérifier le montant",IF(AND(E10<>"Kilométrage",O10="Non"),"Reçu manquant",IF(AND(P10="Approuvé",Q10=""),"Approbateur requis",IF(AND(P10="Approuvé",R10=""),"Date d’approbation requise","OK"))))))
A11: FD-2026-007 | B11: 46071 | C11: Jean-François Côté | D11: Client Nordik inc. | E11: Hébergement | F11: Hôtel pour rencontre régionale | G11: Saguenay | H11: 0 | I11: =IF(A11="","",IF(E11="Kilométrage",IFERROR(IF(VLOOKUP(C11,'Employés'!$B$5:$E$104,4,FALSE)="",'Paramètres'!$B$7,VLOOKUP(C11,'Employés'!$B$5:$E$104,4,FALSE)),0),0)) | J11: 148 | K11: Taxable TPS et TVQ | L11: =IF(A11="","",IF(E11="Kilométrage",0,IFERROR(J11*IF(OR(K11="Taxable TPS et TVQ",K11="TPS seulement"),'Paramètres'!$B$5,0),0))) | M11: =IF(A11="","",IF(E11="Kilométrage",0,IFERROR(J11*IF(OR(K11="Taxable TPS et TVQ",K11="TVQ seulement"),'Paramètres'!$B$6,0),0))) | N11: =IF(A11="","",IF(E11="Kilométrage",IFERROR(H11*I11,0),IFERROR(J11+L11+M11,0))) | O11: Oui | P11: Approuvé | Q11: Sophie Gagnon | R11: 46072 | S11: =IF(B11="","",YEAR(B11)&"-"&RIGHT("0"&MONTH(B11),2)) | T11: =IF(A11="","",IF(AND(E11="Kilométrage",H11<=0),"Vérifier la distance",IF(AND(E11<>"Kilométrage",J11<=0),"Vérifier le montant",IF(AND(E11<>"Kilométrage",O11="Non"),"Reçu manquant",IF(AND(P11="Approuvé",Q11=""),"Approbateur requis",IF(AND(P11="Approuvé",R11=""),"Date d’approbation requise","OK"))))))
A12: FD-2026-008 | B12: 46072 | C12: Jean-François Côté | D12: Client Nordik inc. | E12: Stationnement | F12: Stationnement hôtel | G12: Saguenay | H12: 0 | I12: =IF(A12="","",IF(E12="Kilométrage",IFERROR(IF(VLOOKUP(C12,'Employés'!$B$5:$E$104,4,FALSE)="",'Paramètres'!$B$7,VLOOKUP(C12,'Employés'!$B$5:$E$104,4,FALSE)),0),0)) | J12: 14 | K12: Taxable TPS et TVQ | L12: =IF(A12="","",IF(E12="Kilométrage",0,IFERROR(J12*IF(OR(K12="Taxable TPS et TVQ",K12="TPS seulement"),'Paramètres'!$B$5,0),0))) | M12: =IF(A12="","",IF(E12="Kilométrage",0,IFERROR(J12*IF(OR(K12="Taxable TPS et TVQ",K12="TVQ seulement"),'Paramètres'!$B$6,0),0))) | N12: =IF(A12="","",IF(E12="Kilométrage",IFERROR(H12*I12,0),IFERROR(J12+L12+M12,0))) | O12: Non | P12: Approuvé | Q12: Sophie Gagnon | R12: 46072 | S12: =IF(B12="","",YEAR(B12)&"-"&RIGHT("0"&MONTH(B12),2)) | T12: =IF(A12="","",IF(AND(E12="Kilométrage",H12<=0),"Vérifier la distance",IF(AND(E12<>"Kilométrage",J12<=0),"Vérifier le montant",IF(AND(E12<>"Kilométrage",O12="Non"),"Reçu manquant",IF(AND(P12="Approuvé",Q12=""),"Approbateur requis",IF(AND(P12="Approuvé",R12=""),"Date d’approbation requise","OK"))))))
A13: FD-2026-009 | B13: 46085 | C13: Marie-Claude Tremblay | D13: Projet Horizon | E13: Kilométrage | F13: Montréal vers Trois-Rivières | G13: Trois-Rivières | H13: 278 | I13: =IF(A13="","",IF(E13="Kilométrage",IFERROR(IF(VLOOKUP(C13,'Employés'!$B$5:$E$104,4,FALSE)="",'Paramètres'!$B$7,VLOOKUP(C13,'Employés'!$B$5:$E$104,4,FALSE)),0),0)) | J13: 0 | K13: Non applicable | L13: =IF(A13="","",IF(E13="Kilométrage",0,IFERROR(J13*IF(OR(K13="Taxable TPS et TVQ",K13="TPS seulement"),'Paramètres'!$B$5,0),0))) | M13: =IF(A13="","",IF(E13="Kilométrage",0,IFERROR(J13*IF(OR(K13="Taxable TPS et TVQ",K13="TVQ seulement"),'Paramètres'!$B$6,0),0))) | N13: =IF(A13="","",IF(E13="Kilométrage",IFERROR(H13*I13,0),IFERROR(J13+L13+M13,0))) | O13: Non | P13: Refusé | Q13: Sophie Gagnon | R13: 46086 | S13: =IF(B13="","",YEAR(B13)&"-"&RIGHT("0"&MONTH(B13),2)) | T13: =IF(A13="","",IF(AND(E13="Kilométrage",H13<=0),"Vérifier la distance",IF(AND(E13<>"Kilométrage",J13<=0),"Vérifier le montant",IF(AND(E13<>"Kilométrage",O13="Non"),"Reçu manquant",IF(AND(P13="Approuvé",Q13=""),"Approbateur requis",IF(AND(P13="Approuvé",R13=""),"Date d’approbation requise","OK"))))))
A14: FD-2026-010 | B14: 46092 | C14: Alexandre Roy | D14: Administration interne | E14: Autre | F14: Frais de traversier | G14: Québec | H14: 0 | I14: =IF(A14="","",IF(E14="Kilométrage",IFERROR(IF(VLOOKUP(C14,'Employés'!$B$5:$E$104,4,FALSE)="",'Paramètres'!$B$7,VLOOKUP(C14,'Employés'!$B$5:$E$104,4,FALSE)),0),0)) | J14: 12.25 | K14: Taxable TPS et TVQ | L14: =IF(A14="","",IF(E14="Kilométrage",0,IFERROR(J14*IF(OR(K14="Taxable TPS et TVQ",K14="TPS seulement"),'Paramètres'!$B$5,0),0))) | M14: =IF(A14="","",IF(E14="Kilométrage",0,IFERROR(J14*IF(OR(K14="Taxable TPS et TVQ",K14="TVQ seulement"),'Paramètres'!$B$6,0),0))) | N14: =IF(A14="","",IF(E14="Kilométrage",IFERROR(H14*I14,0),IFERROR(J14+L14+M14,0))) | O14: Oui | P14: Brouillon | S14: =IF(B14="","",YEAR(B14)&"-"&RIGHT("0"&MONTH(B14),2)) | T14: =IF(A14="","",IF(AND(E14="Kilométrage",H14<=0),"Vérifier la distance",IF(AND(E14<>"Kilométrage",J14<=0),"Vérifier le montant",IF(AND(E14<>"Kilométrage",O14="Non"),"Reçu manquant",IF(AND(P14="Approuvé",Q14=""),"Approbateur requis",IF(AND(P14="Approuvé",R14=""),"Date d’approbation requise","OK"))))))
I15: =IF(A15="","",IF(E15="Kilométrage",IFERROR(IF(VLOOKUP(C15,'Employés'!$B$5:$E$104,4,FALSE)="",'Paramètres'!$B$7,VLOOKUP(C15,'Employés'!$B$5:$E$104,4,FALSE)),0),0)) | L15: =IF(A15="","",IF(E15="Kilométrage",0,IFERROR(J15*IF(OR(K15="Taxable TPS et TVQ",K15="TPS seulement"),'Paramètres'!$B$5,0),0))) | M15: =IF(A15="","",IF(E15="Kilométrage",0,IFERROR(J15*IF(OR(K15="Taxable TPS et TVQ",K15="TVQ seulement"),'Paramètres'!$B$6,0),0))) | N15: =IF(A15="","",IF(E15="Kilométrage",IFERROR(H15*I15,0),IFERROR(J15+L15+M15,0))) | S15: =IF(B15="","",YEAR(B15)&"-"&RIGHT("0"&MONTH(B15),2)) | T15: =IF(A15="","",IF(AND(E15="Kilométrage",H15<=0),"Vérifier la distance",IF(AND(E15<>"Kilométrage",J15<=0),"Vérifier le montant",IF(AND(E15<>"Kilométrage",O15="Non"),"Reçu manquant",IF(AND(P15="Approuvé",Q15=""),"Approbateur requis",IF(AND(P15="Approuvé",R15=""),"Date d’approbation requise","OK"))))))
I16: =IF(A16="","",IF(E16="Kilométrage",IFERROR(IF(VLOOKUP(C16,'Employés'!$B$5:$E$104,4,FALSE)="",'Paramètres'!$B$7,VLOOKUP(C16,'Employés'!$B$5:$E$104,4,FALSE)),0),0)) | L16: =IF(A16="","",IF(E16="Kilométrage",0,IFERROR(J16*IF(OR(K16="Taxable TPS et TVQ",K16="TPS seulement"),'Paramètres'!$B$5,0),0))) | M16: =IF(A16="","",IF(E16="Kilométrage",0,IFERROR(J16*IF(OR(K16="Taxable TPS et TVQ",K16="TVQ seulement"),'Paramètres'!$B$6,0),0))) | N16: =IF(A16="","",IF(E16="Kilométrage",IFERROR(H16*I16,0),IFERROR(J16+L16+M16,0))) | S16: =IF(B16="","",YEAR(B16)&"-"&RIGHT("0"&MONTH(B16),2)) | T16: =IF(A16="","",IF(AND(E16="Kilométrage",H16<=0),"Vérifier la distance",IF(AND(E16<>"Kilométrage",J16<=0),"Vérifier le montant",IF(AND(E16<>"Kilométrage",O16="Non"),"Reçu manquant",IF(AND(P16="Approuvé",Q16=""),"Approbateur requis",IF(AND(P16="Approuvé",R16=""),"Date d’approbation requise","OK"))))))
I17: =IF(A17="","",IF(E17="Kilométrage",IFERROR(IF(VLOOKUP(C17,'Employés'!$B$5:$E$104,4,FALSE)="",'Paramètres'!$B$7,VLOOKUP(C17,'Employés'!$B$5:$E$104,4,FALSE)),0),0)) | L17: =IF(A17="","",IF(E17="Kilométrage",0,IFERROR(J17*IF(OR(K17="Taxable TPS et TVQ",K17="TPS seulement"),'Paramètres'!$B$5,0),0))) | M17: =IF(A17="","",IF(E17="Kilométrage",0,IFERROR(J17*IF(OR(K17="Taxable TPS et TVQ",K17="TVQ seulement"),'Paramètres'!$B$6,0),0))) | N17: =IF(A17="","",IF(E17="Kilométrage",IFERROR(H17*I17,0),IFERROR(J17+L17+M17,0))) | S17: =IF(B17="","",YEAR(B17)&"-"&RIGHT("0"&MONTH(B17),2)) | T17: =IF(A17="","",IF(AND(E17="Kilométrage",H17<=0),"Vérifier la distance",IF(AND(E17<>"Kilométrage",J17<=0),"Vérifier le montant",IF(AND(E17<>"Kilométrage",O17="Non"),"Reçu manquant",IF(AND(P17="Approuvé",Q17=""),"Approbateur requis",IF(AND(P17="Approuvé",R17=""),"Date d’approbation requise","OK"))))))
I18: =IF(A18="","",IF(E18="Kilométrage",IFERROR(IF(VLOOKUP(C18,'Employés'!$B$5:$E$104,4,FALSE)="",'Paramètres'!$B$7,VLOOKUP(C18,'Employés'!$B$5:$E$104,4,FALSE)),0),0)) | L18: =IF(A18="","",IF(E18="Kilométrage",0,IFERROR(J18*IF(OR(K18="Taxable TPS et TVQ",K18="TPS seulement"),'Paramètres'!$B$5,0),0))) | M18: =IF(A18="","",IF(E18="Kilométrage",0,IFERROR(J18*IF(OR(K18="Taxable TPS et TVQ",K18="TVQ seulement"),'Paramètres'!$B$6,0),0))) | N18: =IF(A18="","",IF(E18="Kilométrage",IFERROR(H18*I18,0),IFERROR(J18+L18+M18,0))) | S18: =IF(B18="","",YEAR(B18)&"-"&RIGHT("0"&MONTH(B18),2)) | T18: =IF(A18="","",IF(AND(E18="Kilométrage",H18<=0),"Vérifier la distance",IF(AND(E18<>"Kilométrage",J18<=0),"Vérifier le montant",IF(AND(E18<>"Kilométrage",O18="Non"),"Reçu manquant",IF(AND(P18="Approuvé",Q18=""),"Approbateur requis",IF(AND(P18="Approuvé",R18=""),"Date d’approbation requise","OK"))))))
I19: =IF(A19="","",IF(E19="Kilométrage",IFERROR(IF(VLOOKUP(C19,'Employés'!$B$5:$E$104,4,FALSE)="",'Paramètres'!$B$7,VLOOKUP(C19,'Employés'!$B$5:$E$104,4,FALSE)),0),0)) | L19: =IF(A19="","",IF(E19="Kilométrage",0,IFERROR(J19*IF(OR(K19="Taxable TPS et TVQ",K19="TPS seulement"),'Paramètres'!$B$5,0),0))) | M19: =IF(A19="","",IF(E19="Kilométrage",0,IFERROR(J19*IF(OR(K19="Taxable TPS et TVQ",K19="TVQ seulement"),'Paramètres'!$B$6,0),0))) | N19: =IF(A19="","",IF(E19="Kilométrage",IFERROR(H19*I19,0),IFERROR(J19+L19+M19,0))) | S19: =IF(B19="","",YEAR(B19)&"-"&RIGHT("0"&MONTH(B19),2)) | T19: =IF(A19="","",IF(AND(E19="Kilométrage",H19<=0),"Vérifier la distance",IF(AND(E19<>"Kilométrage",J19<=0),"Vérifier le montant",IF(AND(E19<>"Kilométrage",O19="Non"),"Reçu manquant",IF(AND(P19="Approuvé",Q19=""),"Approbateur requis",IF(AND(P19="Approuvé",R19=""),"Date d’approbation requise","OK"))))))
I20: =IF(A20="","",IF(E20="Kilométrage",IFERROR(IF(VLOOKUP(C20,'Employés'!$B$5:$E$104,4,FALSE)="",'Paramètres'!$B$7,VLOOKUP(C20,'Employés'!$B$5:$E$104,4,FALSE)),0),0)) | L20: =IF(A20="","",IF(E20="Kilométrage",0,IFERROR(J20*IF(OR(K20="Taxable TPS et TVQ",K20="TPS seulement"),'Paramètres'!$B$5,0),0))) | M20: =IF(A20="","",IF(E20="Kilométrage",0,IFERROR(J20*IF(OR(K20="Taxable TPS et TVQ",K20="TVQ seulement"),'Paramètres'!$B$6,0),0))) | N20: =IF(A20="","",IF(E20="Kilométrage",IFERROR(H20*I20,0),IFERROR(J20+L20+M20,0))) | S20: =IF(B20="","",YEAR(B20)&"-"&RIGHT("0"&MONTH(B20),2)) | T20: =IF(A20="","",IF(AND(E20="Kilométrage",H20<=0),"Vérifier la distance",IF(AND(E20<>"Kilométrage",J20<=0),"Vérifier le montant",IF(AND(E20<>"Kilométrage",O20="Non"),"Reçu manquant",IF(AND(P20="Approuvé",Q20=""),"Approbateur requis",IF(AND(P20="Approuvé",R20=""),"Date d’approbation requise","OK"))))))
I21: =IF(A21="","",IF(E21="Kilométrage",IFERROR(IF(VLOOKUP(C21,'Employés'!$B$5:$E$104,4,FALSE)="",'Paramètres'!$B$7,VLOOKUP(C21,'Employés'!$B$5:$E$104,4,FALSE)),0),0)) | L21: =IF(A21="","",IF(E21="Kilométrage",0,IFERROR(J21*IF(OR(K21="Taxable TPS et TVQ",K21="TPS seulement"),'Paramètres'!$B$5,0),0))) | M21: =IF(A21="","",IF(E21="Kilométrage",0,IFERROR(J21*IF(OR(K21="Taxable TPS et TVQ",K21="TVQ seulement"),'Paramètres'!$B$6,0),0))) | N21: =IF(A21="","",IF(E21="Kilométrage",IFERROR(H21*I21,0),IFERROR(J21+L21+M21,0))) | S21: =IF(B21="","",YEAR(B21)&"-"&RIGHT("0"&MONTH(B21),2)) | T21: =IF(A21="","",IF(AND(E21="Kilométrage",H21<=0),"Vérifier la distance",IF(AND(E21<>"Kilométrage",J21<=0),"Vérifier le montant",IF(AND(E21<>"Kilométrage",O21="Non"),"Reçu manquant",IF(AND(P21="Approuvé",Q21=""),"Approbateur requis",IF(AND(P21="Approuvé",R21=""),"Date d’approbation requise","OK"))))))
I22: =IF(A22="","",IF(E22="Kilométrage",IFERROR(IF(VLOOKUP(C22,'Employés'!$B$5:$E$104,4,FALSE)="",'Paramètres'!$B$7,VLOOKUP(C22,'Employés'!$B$5:$E$104,4,FALSE)),0),0)) | L22: =IF(A22="","",IF(E22="Kilométrage",0,IFERROR(J22*IF(OR(K22="Taxable TPS et TVQ",K22="TPS seulement"),'Paramètres'!$B$5,0),0))) | M22: =IF(A22="","",IF(E22="Kilométrage",0,IFERROR(J22*IF(OR(K22="Taxable TPS et TVQ",K22="TVQ seulement"),'Paramètres'!$B$6,0),0))) | N22: =IF(A22="","",IF(E22="Kilométrage",IFERROR(H22*I22,0),IFERROR(J22+L22+M22,0))) | S22: =IF(B22="","",YEAR(B22)&"-"&RIGHT("0"&MONTH(B22),2)) | T22: =IF(A22="","",IF(AND(E22="Kilométrage",H22<=0),"Vérifier la distance",IF(AND(E22<>"Kilométrage",J22<=0),"Vérifier le montant",IF(AND(E22<>"Kilométrage",O22="Non"),"Reçu manquant",IF(AND(P22="Approuvé",Q22=""),"Approbateur requis",IF(AND(P22="Approuvé",R22=""),"Date d’approbation requise","OK"))))))
I23: =IF(A23="","",IF(E23="Kilométrage",IFERROR(IF(VLOOKUP(C23,'Employés'!$B$5:$E$104,4,FALSE)="",'Paramètres'!$B$7,VLOOKUP(C23,'Employés'!$B$5:$E$104,4,FALSE)),0),0)) | L23: =IF(A23="","",IF(E23="Kilométrage",0,IFERROR(J23*IF(OR(K23="Taxable TPS et TVQ",K23="TPS seulement"),'Paramètres'!$B$5,0),0))) | M23: =IF(A23="","",IF(E23="Kilométrage",0,IFERROR(J23*IF(OR(K23="Taxable TPS et TVQ",K23="TVQ seulement"),'Paramètres'!$B$6,0),0))) | N23: =IF(A23="","",IF(E23="Kilométrage",IFERROR(H23*I23,0),IFERROR(J23+L23+M23,0))) | S23: =IF(B23="","",YEAR(B23)&"-"&RIGHT("0"&MONTH(B23),2)) | T23: =IF(A23="","",IF(AND(E23="Kilométrage",H23<=0),"Vérifier la distance",IF(AND(E23<>"Kilométrage",J23<=0),"Vérifier le montant",IF(AND(E23<>"Kilométrage",O23="Non"),"Reçu manquant",IF(AND(P23="Approuvé",Q23=""),"Approbateur requis",IF(AND(P23="Approuvé",R23=""),"Date d’approbation requise","OK"))))))
I24: =IF(A24="","",IF(E24="Kilométrage",IFERROR(IF(VLOOKUP(C24,'Employés'!$B$5:$E$104,4,FALSE)="",'Paramètres'!$B$7,VLOOKUP(C24,'Employés'!$B$5:$E$104,4,FALSE)),0),0)) | L24: =IF(A24="","",IF(E24="Kilométrage",0,IFERROR(J24*IF(OR(K24="Taxable TPS et TVQ",K24="TPS seulement"),'Paramètres'!$B$5,0),0))) | M24: =IF(A24="","",IF(E24="Kilométrage",0,IFERROR(J24*IF(OR(K24="Taxable TPS et TVQ",K24="TVQ seulement"),'Paramètres'!$B$6,0),0))) | N24: =IF(A24="","",IF(E24="Kilométrage",IFERROR(H24*I24,0),IFERROR(J24+L24+M24,0))) | S24: =IF(B24="","",YEAR(B24)&"-"&RIGHT("0"&MONTH(B24),2)) | T24: =IF(A24="","",IF(AND(E24="Kilométrage",H24<=0),"Vérifier la distance",IF(AND(E24<>"Kilométrage",J24<=0),"Vérifier le montant",IF(AND(E24<>"Kilométrage",O24="Non"),"Reçu manquant",IF(AND(P24="Approuvé",Q24=""),"Approbateur requis",IF(AND(P24="Approuvé",R24=""),"Date d’approbation requise","OK"))))))
I25: =IF(A25="","",IF(E25="Kilométrage",IFERROR(IF(VLOOKUP(C25,'Employés'!$B$5:$E$104,4,FALSE)="",'Paramètres'!$B$7,VLOOKUP(C25,'Employés'!$B$5:$E$104,4,FALSE)),0),0)) | L25: =IF(A25="","",IF(E25="Kilométrage",0,IFERROR(J25*IF(OR(K25="Taxable TPS et TVQ",K25="TPS seulement"),'Paramètres'!$B$5,0),0))) | M25: =IF(A25="","",IF(E25="Kilométrage",0,IFERROR(J25*IF(OR(K25="Taxable TPS et TVQ",K25="TVQ seulement"),'Paramètres'!$B$6,0),0))) | N25: =IF(A25="","",IF(E25="Kilométrage",IFERROR(H25*I25,0),IFERROR(J25+L25+M25,0))) | S25: =IF(B25="","",YEAR(B25)&"-"&RIGHT("0"&MONTH(B25),2)) | T25: =IF(A25="","",IF(AND(E25="Kilométrage",H25<=0),"Vérifier la distance",IF(AND(E25<>"Kilométrage",J25<=0),"Vérifier le montant",IF(AND(E25<>"Kilométrage",O25="Non"),"Reçu manquant",IF(AND(P25="Approuvé",Q25=""),"Approbateur requis",IF(AND(P25="Approuvé",R25=""),"Date d’approbation requise","OK"))))))
I26: =IF(A26="","",IF(E26="Kilométrage",IFERROR(IF(VLOOKUP(C26,'Employés'!$B$5:$E$104,4,FALSE)="",'Paramètres'!$B$7,VLOOKUP(C26,'Employés'!$B$5:$E$104,4,FALSE)),0),0)) | L26: =IF(A26="","",IF(E26="Kilométrage",0,IFERROR(J26*IF(OR(K26="Taxable TPS et TVQ",K26="TPS seulement"),'Paramètres'!$B$5,0),0))) | M26: =IF(A26="","",IF(E26="Kilométrage",0,IFERROR(J26*IF(OR(K26="Taxable TPS et TVQ",K26="TVQ seulement"),'Paramètres'!$B$6,0),0))) | N26: =IF(A26="","",IF(E26="Kilométrage",IFERROR(H26*I26,0),IFERROR(J26+L26+M26,0))) | S26: =IF(B26="","",YEAR(B26)&"-"&RIGHT("0"&MONTH(B26),2)) | T26: =IF(A26="","",IF(AND(E26="Kilométrage",H26<=0),"Vérifier la distance",IF(AND(E26<>"Kilométrage",J26<=0),"Vérifier le montant",IF(AND(E26<>"Kilométrage",O26="Non"),"Reçu manquant",IF(AND(P26="Approuvé",Q26=""),"Approbateur requis",IF(AND(P26="Approuvé",R26=""),"Date d’approbation requise","OK"))))))
... I104: =IF(A104="","",IF(E104="Kilométrage",IFERROR(IF(VLOOKUP(C104,'Employés'!$B$5:$E$104,4,FALSE)="",'Paramètres'!$B$7,VLOOKUP(C104,'Employés'!$B$5:$E$104,4,FALSE)),0),0)) | L104: =IF(A104="","",IF(E104="Kilométrage",0,IFERROR(J104*IF(OR(K104="Taxable TPS et TVQ",K104="TPS seulement"),'Paramètres'!$B$5,0),0))) | M104: =IF(A104="","",IF(E104="Kilométrage",0,IFERROR(J104*IF(OR(K104="Taxable TPS et TVQ",K104="TVQ seulement"),'Paramètres'!$B$6,0),0))) | N104: =IF(A104="","",IF(E104="Kilométrage",IFERROR(H104*I104,0),IFERROR(J104+L104+M104,0))) | S104: =IF(B104="","",YEAR(B104)&"-"&RIGHT("0"&MONTH(B104),2)) | T104: =IF(A104="","",IF(AND(E104="Kilométrage",H104<=0),"Vérifier la distance",IF(AND(E104<>"Kilométrage",J104<=0),"Vérifier le montant",IF(AND(E104<>"Kilométrage",O104="Non"),"Reçu manquant",IF(AND(P104="Approuvé",Q104=""),"Approbateur requis",IF(AND(P104="Approuvé",R104=""),"Date d’approbation requise","OK"))))))

Sheet Employés
A1: Liste des employés
A2: Le taux kilométrique particulier est facultatif. Laisser la cellule vide pour utiliser le taux par défaut défini dans la feuille Paramètres.
A4: No employé | B4: Employé | C4: Service | D4: Gestionnaire | E4: Taux kilométrique particulier | F4: Statut | H4: Employés actifs
A5: EMP-001 | B5: Marie-Claude Tremblay | C5: Ventes | D5: Sophie Gagnon | F5: Actif | H5: =IF(F5="Actif",B5,"")
A6: EMP-002 | B6: Alexandre Roy | C6: Opérations | D6: Sophie Gagnon | F6: Actif | H6: =IF(F6="Actif",B6,"")
A7: EMP-003 | B7: Karine Bouchard | C7: Service à la clientèle | D7: Sophie Gagnon | E7: 0.68 | F7: Actif | H7: =IF(F7="Actif",B7,"")
A8: EMP-004 | B8: Jean-François Côté | C8: Direction | D8: Sophie Gagnon | F8: Actif | H8: =IF(F8="Actif",B8,"")
A9: EMP-005 | B9: Nathalie Gauthier | C9: Administration | D9: Sophie Gagnon | F9: Inactif | H9: =IF(F9="Actif",B9,"")
A10: EMP-006 | B10: Éric Lessard | C10: Ventes | D10: Sophie Gagnon | F10: Actif | H10: =IF(F10="Actif",B10,"")
A11: EMP-007 | B11: Valérie Morin | C11: Opérations | D11: Sophie Gagnon | E11: 0.66 | F11: Actif | H11: =IF(F11="Actif",B11,"")
A12: EMP-008 | B12: Dominique Pelletier | C12: Administration | D12: Sophie Gagnon | F12: Actif | H12: =IF(F12="Actif",B12,"")
H13: =IF(F13="Actif",B13,"")
H14: =IF(F14="Actif",B14,"")
H15: =IF(F15="Actif",B15,"")
H16: =IF(F16="Actif",B16,"")
H17: =IF(F17="Actif",B17,"")
H18: =IF(F18="Actif",B18,"")
H19: =IF(F19="Actif",B19,"")
H20: =IF(F20="Actif",B20,"")
H21: =IF(F21="Actif",B21,"")
H22: =IF(F22="Actif",B22,"")
H23: =IF(F23="Actif",B23,"")
H24: =IF(F24="Actif",B24,"")
... H104: =IF(F104="Actif",B104,"")

Sheet Paramètres
A1: Paramètres et listes de validation
A2: Modifier les paramètres selon les politiques internes de l’entreprise et les taux applicables. Les taux affichés servent d’exemples de configuration et doivent être validés avant utilisation.
A4: Paramètre | B4: Valeur | C4: Note | E4: Catégories | G4: Traitements taxes
A5: Taux TPS | B5: 0.05 | C5: Taux configurable | E5: Kilométrage | G5: Taxable TPS et TVQ
A6: Taux TVQ | B6: 0.09975 | C6: Taux configurable | E6: Stationnement | G6: TPS seulement
A7: Taux kilométrique par défaut | B7: 0.65 | C7: Valeur d’exemple à remplacer selon la politique de l’entreprise | E7: Péage | G7: TVQ seulement
A8: Devise | B8: CAD | C8: Dollars canadiens | E8: Repas | G8: Exonéré
E9: Hébergement | G9: Non applicable
E10: Autre
A12: Statuts de réclamation | C12: Oui ou non | E12: Services | G12: Statut d’employé
A13: Brouillon | C13: Oui | E13: Ventes | G13: Actif
A14: Soumis | C14: Non | E14: Opérations | G14: Inactif
A15: Approuvé | E15: Service à la clientèle
A16: Remboursé | E16: Direction
A17: Refusé | E17: Administration
A20: Les colonnes TPS estimée et TVQ estimée servent au suivi interne des frais. La récupération de taxes, le traitement comptable et le remboursement d’un employé doivent être confirmés selon la nature de la dépense, les pièces justificatives disponibles et les règles applicables de l’ARC et de Revenu Québec. Le taux kilométrique configuré dans ce classeur est une politique interne de remboursement. Il ne remplace pas la validation des règles fiscales applicables.
